{"text_format":"1","workbook":"xlsx","n_sheets":4,"sheets":["使用方法","祝日","A4カレンダー","FLｹｰｽ用カレンダー"],"not_rendered":{"charts":0,"images":5,"macros":1,"external_links":0,"defined_names":2,"comments":3,"pivot_tables":0},"unopened":[],"bounds":{"document_bytes":16777216,"sheet_cells":100000,"rows_first":2000,"rows_last":500,"rows_between":2000,"halvings":0,"cell_chars":16384,"cell_head_chars":4096},"cells_cut":0,"cells_raw":0,"read":"whole","date_system":"1900"}

{"sheet":"使用方法","index":0,"n_rows":86,"n_cols":12,"rows_kept":86,"cut":false,"hidden":false,"merged":[[0,9,0,10]]}
[null,"AUTOカレンダーの使い方",null,null,"AUTO_CL2 Ver.19.42",null,null,"Written by K.Kishida",null,"info@melpaso.com",null,"2019.12.03"]
[null,"　　Excel 2007以上に対応"]
[null,"はじめに"]
[null,"この“AUTOカレンダー”は、印刷とその範囲自動設定を除いて、関数だけを使用して制作されたものです。「万年カレンダー」は、関数だけでもこれ"]
[null,"だけのことが出来るという良い例だと思います。"]
[null,"それで、“AUTOカレンダー”は、ある程度関数を使用してきた人にとってもこれから関数を学ぼうと思っている人にとっても興味を持っていただけるの"]
[null,"ではないかと思います。"]
[]
[null,"“AUTOカレンダー”には、年数制限のあるカレンダーファイルと、年数制限の無い“万年カレンダー”の2種類あります。"]
[null,"年数制限のある“AUTOカレンダー”は毎年サイトからダウンロードして無料で使えます。（今年のファイルは Version 19.42 です）"]
[null,"年数制限の無い“万年AUTOカレンダー”は有料で、一度ダウンロードすれば永年使用できます。（ファイルは Version E*.**です）"]
[]
[null,"このカレンダーの第1作は1999年11月に制作され、その後状況に合わせて改良（？）が加えられてきました。その間、一部の祝日の決め方そのもの"]
[null,"も変化し、このカレンダーもそれに対応させてきました。しかしながら、この万年カレンダーが完璧であることを保障するものではありません。それで、"]
[null,"このカレンダーは下記の条件を受け入れられる人が無償で使用できるものとします。"]
[null,"①個人的な目的のために使用すること、"]
[null,"②作者に無断で他の人に配布しないこと"]
[null,"③使用したい人は、直接「メルパソコン教室のHP」から、ダウンロードすること"]
[null,"④Version 19.42の使用期限は2020年12月までです。それ以上の使用は、その年の初めに再びHPからダウンロードするか、年数制限のない"]
[null,"　　「Version E*.**」を、ご購入すること。年数制限の無いファイルは500円です。下の振込先をクリックして表示されるサイトに記載の指定の口座に"]
[null,"　上記金額を振り込んだ後、その証を添付ファイルで下記連絡先ﾒｰﾙｱﾄﾞﾚｽにお送ること。追って上記年数制限の無いファイルをダウンロード"]
[null,"　できるURLの知らせを受け取ることに同意すること"]
[null,"⑤このカレンダーを使用することで生じるかも知れない損失に関して作者は何ら責任を負わないこと"]
[null,"⑥このファイルはExcel2007以上での正常動作を確認"]
[null,"⑦下記メッセージが画面に表示されたなら、上記措置を講じることに同意する"]
[]
[]
[]
[]
[]
[null,null,null,null,null,null,"振込先","連絡先ﾒｰﾙｱﾄﾞﾚｽ"]
[]
[null,"使い方"]
[null,"万年カレンダーは特定のセルに必要事項を記入するだけで、“何年のカレンダー”でも制作できます。"]
[null,"毎年アップされる無料のカレンダーの場合でも、以下②の指示に従って「イベント・祝日記入欄」に独自のイベントと日付を記入すればオリジナルの"]
[null,"カレンダーとして使用できます。"]
[null,"①先ずはじめに、“祝日”シートを開き、制作したい年のカレンダーの年を“年”記入セルに西暦4桁で記述してください。年の記入の必要ありません。"]
[null,"　自動的に記述されます。"]
[null,"②「祝日」シートの”国民の休日”の日付記入欄にその年の“国民の休日”の日付を入力してください。"]
[]
[]
[]
[]
[]
[]
[]
[]
[]
[]
[]
[]
[]
[]
[]
[]
[]
[]
[]
[]
[]
[]
[]
[null,"　これによって「FLケース用カレンダー」シートのカレンダーが自動的に出来上がります。"]
[null,"　“FLケース用カレンダー”は、シート上に記録された制作方法を参考に印刷、カットをしてFLケースをスタンドとしてカレンダーをご利用下さい。"]
[]
[null,"③“A4カレンダー”は①、②の手順に加えて、“A4カレンダー”シート上の“月”入力セルをクリックして、リストから作成したい該当月を選択しすれば"]
[null,"　自動的にその月のカレンダーが作成されます。プリンターにA4用紙をセットし、同シート上の“印刷”ボタンをクリックすれば、A4用紙にカレンダーが"]
[null,"　横向きに印刷されます。月によって印刷範囲は変化しますが、範囲設定は自動で行なわれます。"]
[]
[]
[]
[]
[]
[]
[]
[]
[]
[]
[]
[]
[]
[]
[]
[]
[]
[null,"このカレンダーに関する問い合わせを受け付けますが、必ずこのシートの文頭にあるメール宛にメールでお願いいたします。"]

{"sheet":"祝日","index":1,"n_rows":33,"n_cols":5,"rows_kept":33,"cut":false,"hidden":false,"merged":[[32,0,32,1],[1,0,1,5],[30,0,30,5]]}
[null,"イベント・祝日記入欄"]
[]
[2020]
[]
[null,"日付記入欄",null,"祝日・その他","備考"]
[null,"2019-01-01",{"$f":"IF(B6=\"\",\"\",DATE($A$3,MONTH(B6),DAY(B6)))","v":"2020-01-01"},"元旦"]
[null,null,"","成人の日","1月の第二月曜日"]
[null,"2019-02-11","2020-02-11","建国記念の日"]
[null,"2019-02-23","2020-02-23","天皇誕生日"]
[null,"2019-03-21",{"$f":"IF(B10=\"\",\"\",DATE($A$3,MONTH(B10),DAY(B10)))","v":"2020-03-21"},"春分の日"]
[null,null,""]
[null,"2019-04-29","2020-04-29","昭和の日"]
[null,"2019-05-03","2020-05-03","憲法記念日"]
[null,"2019-05-04","2020-05-04","みどりの日"]
[null,"2019-05-05","2020-05-05","子供の日"]
[null,null,"","海の日","通常年は7月の第3月曜日が海の日"]
[null,null,"","山の日","8月の第２月曜日"]
[null,null,"","敬老の日","9月の第3月曜日"]
[null,"2019-09-22","2020-09-22","秋分の日"]
[null,null,"","体育の日","通常年は10月の第2月曜日が体育の日"]
[null,null,"","国民の休日","2020年だけの特別取り決め"]
[null,"2020-07-24","2020-07-24","スポーツの日","2020年だけの特別取り決め"]
[null,"2019-11-03","2020-11-03","文化の日"]
[null,"2019-11-23","2020-11-23","勤労感謝の日"]
[null,"2020-07-23","2020-07-23","海の日","2020年だけの特別取り決め"]
[null,null,""]
[null,null,""]
[null,null,""]
[]
[]
["\"FLケース用カレンダー\"の表の下に記述したい名称、電話番号をここに記入してください。"]
[]
["メルパソコン教室",null,null,"049-295-8641"]

{"sheet":"A4カレンダー","index":2,"n_rows":18,"n_cols":15,"rows_kept":18,"cut":false,"hidden":false,"merged":[[16,11,16,12],[2,13,3,13],[13,11,13,12],[11,13,12,13],[16,13,16,14],[2,14,3,14],[8,13,9,13],[8,14,9,14],[10,13,10,14],[11,11,12,11],[11,12,12,12],[14,11,15,11],[14,12,15,12],[11,14,12,14],[13,13,13,14],[14,13,15,13],[14,14,15,14],[4,13,4,14],[7,11,7,12],[10,11,10,12],[5,13,6,13],[5,14,6,14],[7,13,7,14],[4,11,4,12],[19,1,19,2],[2,9,3,9],[2,10,3,10],[4,9,4,10],[5,9,6,9],[5,10,6,10],[7,9,7,10],[8,9,9,9],[8,10,9,10],[10,9,10,10],[11,9,12,9],[11,10,12,10],[13,9,13,10],[14,9,15,9],[14,10,15,10],[16,9,16,10],[13,3,13,4],[14,3,15,3],[14,4,15,4],[16,3,16,4],[17,3,18,3],[17,4,18,4],[19,3,19,4],[2,1,3,1],[13,1,13,2],[14,1,15,1],[14,2,15,2],[16,1,16,2],[17,1,18,1],[17,2,18,2],[4,3,4,4],[5,3,6,3],[5,4,6,4],[7,3,7,4],[8,3,9,3],[8,4,9,4],[10,3,10,4],[11,3,12,3],[11,4,12,4],[4,1,4,2],[5,1,6,1],[5,2,6,2],[7,1,7,2],[8,1,9,1],[8,2,9,2],[10,1,10,2],[11,1,12,1],[11,2,12,2],[13,7,13,8],[14,7,15,7],[14,8,15,8],[16,7,16,8],[2,5,3,5],[2,6,3,6],[4,5,4,6],[5,5,6,5],[5,6,6,6],[7,5,7,6],[8,5,9,5],[8,6,9,6],[10,5,10,6],[11,5,12,5],[11,6,12,6],[13,5,13,6],[14,5,15,5],[14,6,15,6],[16,5,16,6],[4,7,4,8],[2,8,3,8],[5,7,6,7],[5,8,6,8],[7,7,7,8],[10,7,10,8],[11,7,12,7],[11,8,12,8],[1,9,1,10],[1,11,1,12],[1,13,1,14],[1,1,1,2],[1,3,1,4],[1,5,1,6],[1,7,1,8],[2,2,3,2],[5,11,6,11],[5,12,6,12],[8,11,9,11],[8,12,9,12],[0,7,0,8],[2,7,3,7],[0,3,0,4],[2,3,3,3],[2,4,3,4],[2,11,3,11],[2,12,3,12],[8,7,9,7],[8,8,9,8]]}
[null,null,null,{"$f":"祝日!A3","v":2020},null,null,null,7]
[null,"月",null,"火",null,"水",null,"木",null,"金",null,"土",null,"日"]
[null,{"$f":"IF(WEEKDAY(DATE($D$1,$H$1,1))=2,1,\"\")","v":""},{"$f":"IF(ISERROR(VLOOKUP(DATE($D$1,$H$1,B3),祝日!$C$6:$D$28,2,0)),\"\",VLOOKUP(DATE($D$1,$H$1,B3),祝日!$C$6:$D$28,2,0))","v":""},{"$f":"IF(WEEKDAY(DATE($D$1,$H$1,1))=3,1,IF(B3<>\"\",B3+1,\"\"))","v":""},{"$f":"IF(ISERROR(VLOOKUP(DATE($D$1,$H$1,D3),祝日!$C$6:$D$28,2,0)),\"\",VLOOKUP(DATE($D$1,$H$1,D3),祝日!$C$6:$D$28,2,0))","v":""},{"$f":"IF(WEEKDAY(DATE($D$1,$H$1,1))=4,1,IF(D3<>\"\",D3+1,\"\"))","v":1},{"$f":"IF(ISERROR(VLOOKUP(DATE($D$1,$H$1,F3),祝日!$C$6:$D$28,2,0)),\"\",VLOOKUP(DATE($D$1,$H$1,F3),祝日!$C$6:$D$28,2,0))","v":""},{"$f":"IF(WEEKDAY(DATE($D$1,$H$1,1))=5,1,IF(F3<>\"\",F3+1,\"\"))","v":2},{"$f":"IF(ISERROR(VLOOKUP(DATE($D$1,$H$1,H3),祝日!$C$6:$D$28,2,0)),\"\",VLOOKUP(DATE($D$1,$H$1,H3),祝日!$C$6:$D$28,2,0))","v":""},{"$f":"IF(WEEKDAY(DATE($D$1,$H$1,1))=6,1,IF(H3<>\"\",H3+1,\"\"))","v":3},{"$f":"IF(ISERROR(VLOOKUP(DATE($D$1,$H$1,J3),祝日!$C$6:$D$28,2,0)),\"\",VLOOKUP(DATE($D$1,$H$1,J3),祝日!$C$6:$D$28,2,0))","v":""},{"$f":"IF(WEEKDAY(DATE($D$1,$H$1,1))=7,1,IF(J3<>\"\",J3+1,\"\"))","v":4},{"$f":"IF(ISERROR(VLOOKUP(DATE($D$1,$H$1,L3),祝日!$C$6:$D$28,2,0)),\"\",VLOOKUP(DATE($D$1,$H$1,L3),祝日!$C$6:$D$28,2,0))","v":""},{"$f":"IF(WEEKDAY(DATE($D$1,$H$1,1))=1,1,IF(L3<>\"\",L3+1,\"\"))","v":5},{"$f":"IF(ISERROR(VLOOKUP(DATE($D$1,$H$1,N3),祝日!$C$6:$D$28,2,0)),\"\",VLOOKUP(DATE($D$1,$H$1,N3),祝日!$C$6:$D$28,2,0))","v":""}]
[]
[]
[null,{"$f":"N3+1","v":6},{"$f":"IF(AND($H$1=1,B3<>\"\"),祝日!$D$7,IF(AND($H$1=10,B3<>\"\"),祝日!D20,IF(ISERROR(VLOOKUP(DATE($D$1,$H$1,B6),祝日!$C$6:$D$28,2,0)),\"\",VLOOKUP(DATE($D$1,$H$1,B6),祝日!$C$6:$D$28,2,0))))","v":""},{"$f":"B6+1","v":7},{"$f":"IF(ISERROR(VLOOKUP(DATE($D$1,$H$1,D6),祝日!$C$6:$D$28,2,0)),\"\",VLOOKUP(DATE($D$1,$H$1,D6),祝日!$C$6:$D$28,2,0))","v":""},{"$f":"D6+1","v":8},{"$f":"IF(ISERROR(VLOOKUP(DATE($D$1,$H$1,F6),祝日!$C$6:$D$28,2,0)),\"\",VLOOKUP(DATE($D$1,$H$1,F6),祝日!$C$6:$D$28,2,0))","v":""},{"$f":"F6+1","v":9},{"$f":"IF(ISERROR(VLOOKUP(DATE($D$1,$H$1,H6),祝日!$C$6:$D$28,2,0)),\"\",VLOOKUP(DATE($D$1,$H$1,H6),祝日!$C$6:$D$28,2,0))","v":""},{"$f":"H6+1","v":10},{"$f":"IF(ISERROR(VLOOKUP(DATE($D$1,$H$1,J6),祝日!$C$6:$D$28,2,0)),\"\",VLOOKUP(DATE($D$1,$H$1,J6),祝日!$C$6:$D$28,2,0))","v":""},{"$f":"J6+1","v":11},{"$f":"IF(ISERROR(VLOOKUP(DATE($D$1,$H$1,L6),祝日!$C$6:$D$28,2,0)),\"\",VLOOKUP(DATE($D$1,$H$1,L6),祝日!$C$6:$D$28,2,0))","v":""},{"$f":"L6+1","v":12},{"$f":"IF(ISERROR(VLOOKUP(DATE($D$1,$H$1,N6),祝日!$C$6:$D$28,2,0)),\"\",VLOOKUP(DATE($D$1,$H$1,N6),祝日!$C$6:$D$28,2,0))","v":""}]
[]
[]
[null,{"$f":"N6+1","v":13},{"$f":"IF(AND($H$1=1,B3=\"\"),祝日!$D$7,IF(AND($H$1=8,B3=\"\"),祝日!$D17,IF(AND($H$1=10,B3=\"\"),祝日!$D$20,IF(AND($H$1=7,B3<>\"\"),祝日!$D$16,IF(AND($H$1=9,B3<>\"\"),祝日!$D$18,IF(ISERROR(VLOOKUP(DATE($D$1,$H$1,B9),祝日!$C$6:$D$28,2,0)),\"\",VLOOKUP(DATE($D$1,$H$1,B9),祝日!$C$6:$D$28,2,0)))))))","v":""},{"$f":"B9+1","v":14},{"$f":"IF(ISERROR(VLOOKUP(DATE($D$1,$H$1,D9),祝日!$C$6:$D$28,2,0)),\"\",VLOOKUP(DATE($D$1,$H$1,D9),祝日!$C$6:$D$28,2,0))","v":""},{"$f":"D9+1","v":15},{"$f":"IF(ISERROR(VLOOKUP(DATE($D$1,$H$1,F9),祝日!$C$6:$D$28,2,0)),\"\",VLOOKUP(DATE($D$1,$H$1,F9),祝日!$C$6:$D$28,2,0))","v":""},{"$f":"F9+1","v":16},{"$f":"IF(ISERROR(VLOOKUP(DATE($D$1,$H$1,H9),祝日!$C$6:$D$28,2,0)),\"\",VLOOKUP(DATE($D$1,$H$1,H9),祝日!$C$6:$D$28,2,0))","v":""},{"$f":"H9+1","v":17},{"$f":"IF(ISERROR(VLOOKUP(DATE($D$1,$H$1,J9),祝日!$C$6:$D$28,2,0)),\"\",VLOOKUP(DATE($D$1,$H$1,J9),祝日!$C$6:$D$28,2,0))","v":""},{"$f":"J9+1","v":18},{"$f":"IF(ISERROR(VLOOKUP(DATE($D$1,$H$1,L9),祝日!$C$6:$D$28,2,0)),\"\",VLOOKUP(DATE($D$1,$H$1,L9),祝日!$C$6:$D$28,2,0))","v":""},{"$f":"L9+1","v":19},{"$f":"IF(ISERROR(VLOOKUP(DATE($D$1,$H$1,N9),祝日!$C$6:$D$28,2,0)),\"\",VLOOKUP(DATE($D$1,$H$1,N9),祝日!$C$6:$D$28,2,0))","v":""}]
[]
[]
[null,{"$f":"N9+1","v":20},{"$f":"IF(AND($H$1=7,B3=\"\"),祝日!$D$16,IF(AND($H$1=9,B3=\"\"),祝日!D18,IF(ISERROR(VLOOKUP(DATE($D$1,$H$1,B12),祝日!$C$6:$D$28,2,0)),\"\",VLOOKUP(DATE($D$1,$H$1,B12),祝日!$C$6:$D$28,2,0))))","v":"海の日"},{"$f":"B12+1","v":21},{"$f":"IF(ISERROR(VLOOKUP(DATE($D$1,$H$1,D12),祝日!$C$6:$D$28,2,0)),\"\",VLOOKUP(DATE($D$1,$H$1,D12),祝日!$C$6:$D$28,2,0))","v":""},{"$f":"D12+1","v":22},{"$f":"IF(ISERROR(VLOOKUP(DATE($D$1,$H$1,F12),祝日!$C$6:$D$28,2,0)),\"\",VLOOKUP(DATE($D$1,$H$1,F12),祝日!$C$6:$D$28,2,0))","v":""},{"$f":"F12+1","v":23},{"$f":"IF(ISERROR(VLOOKUP(DATE($D$1,$H$1,H12),祝日!$C$6:$D$28,2,0)),\"\",VLOOKUP(DATE($D$1,$H$1,H12),祝日!$C$6:$D$28,2,0))","v":"海の日"},{"$f":"H12+1","v":24},{"$f":"IF(ISERROR(VLOOKUP(DATE($D$1,$H$1,J12),祝日!$C$6:$D$28,2,0)),\"\",VLOOKUP(DATE($D$1,$H$1,J12),祝日!$C$6:$D$28,2,0))","v":"スポーツの日"},{"$f":"J12+1","v":25},{"$f":"IF(ISERROR(VLOOKUP(DATE($D$1,$H$1,L12),祝日!$C$6:$D$28,2,0)),\"\",VLOOKUP(DATE($D$1,$H$1,L12),祝日!$C$6:$D$28,2,0))","v":""},{"$f":"L12+1","v":26},{"$f":"IF(ISERROR(VLOOKUP(DATE($D$1,$H$1,N12),祝日!$C$6:$D$28,2,0)),\"\",VLOOKUP(DATE($D$1,$H$1,N12),祝日!$C$6:$D$28,2,0))","v":""}]
[]
[]
[null,{"$f":"IF(AND(N12<DAY(DATE($D$1,$H$1+1,0)),N12<>\"\"),N12+1,\"\")","v":27},{"$f":"IF(ISERROR(VLOOKUP(DATE($D$1,$H$1,B15),祝日!$C$6:$D$28,2,0)),\"\",VLOOKUP(DATE($D$1,$H$1,B15),祝日!$C$6:$D$28,2,0))","v":""},{"$f":"IF(AND(B15<DAY(DATE($D$1,$H$1+1,0)),B15<>\"\"),B15+1,\"\")","v":28},{"$f":"IF(ISERROR(VLOOKUP(DATE($D$1,$H$1,D15),祝日!$C$6:$D$28,2,0)),\"\",VLOOKUP(DATE($D$1,$H$1,D15),祝日!$C$6:$D$28,2,0))","v":""},{"$f":"IF(AND(D15<DAY(DATE($D$1,$H$1+1,0)),D15<>\"\"),D15+1,\"\")","v":29},{"$f":"IF(ISERROR(VLOOKUP(DATE($D$1,$H$1,F15),祝日!$C$6:$D$28,2,0)),\"\",VLOOKUP(DATE($D$1,$H$1,F15),祝日!$C$6:$D$28,2,0))","v":""},{"$f":"IF(AND(F15<DAY(DATE($D$1,$H$1+1,0)),F15<>\"\"),F15+1,\"\")","v":30},{"$f":"IF(ISERROR(VLOOKUP(DATE($D$1,$H$1,H15),祝日!$C$6:$D$28,2,0)),\"\",VLOOKUP(DATE($D$1,$H$1,H15),祝日!$C$6:$D$28,2,0))","v":""},{"$f":"IF(AND(H15<DAY(DATE($D$1,$H$1+1,0)),H15<>\"\"),H15+1,\"\")","v":31},{"$f":"IF(ISERROR(VLOOKUP(DATE($D$1,$H$1,J15),祝日!$C$6:$D$28,2,0)),\"\",VLOOKUP(DATE($D$1,$H$1,J15),祝日!$C$6:$D$28,2,0))","v":""},{"$f":"IF(AND(J15<DAY(DATE($D$1,$H$1+1,0)),J15<>\"\"),J15+1,\"\")","v":""},{"$f":"IF(ISERROR(VLOOKUP(DATE($D$1,$H$1,L15),祝日!$C$6:$D$28,2,0)),\"\",VLOOKUP(DATE($D$1,$H$1,L15),祝日!$C$6:$D$28,2,0))","v":""},{"$f":"IF(AND(L15<DAY(DATE($D$1,$H$1+1,0)),L15<>\"\"),L15+1,\"\")","v":""},{"$f":"IF(ISERROR(VLOOKUP(DATE($D$1,$H$1,N15),祝日!$C$6:$D$28,2,0)),\"\",VLOOKUP(DATE($D$1,$H$1,N15),祝日!$C$6:$D$28,2,0))","v":""}]
[]
[]
[null,{"$f":"IF(AND(N15<DAY(DATE($D$1,$H$1+1,0)),N15<>\"\"),N15+1,\"\")","v":""},{"$f":"IF(ISERROR(VLOOKUP(DATE($D$1,$H$1,B18),祝日!$C$6:$D$28,2,0)),\"\",VLOOKUP(DATE($D$1,$H$1,B18),祝日!$C$6:$D$28,2,0))","v":""},{"$f":"IF(AND(B18<DAY(DATE($D$1,$H$1+1,0)),B18<>\"\"),B18+1,\"\")","v":""},{"$f":"IF(ISERROR(VLOOKUP(DATE($D$1,$H$1,D18),祝日!$C$6:$D$28,2,0)),\"\",VLOOKUP(DATE($D$1,$H$1,D18),祝日!$C$6:$D$28,2,0))","v":""}]

{"sheet":"FLｹｰｽ用カレンダー","index":3,"n_rows":103,"n_cols":30,"rows_kept":103,"cut":false,"hidden":false,"merged":[[1,12,1,20],[2,2,2,6],[2,7,2,9],[2,11,2,15],[2,17,2,21],[2,22,2,24],[6,19,6,20],[6,21,6,22],[6,23,6,24],[6,25,6,26],[2,26,2,30],[4,2,4,3],[4,4,4,5],[4,6,4,7],[4,8,4,9],[4,10,4,11],[4,12,4,13],[4,14,4,15],[4,17,4,18],[4,27,4,28],[8,21,8,22],[8,23,8,24],[4,29,4,30],[6,27,6,28],[6,29,6,30],[8,2,8,3],[8,4,8,5],[8,6,8,7],[8,8,8,9],[8,10,8,11],[8,12,8,13],[8,14,8,15],[6,2,6,3],[6,4,6,5],[6,6,6,7],[6,8,6,9],[6,10,6,11],[6,12,6,13],[6,14,6,15],[6,17,6,18],[4,19,4,20],[4,21,4,22],[4,23,4,24],[4,25,4,26],[10,25,10,26],[8,27,8,28],[8,29,8,30],[10,27,10,28],[10,29,10,30],[12,2,12,3],[12,4,12,5],[12,6,12,7],[12,8,12,9],[12,10,12,11],[8,25,8,26],[10,2,10,3],[10,4,10,5],[10,6,10,7],[10,8,10,9],[10,10,10,11],[10,12,10,13],[10,19,10,20],[10,21,10,22],[10,23,10,24],[8,17,8,18],[10,14,10,15],[10,17,10,18],[8,19,8,20],[14,2,14,3],[14,4,14,5],[14,6,14,7],[14,8,14,9],[14,10,14,11],[14,12,14,13],[14,19,14,20],[12,12,12,13],[12,14,12,15],[12,17,12,18],[14,14,14,15],[14,17,14,18],[12,19,12,20],[14,21,14,22],[14,23,14,24],[14,25,14,26],[12,27,12,28],[12,29,12,30],[14,27,14,28],[14,29,14,30],[12,21,12,22],[12,23,12,24],[12,25,12,26],[17,17,17,25],[17,26,17,30],[16,19,16,20],[16,21,16,22],[16,23,16,24],[16,2,16,3],[16,4,16,5],[16,6,16,7],[16,8,16,9],[16,10,16,11],[16,12,16,13],[19,17,19,21],[19,22,19,24],[21,25,21,26],[16,27,16,28],[19,26,19,30],[21,2,21,3],[21,4,21,5],[21,6,21,7],[21,8,21,9],[21,10,21,11],[21,12,21,13],[21,14,21,15],[21,17,21,18],[16,25,16,26],[18,3,18,7],[18,8,18,11],[19,2,19,6],[19,7,19,9],[19,11,19,15],[16,14,16,15],[16,17,16,18],[16,29,16,30],[17,2,17,10],[17,11,17,15],[21,27,21,28],[21,29,21,30],[23,2,23,3],[23,4,23,5],[23,6,23,7],[23,8,23,9],[23,10,23,11],[23,12,23,13],[23,14,23,15],[23,29,23,30],[21,19,21,20],[21,21,21,22],[21,23,21,24],[23,25,23,26],[23,27,23,28],[23,21,23,22],[23,23,23,24],[25,25,25,26],[25,27,25,28],[25,14,25,15],[23,17,23,18],[23,19,23,20],[25,17,25,18],[25,19,25,20],[25,21,25,22],[25,29,25,30],[27,10,27,11],[27,12,27,13],[27,14,27,15],[25,23,25,24],[25,2,25,3],[25,4,25,5],[25,6,25,7],[25,8,25,9],[25,10,25,11],[25,12,25,13],[27,25,27,26],[27,27,27,28],[27,29,27,30],[29,2,29,3],[29,4,29,5],[29,6,29,7],[29,8,29,9],[29,10,29,11],[29,12,29,13],[29,14,29,15],[27,17,27,18],[27,19,27,20],[27,21,27,22],[27,23,27,24],[29,25,29,26],[29,19,29,20],[29,21,29,22],[29,23,29,24],[29,27,29,28],[29,29,29,30],[27,2,27,3],[27,4,27,5],[27,6,27,7],[27,8,27,9],[31,2,31,3],[31,4,31,5],[31,6,31,7],[31,8,31,9],[31,10,31,11],[31,12,31,13],[31,14,31,15],[29,17,29,18],[31,25,31,26],[31,27,31,28],[31,29,31,30],[33,25,33,26],[33,27,33,28],[33,29,33,30],[31,23,31,24],[34,18,34,25],[33,10,33,11],[33,12,33,13],[33,14,33,15],[31,17,31,18],[33,17,33,18],[31,19,31,20],[31,21,31,22],[33,19,33,20],[36,11,36,15],[36,17,36,21],[36,22,36,24],[36,26,36,30],[33,2,33,3],[33,4,33,5],[33,6,33,7],[36,2,36,6],[36,7,36,9],[35,3,35,7],[35,8,35,11],[34,3,34,10],[34,11,34,15],[33,8,33,9],[34,26,34,30],[33,23,33,24],[33,21,33,22],[40,23,40,24],[40,25,40,26],[38,10,38,11],[38,12,38,13],[38,14,38,15],[38,17,38,18],[38,2,38,3],[38,4,38,5],[38,6,38,7],[38,8,38,9],[38,27,38,28],[38,29,38,30],[40,27,40,28],[40,29,40,30],[42,2,42,3],[42,4,42,5],[42,6,42,7],[42,8,42,9],[42,10,42,11],[42,12,42,13],[40,2,40,3],[40,4,40,5],[40,6,40,7],[40,8,40,9],[40,10,40,11],[40,12,40,13],[40,14,40,15],[40,17,40,18],[38,19,38,20],[38,21,38,22],[38,23,38,24],[38,25,38,26],[40,19,40,20],[40,21,40,22],[44,23,44,24],[44,25,44,26],[42,27,42,28],[42,29,42,30],[44,27,44,28],[44,29,44,30],[42,23,42,24],[42,25,42,26],[44,2,44,3],[44,4,44,5],[44,6,44,7],[44,8,44,9],[44,10,44,11],[44,12,44,13],[44,19,44,20],[44,21,44,22],[42,14,42,15],[42,17,42,18],[44,14,44,15],[44,17,44,18],[42,19,42,20],[42,21,42,22],[46,27,46,28],[46,29,46,30],[48,2,48,3],[48,4,48,5],[48,6,48,7],[48,8,48,9],[48,10,48,11],[48,12,48,13],[48,14,48,15],[46,2,46,3],[46,4,46,5],[46,6,46,7],[46,8,46,9],[46,10,46,11],[46,12,46,13],[46,25,46,26],[46,19,46,20],[46,21,46,22],[46,23,46,24],[48,21,48,22],[46,14,46,15],[46,17,46,18],[48,25,48,26],[48,27,48,28],[48,29,48,30],[50,25,50,26],[50,27,50,28],[50,29,50,30],[50,19,50,20],[48,23,48,24],[50,2,50,3],[50,4,50,5],[50,6,50,7],[50,8,50,9],[50,10,50,11],[48,17,48,18],[50,17,50,18],[50,21,50,22],[48,19,48,20],[50,14,50,15],[55,25,55,26],[55,27,55,28],[51,2,51,10],[51,11,51,15],[51,17,51,25],[50,12,50,13],[51,26,51,30],[50,23,50,24],[53,26,53,30],[55,2,55,3],[55,4,55,5],[55,6,55,7],[55,8,55,9],[55,10,55,11],[55,12,55,13],[55,14,55,15],[53,2,53,6],[53,7,53,9],[53,11,53,15],[53,17,53,21],[53,22,53,24],[55,29,55,30],[55,21,55,22],[55,23,55,24],[55,17,55,18],[55,19,55,20],[57,29,57,30],[59,2,59,3],[59,4,59,5],[59,6,59,7],[59,8,59,9],[59,10,59,11],[59,12,59,13],[59,14,59,15],[57,25,57,26],[57,27,57,28],[59,29,59,30],[59,21,59,22],[59,23,59,24],[59,17,59,18],[59,19,59,20],[57,2,57,3],[57,4,57,5],[57,6,57,7],[57,8,57,9],[57,10,57,11],[57,12,57,13],[57,14,57,15],[57,17,57,18],[57,19,57,20],[61,21,61,22],[61,23,61,24],[59,25,59,26],[59,27,59,28],[61,29,61,30],[57,21,57,22],[57,23,57,24],[63,8,63,9],[63,10,63,11],[63,12,63,13],[63,14,63,15],[61,25,61,26],[61,27,61,28],[61,2,61,3],[61,4,61,5],[61,6,61,7],[61,8,61,9],[61,10,61,11],[61,12,61,13],[61,14,61,15],[61,17,61,18],[61,19,61,20],[65,25,65,26],[65,27,65,28],[63,29,63,30],[65,2,65,3],[65,4,65,5],[65,6,65,7],[65,8,65,9],[65,10,65,11],[65,29,65,30],[65,12,65,13],[65,14,65,15],[65,17,65,18],[65,19,65,20],[63,21,63,22],[63,23,63,24],[63,17,63,18],[63,19,63,20],[65,21,65,22],[65,23,65,24],[63,25,63,26],[63,27,63,28],[63,2,63,3],[63,4,63,5],[63,6,63,7],[67,14,67,15],[67,17,67,18],[67,27,67,28],[67,29,67,30],[68,2,68,10],[68,11,68,15],[68,17,68,25],[68,26,68,30],[67,19,67,20],[67,21,67,22],[67,2,67,3],[67,4,67,5],[67,6,67,7],[67,8,67,9],[67,10,67,11],[67,12,67,13],[67,23,67,24],[67,25,67,26],[72,23,72,24],[72,25,72,26],[70,22,70,24],[70,26,70,30],[72,27,72,28],[72,29,72,30],[72,6,72,7],[72,8,72,9],[72,10,72,11],[72,12,72,13],[72,19,72,20],[72,21,72,22],[72,14,72,15],[72,17,72,18],[70,2,70,6],[70,7,70,9],[70,11,70,15],[70,17,70,21],[72,2,72,3],[72,4,72,5],[76,2,76,3],[76,4,76,5],[76,6,76,7],[76,8,76,9],[76,10,76,11],[76,12,76,13],[76,19,76,20],[76,21,76,22],[74,14,74,15],[74,17,74,18],[76,14,76,15],[76,17,76,18],[74,19,74,20],[74,21,74,22],[74,2,74,3],[74,4,74,5],[74,6,74,7],[74,8,74,9],[74,10,74,11],[74,12,74,13],[78,8,78,9],[78,10,78,11],[78,12,78,13],[76,23,76,24],[76,25,76,26],[74,27,74,28],[74,29,74,30],[76,27,76,28],[76,29,76,30],[74,23,74,24],[74,25,74,26],[80,25,80,26],[78,27,78,28],[78,29,78,30],[80,27,80,28],[80,29,80,30],[78,23,78,24],[78,25,78,26],[80,2,80,3],[80,4,80,5],[80,6,80,7],[80,8,80,9],[80,10,80,11],[80,12,80,13],[80,19,80,20],[80,21,80,22],[78,14,78,15],[78,17,78,18],[80,14,80,15],[80,17,80,18],[78,19,78,20],[78,21,78,22],[78,2,78,3],[78,4,78,5],[78,6,78,7],[82,19,82,20],[82,21,82,22],[82,2,82,3],[82,4,82,5],[82,6,82,7],[82,8,82,9],[82,10,82,11],[82,12,82,13],[80,23,80,24],[84,23,84,24],[84,25,84,26],[82,27,82,28],[82,29,82,30],[87,2,87,6],[87,7,87,9],[87,11,87,15],[87,17,87,21],[84,27,84,28],[84,29,84,30],[82,23,82,24],[82,25,82,26],[84,2,84,3],[84,4,84,5],[84,6,84,7],[84,8,84,9],[84,10,84,11],[84,12,84,13],[84,19,84,20],[84,21,84,22],[82,14,82,15],[82,17,82,18],[84,14,84,15],[84,17,84,18],[89,6,89,7],[89,8,89,9],[89,10,89,11],[89,12,89,13],[85,2,85,10],[85,11,85,15],[85,17,85,25],[85,26,85,30],[87,22,87,24],[87,26,87,30],[91,23,91,24],[91,25,91,26],[89,27,89,28],[89,29,89,30],[91,27,91,28],[91,29,91,30],[89,23,89,24],[89,25,89,26],[91,2,91,3],[91,4,91,5],[91,6,91,7],[91,8,91,9],[91,10,91,11],[91,12,91,13],[91,19,91,20],[91,21,91,22],[89,14,89,15],[89,17,89,18],[91,14,91,15],[91,17,91,18],[89,19,89,20],[89,21,89,22],[89,2,89,3],[89,4,89,5],[95,2,95,3],[95,4,95,5],[95,6,95,7],[95,8,95,9],[95,10,95,11],[95,12,95,13],[95,19,95,20],[95,21,95,22],[93,14,93,15],[93,17,93,18],[95,14,95,15],[95,17,95,18],[93,19,93,20],[93,21,93,22],[93,2,93,3],[93,4,93,5],[93,6,93,7],[93,8,93,9],[93,10,93,11],[93,12,93,13],[97,6,97,7],[97,8,97,9],[97,10,97,11],[97,12,97,13],[95,23,95,24],[95,25,95,26],[93,27,93,28],[93,29,93,30],[95,27,95,28],[95,29,95,30],[93,23,93,24],[93,25,93,26],[99,23,99,24],[99,25,99,26],[97,27,97,28],[97,29,97,30],[99,27,99,28],[99,29,99,30],[97,23,97,24],[97,25,97,26],[99,2,99,3],[99,4,99,5],[99,6,99,7],[99,8,99,9],[99,10,99,11],[99,12,99,13],[99,19,99,20],[99,21,99,22],[97,14,97,15],[97,17,97,18],[99,14,99,15],[99,17,99,18],[97,19,97,20],[97,21,97,22],[97,2,97,3],[97,4,97,5],[101,23,101,24],[101,25,101,26],[101,14,101,15],[101,17,101,18],[101,27,101,28],[101,29,101,30],[102,2,102,10],[102,11,102,15],[102,17,102,25],[102,26,102,30],[101,19,101,20],[101,21,101,22],[101,2,101,3],[101,4,101,5],[101,6,101,7],[101,8,101,9],[101,10,101,11],[101,12,101,13]]}
[]
[null,null,null,null,null,null,null,null,null,null,null,null,{"$f":"祝日!A3","v":2020}]
[{"$f":"DATE(祝日!A3,1,1)","v":"2020-01-01"},null,{"$f":"DATE(YEAR($A$3),H3,DAY($A$3))","v":"2020-01-01"},null,null,null,null,{"$f":"MONTH($A$3)","v":1},null,null,null,{"$f":"$M$2","v":2020},null,null,null,null,null,{"$f":"DATE(YEAR($A$3),W3,DAY($A$3))","v":"2020-07-01"},null,null,null,null,{"$f":"MONTH($A$3)+6","v":7},null,null,null,{"$f":"$M$2","v":2020}]
[]
[null,null,"日",null,"月",null,"火",null,"水",null,"木",null,"金",null,"土",null,null,"日",null,"月",null,"火",null,"水",null,"木",null,"金",null,"土"]
[null,null,{"$f":"IF(WEEKDAY(DATE(YEAR($A$3),H3,DAY($A$3)))=1,1,0)","v":0},null,{"$f":"IF(WEEKDAY(DATE(YEAR($A$3),H3,DAY($A$3)))=2,1,IF(C6>0,C6+1,0))","v":0},null,{"$f":"IF(WEEKDAY(DATE(YEAR($A$3),H3,DAY($A$3)))=3,1,IF(E6>0,E6+1,0))","v":0},null,{"$f":"IF(WEEKDAY(DATE(YEAR($A$3),H3,DAY($A$3)))=4,1,IF(G6>0,G6+1,0))","v":1},null,{"$f":"IF(WEEKDAY(DATE(YEAR($A$3),H3,DAY($A$3)))=5,1,IF(I6>0,I6+1,0))","v":2},null,{"$f":"IF(WEEKDAY(DATE(YEAR($A$3),H3,DAY($A$3)))=6,1,IF(K6>0,K6+1,0))","v":3},null,{"$f":"IF(WEEKDAY(DATE(YEAR($A$3),H3,DAY($A$3)))=7,1,IF(M6>0,M6+1,0))","v":4},null,null,{"$f":"IF(WEEKDAY(DATE(YEAR($A$3),W3,DAY($A$3)))=1,1,0)","v":0},null,{"$f":"IF(WEEKDAY(DATE(YEAR($A$3),W3,DAY($A$3)))=2,1,IF(R6>0,R6+1,0))","v":0},null,{"$f":"IF(WEEKDAY(DATE(YEAR($A$3),W3,DAY($A$3)))=3,1,IF(T6>0,T6+1,0))","v":0},null,{"$f":"IF(WEEKDAY(DATE(YEAR($A$3),W3,DAY($A$3)))=4,1,IF(V6>0,V6+1,0))","v":1},null,{"$f":"IF(WEEKDAY(DATE(YEAR($A$3),W3,DAY($A$3)))=5,1,IF(X6>0,X6+1,0))","v":2},null,{"$f":"IF(WEEKDAY(DATE(YEAR($A$3),W3,DAY($A$3)))=6,1,IF(Z6>0,Z6+1,0))","v":3},null,{"$f":"IF(WEEKDAY(DATE(YEAR($A$3),W3,DAY($A$3)))=7,1,IF(AB6>0,AB6+1,0))","v":4}]
[null,null,{"$f":"IF(ISERROR(VLOOKUP(DATE(YEAR($A$3),H3,C6),祝日!$C$6:$D$28,2,0)),\"\",VLOOKUP(DATE(YEAR($A$3),H3,C6),祝日!$C$6:$D$28,2,0))","v":""},null,{"$f":"IF(ISERROR(VLOOKUP(DATE(YEAR($A$3),H3,E6),祝日!$C$6:$D$28,2,0)),\"\",VLOOKUP(DATE(YEAR($A$3),H3,E6),祝日!$C$6:$D$28,2,0))","v":""},null,{"$f":"IF(ISERROR(VLOOKUP(DATE(YEAR($A$3),H3,G6),祝日!$C$6:$D$28,2,0)),\"\",VLOOKUP(DATE(YEAR($A$3),H3,G6),祝日!$C$6:$D$28,2,0))","v":""},null,{"$f":"IF(ISERROR(VLOOKUP(DATE(YEAR($A$3),H3,I6),祝日!$C$6:$D$28,2,0)),\"\",VLOOKUP(DATE(YEAR($A$3),H3,I6),祝日!$C$6:$D$28,2,0))","v":"元旦"},null,{"$f":"IF(ISERROR(VLOOKUP(DATE(YEAR($A$3),H3,K6),祝日!$C$6:$D$28,2,0)),\"\",VLOOKUP(DATE(YEAR($A$3),H3,K6),祝日!$C$6:$D$28,2,0))","v":""},null,{"$f":"IF(ISERROR(VLOOKUP(DATE(YEAR($A$3),H3,M6),祝日!$C$6:$D$28,2,0)),\"\",VLOOKUP(DATE(YEAR($A$3),H3,M6),祝日!$C$6:$D$28,2,0))","v":""},null,{"$f":"IF(ISERROR(VLOOKUP(DATE(YEAR($A$3),H3,O6),祝日!$C$6:$D$28,2,0)),\"\",VLOOKUP(DATE(YEAR($A$3),H3,O6),祝日!$C$6:$D$28,2,0))","v":""},null,null,{"$f":"IF(ISERROR(VLOOKUP(DATE(YEAR($A$3),W3,R6),祝日!$C$6:$D$28,2,0)),\"\",VLOOKUP(DATE(YEAR($A$3),W3,R6),祝日!$C$6:$D$28,2,0))","v":""},null,{"$f":"IF(ISERROR(VLOOKUP(DATE(YEAR($A$3),W3,T6),祝日!$C$6:$D$28,2,0)),\"\",VLOOKUP(DATE(YEAR($A$3),W3,T6),祝日!$C$6:$D$28,2,0))","v":""},null,{"$f":"IF(ISERROR(VLOOKUP(DATE(YEAR($A$3),W3,V6),祝日!$C$6:$D$28,2,0)),\"\",VLOOKUP(DATE(YEAR($A$3),W3,V6),祝日!$C$6:$D$28,2,0))","v":""},null,{"$f":"IF(ISERROR(VLOOKUP(DATE(YEAR($A$3),W3,X6),祝日!$C$6:$D$28,2,0)),\"\",VLOOKUP(DATE(YEAR($A$3),W3,X6),祝日!$C$6:$D$28,2,0))","v":""},null,{"$f":"IF(ISERROR(VLOOKUP(DATE(YEAR($A$3),W3,Z6),祝日!$C$6:$D$28,2,0)),\"\",VLOOKUP(DATE(YEAR($A$3),W3,Z6),祝日!$C$6:$D$28,2,0))","v":""},null,{"$f":"IF(ISERROR(VLOOKUP(DATE(YEAR($A$3),W3,AB6),祝日!$C$6:$D$28,2,0)),\"\",VLOOKUP(DATE(YEAR($A$3),W3,AB6),祝日!$C$6:$D$28,2,0))","v":""},null,{"$f":"IF(ISERROR(VLOOKUP(DATE(YEAR($A$3),W3,AD6),祝日!$C$6:$D$28,2,0)),\"\",VLOOKUP(DATE(YEAR($A$3),W3,AD6),祝日!$C$6:$D$28,2,0))","v":""}]
[null,null,{"$f":"O6+1","v":5},{"$f":"IF(ISERROR(VLOOKUP(DATE(YEAR($A$3),H3,C8),祝日!$C$6:$D$28,3,0)),\"\",(VLOOKUP(DATE(YEAR($A$3),H3,C8),祝日!$C$6:$D$28,3,0)))","v":""},{"$f":"C8+1","v":6},null,{"$f":"E8+1","v":7},null,{"$f":"G8+1","v":8},null,{"$f":"I8+1","v":9},null,{"$f":"K8+1","v":10},null,{"$f":"M8+1","v":11},null,null,{"$f":"AD6+1","v":5},{"$f":"IF(ISERROR(VLOOKUP(DATE(YEAR($A$3),W3,R8),祝日!$C$6:$D$28,3,0)),\"\",(VLOOKUP(DATE(YEAR($A$3),W3,R8),祝日!$C$6:$D$28,3,0)))","v":""},{"$f":"R8+1","v":6},null,{"$f":"T8+1","v":7},null,{"$f":"V8+1","v":8},null,{"$f":"X8+1","v":9},null,{"$f":"Z8+1","v":10},null,{"$f":"AB8+1","v":11}]
[null,null,{"$f":"IF(ISERROR(VLOOKUP(DATE(YEAR($A$3),H3,C8),祝日!$C$6:$D$28,2,0)),\"\",VLOOKUP(DATE(YEAR($A$3),H3,C8),祝日!$C$6:$D$28,2,0))","v":""},null,{"$f":"IF(AND(H3=1,E6>0),祝日!$D$7,IF(ISERROR(VLOOKUP(DATE(YEAR($A$3),H3,E8),祝日!$C$6:$D$28,2,0)),\"\",VLOOKUP(DATE(YEAR($A$3),H3,E8),祝日!$C$6:$D$28,2,0)))","v":""},null,{"$f":"IF(ISERROR(VLOOKUP(DATE(YEAR($A$3),H3,G8),祝日!$C$6:$D$28,2,0)),\"\",VLOOKUP(DATE(YEAR($A$3),H3,G8),祝日!$C$6:$D$28,2,0))","v":""},null,{"$f":"IF(ISERROR(VLOOKUP(DATE(YEAR($A$3),H3,I8),祝日!$C$6:$D$28,2,0)),\"\",VLOOKUP(DATE(YEAR($A$3),H3,I8),祝日!$C$6:$D$28,2,0))","v":""},null,{"$f":"IF(ISERROR(VLOOKUP(DATE(YEAR($A$3),H3,K8),祝日!$C$6:$D$28,2,0)),\"\",VLOOKUP(DATE(YEAR($A$3),H3,K8),祝日!$C$6:$D$28,2,0))","v":""},null,{"$f":"IF(ISERROR(VLOOKUP(DATE(YEAR($A$3),H3,M8),祝日!$C$6:$D$28,2,0)),\"\",VLOOKUP(DATE(YEAR($A$3),H3,M8),祝日!$C$6:$D$28,2,0))","v":""},null,{"$f":"IF(ISERROR(VLOOKUP(DATE(YEAR($A$3),H3,O8),祝日!$C$6:$D$28,2,0)),\"\",VLOOKUP(DATE(YEAR($A$3),H3,O8),祝日!$C$6:$D$28,2,0))","v":""},null,null,{"$f":"IF(ISERROR(VLOOKUP(DATE(YEAR($A$3),W3,R8),祝日!$C$6:$D$28,2,0)),\"\",VLOOKUP(DATE(YEAR($A$3),W3,R8),祝日!$C$6:$D$28,2,0))","v":""},null,{"$f":"IF(ISERROR(VLOOKUP(DATE(YEAR($A$3),W3,T8),祝日!$C$6:$D$28,2,0)),\"\",VLOOKUP(DATE(YEAR($A$3),W3,T8),祝日!$C$6:$D$28,2,0))","v":""},null,{"$f":"IF(ISERROR(VLOOKUP(DATE(YEAR($A$3),W3,V8),祝日!$C$6:$D$28,2,0)),\"\",VLOOKUP(DATE(YEAR($A$3),W3,V8),祝日!$C$6:$D$28,2,0))","v":""},null,{"$f":"IF(ISERROR(VLOOKUP(DATE(YEAR($A$3),W3,X8),祝日!$C$6:$D$28,2,0)),\"\",VLOOKUP(DATE(YEAR($A$3),W3,X8),祝日!$C$6:$D$28,2,0))","v":""},null,{"$f":"IF(ISERROR(VLOOKUP(DATE(YEAR($A$3),W3,Z8),祝日!$C$6:$D$28,2,0)),\"\",VLOOKUP(DATE(YEAR($A$3),W3,Z8),祝日!$C$6:$D$28,2,0))","v":""},null,{"$f":"IF(ISERROR(VLOOKUP(DATE(YEAR($A$3),W3,AB8),祝日!$C$6:$D$28,2,0)),\"\",VLOOKUP(DATE(YEAR($A$3),W3,AB8),祝日!$C$6:$D$28,2,0))","v":""},null,{"$f":"IF(ISERROR(VLOOKUP(DATE(YEAR($A$3),W3,AD8),祝日!$C$6:$D$28,2,0)),\"\",VLOOKUP(DATE(YEAR($A$3),W3,AD8),祝日!$C$6:$D$28,2,0))","v":""}]
[null,null,{"$f":"O8+1","v":12},null,{"$f":"C10+1","v":13},null,{"$f":"E10+1","v":14},null,{"$f":"G10+1","v":15},null,{"$f":"I10+1","v":16},null,{"$f":"K10+1","v":17},null,{"$f":"M10+1","v":18},null,null,{"$f":"AD8+1","v":12},null,{"$f":"R10+1","v":13},null,{"$f":"T10+1","v":14},null,{"$f":"V10+1","v":15},null,{"$f":"X10+1","v":16},null,{"$f":"Z10+1","v":17},null,{"$f":"AB10+1","v":18}]
[null,null,{"$f":"IF(ISERROR(VLOOKUP(DATE(YEAR($A$3),H3,C10),祝日!$C$6:$D$28,2,0)),\"\",VLOOKUP(DATE(YEAR($A$3),H3,C10),祝日!$C$6:$D$28,2,0))","v":""},null,{"$f":"IF(AND(H3=1,E6=0),祝日!$D$7,IF(ISERROR(VLOOKUP(DATE(YEAR($A$3),H3,E10),祝日!$C$6:$D$28,2,0)),\"\",VLOOKUP(DATE(YEAR($A$3),H3,E10),祝日!$C$6:$D$28,2,0)))","v":"成人の日"},null,{"$f":"IF(ISERROR(VLOOKUP(DATE(YEAR($A$3),H3,G10),祝日!$C$6:$D$28,2,0)),\"\",VLOOKUP(DATE(YEAR($A$3),H3,G10),祝日!$C$6:$D$28,2,0))","v":""},null,{"$f":"IF(ISERROR(VLOOKUP(DATE(YEAR($A$3),H3,I10),祝日!$C$6:$D$28,2,0)),\"\",VLOOKUP(DATE(YEAR($A$3),H3,I10),祝日!$C$6:$D$28,2,0))","v":""},null,{"$f":"IF(ISERROR(VLOOKUP(DATE(YEAR($A$3),H3,K10),祝日!$C$6:$D$28,2,0)),\"\",VLOOKUP(DATE(YEAR($A$3),H3,K10),祝日!$C$6:$D$28,2,0))","v":""},null,{"$f":"IF(ISERROR(VLOOKUP(DATE(YEAR($A$3),H3,M10),祝日!$C$6:$D$28,2,0)),\"\",VLOOKUP(DATE(YEAR($A$3),H3,M10),祝日!$C$6:$D$28,2,0))","v":""},null,{"$f":"IF(ISERROR(VLOOKUP(DATE(YEAR($A$3),H3,O10),祝日!$C$6:$D$28,2,0)),\"\",VLOOKUP(DATE(YEAR($A$3),H3,O10),祝日!$C$6:$D$28,2,0))","v":""},null,null,{"$f":"IF(ISERROR(VLOOKUP(DATE(YEAR($A$3),W3,R10),祝日!$C$6:$D$28,2,0)),\"\",VLOOKUP(DATE(YEAR($A$3),W3,R10),祝日!$C$6:$D$28,2,0))","v":""},null,{"$f":"IF(AND(W3=7,T6>0),祝日!$D$16,IF(ISERROR(VLOOKUP(DATE(YEAR($A$3),W3,T10),祝日!$C$6:$D$28,2,0)),\"\",VLOOKUP(DATE(YEAR($A$3),W3,T10),祝日!$C$6:$D$28,2,0)))","v":""},null,{"$f":"IF(ISERROR(VLOOKUP(DATE(YEAR($A$3),W3,V10),祝日!$C$6:$D$28,2,0)),\"\",VLOOKUP(DATE(YEAR($A$3),W3,V10),祝日!$C$6:$D$28,2,0))","v":""},null,{"$f":"IF(ISERROR(VLOOKUP(DATE(YEAR($A$3),W3,X10),祝日!$C$6:$D$28,2,0)),\"\",VLOOKUP(DATE(YEAR($A$3),W3,X10),祝日!$C$6:$D$28,2,0))","v":""},null,{"$f":"IF(ISERROR(VLOOKUP(DATE(YEAR($A$3),W3,Z10),祝日!$C$6:$D$28,2,0)),\"\",VLOOKUP(DATE(YEAR($A$3),W3,Z10),祝日!$C$6:$D$28,2,0))","v":""},null,{"$f":"IF(ISERROR(VLOOKUP(DATE(YEAR($A$3),W3,AB10),祝日!$C$6:$D$28,2,0)),\"\",VLOOKUP(DATE(YEAR($A$3),W3,AB10),祝日!$C$6:$D$28,2,0))","v":""},null,{"$f":"IF(ISERROR(VLOOKUP(DATE(YEAR($A$3),W3,AD10),祝日!$C$6:$D$28,2,0)),\"\",VLOOKUP(DATE(YEAR($A$3),W3,AD10),祝日!$C$6:$D$28,2,0))","v":""}]
[null,null,{"$f":"O10+1","v":19},null,{"$f":"C12+1","v":20},null,{"$f":"E12+1","v":21},null,{"$f":"G12+1","v":22},null,{"$f":"I12+1","v":23},null,{"$f":"K12+1","v":24},null,{"$f":"M12+1","v":25},null,null,{"$f":"AD10+1","v":19},null,{"$f":"R12+1","v":20},null,{"$f":"T12+1","v":21},null,{"$f":"V12+1","v":22},null,{"$f":"X12+1","v":23},null,{"$f":"Z12+1","v":24},null,{"$f":"AB12+1","v":25}]
[null,null,{"$f":"IF(ISERROR(VLOOKUP(DATE(YEAR($A$3),H3,C12),祝日!$C$6:$D$28,2,0)),\"\",VLOOKUP(DATE(YEAR($A$3),H3,C12),祝日!$C$6:$D$28,2,0))","v":""},null,{"$f":"IF(ISERROR(VLOOKUP(DATE(YEAR($A$3),H3,E12),祝日!$C$6:$D$28,2,0)),\"\",VLOOKUP(DATE(YEAR($A$3),H3,E12),祝日!$C$6:$D$28,2,0))","v":""},null,{"$f":"IF(ISERROR(VLOOKUP(DATE(YEAR($A$3),H3,G12),祝日!$C$6:$D$28,2,0)),\"\",VLOOKUP(DATE(YEAR($A$3),H3,G12),祝日!$C$6:$D$28,2,0))","v":""},null,{"$f":"IF(ISERROR(VLOOKUP(DATE(YEAR($A$3),H3,I12),祝日!$C$6:$D$28,2,0)),\"\",VLOOKUP(DATE(YEAR($A$3),H3,I12),祝日!$C$6:$D$28,2,0))","v":""},null,{"$f":"IF(ISERROR(VLOOKUP(DATE(YEAR($A$3),H3,K12),祝日!$C$6:$D$28,2,0)),\"\",VLOOKUP(DATE(YEAR($A$3),H3,K12),祝日!$C$6:$D$28,2,0))","v":""},null,{"$f":"IF(ISERROR(VLOOKUP(DATE(YEAR($A$3),H3,M12),祝日!$C$6:$D$28,2,0)),\"\",VLOOKUP(DATE(YEAR($A$3),H3,M12),祝日!$C$6:$D$28,2,0))","v":""},null,{"$f":"IF(ISERROR(VLOOKUP(DATE(YEAR($A$3),H3,O12),祝日!$C$6:$D$28,2,0)),\"\",VLOOKUP(DATE(YEAR($A$3),H3,O12),祝日!$C$6:$D$28,2,0))","v":""},null,null,{"$f":"IF(ISERROR(VLOOKUP(DATE(YEAR($A$3),W3,R12),祝日!$C$6:$D$28,2,0)),\"\",VLOOKUP(DATE(YEAR($A$3),W3,R12),祝日!$C$6:$D$28,2,0))","v":""},null,{"$f":"IF(AND(W3=7,T6=0),祝日!$D$16,IF(ISERROR(VLOOKUP(DATE(YEAR($A$3),W3,T12),祝日!$C$6:$D$28,2,0)),\"\",VLOOKUP(DATE(YEAR($A$3),W3,T12),祝日!$C$6:$D$28,2,0)))","v":"海の日"},null,{"$f":"IF(ISERROR(VLOOKUP(DATE(YEAR($A$3),W3,V12),祝日!$C$6:$D$28,2,0)),\"\",VLOOKUP(DATE(YEAR($A$3),W3,V12),祝日!$C$6:$D$28,2,0))","v":""},null,{"$f":"IF(ISERROR(VLOOKUP(DATE(YEAR($A$3),W3,X12),祝日!$C$6:$D$28,2,0)),\"\",VLOOKUP(DATE(YEAR($A$3),W3,X12),祝日!$C$6:$D$28,2,0))","v":""},null,{"$f":"IF(ISERROR(VLOOKUP(DATE(YEAR($A$3),W3,Z12),祝日!$C$6:$D$28,2,0)),\"\",VLOOKUP(DATE(YEAR($A$3),W3,Z12),祝日!$C$6:$D$28,2,0))","v":"海の日"},null,{"$f":"IF(ISERROR(VLOOKUP(DATE(YEAR($A$3),W3,AB12),祝日!$C$6:$D$28,2,0)),\"\",VLOOKUP(DATE(YEAR($A$3),W3,AB12),祝日!$C$6:$D$28,2,0))","v":"スポーツの日"},null,{"$f":"IF(ISERROR(VLOOKUP(DATE(YEAR($A$3),W3,AD12),祝日!$C$6:$D$28,2,0)),\"\",VLOOKUP(DATE(YEAR($A$3),W3,AD12),祝日!$C$6:$D$28,2,0))","v":""}]
[null,null,{"$f":"IF(AND(O12<DAY(DATE(YEAR($A$3),H3+1,0)),O12>0),O12+1,0)","v":26},null,{"$f":"IF(AND(C14<DAY(DATE(YEAR($A$3),H3+1,0)),C14>0),C14+1,0)","v":27},null,{"$f":"IF(AND(E14<DAY(DATE(YEAR($A$3),H3+1,0)),E14>0),E14+1,0)","v":28},null,{"$f":"IF(AND(G14<DAY(DATE(YEAR($A$3),H3+1,0)),G14>0),G14+1,0)","v":29},null,{"$f":"IF(AND(I14<DAY(DATE(YEAR($A$3),H3+1,0)),I14>0),I14+1,0)","v":30},null,{"$f":"IF(AND(K14<DAY(DATE(YEAR($A$3),H3+1,0)),K14>0),K14+1,0)","v":31},null,{"$f":"IF(AND(M14<DAY(DATE(YEAR($A$3),H3+1,0)),M14>0),M14+1,0)","v":0},null,null,{"$f":"IF(AND(AD12<DAY(DATE(YEAR($A$3),W3+1,0)),AD12>0),AD12+1,0)","v":26},null,{"$f":"IF(AND(R14<DAY(DATE(YEAR($A$3),W3+1,0)),R14>0),R14+1,0)","v":27},null,{"$f":"IF(AND(T14<DAY(DATE(YEAR($A$3),W3+1,0)),T14>0),T14+1,0)","v":28},null,{"$f":"IF(AND(V14<DAY(DATE(YEAR($A$3),W3+1,0)),V14>0),V14+1,0)","v":29},null,{"$f":"IF(AND(X14<DAY(DATE(YEAR($A$3),W3+1,0)),X14>0),X14+1,0)","v":30},null,{"$f":"IF(AND(Z14<DAY(DATE(YEAR($A$3),W3+1,0)),Z14>0),Z14+1,0)","v":31},null,{"$f":"IF(AND(AB14<DAY(DATE(YEAR($A$3),W3+1,0)),AB14>0),AB14+1,0)","v":0}]
[null,null,{"$f":"IF(ISERROR(VLOOKUP(DATE(YEAR($A$3),H3,C14),祝日!$C$6:$D$28,2,0)),\"\",VLOOKUP(DATE(YEAR($A$3),H3,C14),祝日!$C$6:$D$28,2,0))","v":""},null,{"$f":"IF(ISERROR(VLOOKUP(DATE(YEAR($A$3),H3,E14),祝日!$C$6:$D$28,2,0)),\"\",VLOOKUP(DATE(YEAR($A$3),H3,E14),祝日!$C$6:$D$28,2,0))","v":""},null,{"$f":"IF(ISERROR(VLOOKUP(DATE(YEAR($A$3),H3,G14),祝日!$C$6:$D$28,2,0)),\"\",VLOOKUP(DATE(YEAR($A$3),H3,G14),祝日!$C$6:$D$28,2,0))","v":""},null,{"$f":"IF(ISERROR(VLOOKUP(DATE(YEAR($A$3),H3,I14),祝日!$C$6:$D$28,2,0)),\"\",VLOOKUP(DATE(YEAR($A$3),H3,I14),祝日!$C$6:$D$28,2,0))","v":""},null,{"$f":"IF(ISERROR(VLOOKUP(DATE(YEAR($A$3),H3,K14),祝日!$C$6:$D$28,2,0)),\"\",VLOOKUP(DATE(YEAR($A$3),H3,K14),祝日!$C$6:$D$28,2,0))","v":""},null,{"$f":"IF(ISERROR(VLOOKUP(DATE(YEAR($A$3),H3,M14),祝日!$C$6:$D$28,2,0)),\"\",VLOOKUP(DATE(YEAR($A$3),H3,M14),祝日!$C$6:$D$28,2,0))","v":""},null,{"$f":"IF(ISERROR(VLOOKUP(DATE(YEAR($A$3),H3,O14),祝日!$C$6:$D$28,2,0)),\"\",VLOOKUP(DATE(YEAR($A$3),H3,O14),祝日!$C$6:$D$28,2,0))","v":""},null,null,{"$f":"IF(ISERROR(VLOOKUP(DATE(YEAR($A$3),W3,R14),祝日!$C$6:$D$28,2,0)),\"\",VLOOKUP(DATE(YEAR($A$3),W3,R14),祝日!$C$6:$D$28,2,0))","v":""},null,{"$f":"IF(ISERROR(VLOOKUP(DATE(YEAR($A$3),W3,T14),祝日!$C$6:$D$28,2,0)),\"\",VLOOKUP(DATE(YEAR($A$3),W3,T14),祝日!$C$6:$D$28,2,0))","v":""},null,{"$f":"IF(ISERROR(VLOOKUP(DATE(YEAR($A$3),W3,V14),祝日!$C$6:$D$28,2,0)),\"\",VLOOKUP(DATE(YEAR($A$3),W3,V14),祝日!$C$6:$D$28,2,0))","v":""},null,{"$f":"IF(ISERROR(VLOOKUP(DATE(YEAR($A$3),W3,X14),祝日!$C$6:$D$28,2,0)),\"\",VLOOKUP(DATE(YEAR($A$3),W3,X14),祝日!$C$6:$D$28,2,0))","v":""},null,{"$f":"IF(ISERROR(VLOOKUP(DATE(YEAR($A$3),W3,Z14),祝日!$C$6:$D$28,2,0)),\"\",VLOOKUP(DATE(YEAR($A$3),W3,Z14),祝日!$C$6:$D$28,2,0))","v":""},null,{"$f":"IF(ISERROR(VLOOKUP(DATE(YEAR($A$3),W3,AB14),祝日!$C$6:$D$28,2,0)),\"\",VLOOKUP(DATE(YEAR($A$3),W3,AB14),祝日!$C$6:$D$28,2,0))","v":""},null,{"$f":"IF(ISERROR(VLOOKUP(DATE(YEAR($A$3),W3,AD14),祝日!$C$6:$D$28,2,0)),\"\",VLOOKUP(DATE(YEAR($A$3),W3,AD14),祝日!$C$6:$D$28,2,0))","v":""}]
[null,null,{"$f":"IF(AND(O14<DAY(DATE(YEAR($A$3),H3+1,0)),O14>0),O14+1,0)","v":0},null,{"$f":"IF(AND(C16<DAY(DATE(YEAR($A$3),H3+1,0)),C16>0),C16+1,0)","v":0},null,{"$f":"IF(AND(E16<DAY(DATE(YEAR($A$3),H3+1,0)),E16>0),E16+1,0)","v":0},null,{"$f":"IF(AND(G16<DAY(DATE(YEAR($A$3),H3+1,0)),G16>0),G16+1,0)","v":0},null,{"$f":"IF(AND(I16<DAY(DATE(YEAR($A$3),H3+1,0)),I16>0),I16+1,0)","v":0},null,{"$f":"IF(AND(K16<DAY(DATE(YEAR($A$3),H3+1,0)),K16>0),K16+1,0)","v":0},null,{"$f":"IF(AND(M16<DAY(DATE(YEAR($A$3),H3+1,0)),M16>0),M16+1,0)","v":0},null,null,{"$f":"IF(AND(AD14<DAY(DATE(YEAR($A$3),W3+1,0)),AD14>0),AD14+1,0)","v":0},null,{"$f":"IF(AND(R16<DAY(DATE(YEAR($A$3),W3+1,0)),R16>0),R16+1,0)","v":0},null,{"$f":"IF(AND(T16<DAY(DATE(YEAR($A$3),W3+1,0)),T16>0),T16+1,0)","v":0},null,{"$f":"IF(AND(V16<DAY(DATE(YEAR($A$3),W3+1,0)),V16>0),V16+1,0)","v":0},null,{"$f":"IF(AND(X16<DAY(DATE(YEAR($A$3),W3+1,0)),X16>0),X16+1,0)","v":0},null,{"$f":"IF(AND(Z16<DAY(DATE(YEAR($A$3),W3+1,0)),Z16>0),Z16+1,0)","v":0},null,{"$f":"IF(AND(AB16<DAY(DATE(YEAR($A$3),W3+1,0)),AB16>0),AB16+1,0)","v":0}]
[null,null,{"$f":"IF(ISERROR(VLOOKUP(DATE(YEAR($A$3),H3,C16),祝日!$C$6:$D$28,2,0)),\"\",VLOOKUP(DATE(YEAR($A$3),H3,C16),祝日!$C$6:$D$28,2,0))","v":""},null,{"$f":"IF(ISERROR(VLOOKUP(DATE(YEAR($A$3),H3,E16),祝日!$C$6:$D$28,2,0)),\"\",VLOOKUP(DATE(YEAR($A$3),H3,E16),祝日!$C$6:$D$28,2,0))","v":""},null,{"$f":"IF(ISERROR(VLOOKUP(DATE(YEAR($A$3),H3,G16),祝日!$C$6:$D$28,2,0)),\"\",VLOOKUP(DATE(YEAR($A$3),H3,G16),祝日!$C$6:$D$28,2,0))","v":""},null,{"$f":"IF(ISERROR(VLOOKUP(DATE(YEAR($A$3),H3,I16),祝日!$C$6:$D$28,2,0)),\"\",VLOOKUP(DATE(YEAR($A$3),H3,I16),祝日!$C$6:$D$28,2,0))","v":""},null,{"$f":"IF(ISERROR(VLOOKUP(DATE(YEAR($A$3),H3,K16),祝日!$C$6:$D$28,2,0)),\"\",VLOOKUP(DATE(YEAR($A$3),H3,K16),祝日!$C$6:$D$28,2,0))","v":""},null,{"$f":"IF(ISERROR(VLOOKUP(DATE(YEAR($A$3),H3,M16),祝日!$C$6:$D$28,2,0)),\"\",VLOOKUP(DATE(YEAR($A$3),H3,M16),祝日!$C$6:$D$28,2,0))","v":""},null,{"$f":"IF(ISERROR(VLOOKUP(DATE(YEAR($A$3),H3,O16),祝日!$C$6:$D$28,2,0)),\"\",VLOOKUP(DATE(YEAR($A$3),H3,O16),祝日!$C$6:$D$28,2,0))","v":""},null,null,{"$f":"IF(ISERROR(VLOOKUP(DATE(YEAR($A$3),W3,R16),祝日!$C$6:$D$28,2,0)),\"\",VLOOKUP(DATE(YEAR($A$3),W3,R16),祝日!$C$6:$D$28,2,0))","v":""},null,{"$f":"IF(ISERROR(VLOOKUP(DATE(YEAR($A$3),W3,T16),祝日!$C$6:$D$28,2,0)),\"\",VLOOKUP(DATE(YEAR($A$3),W3,T16),祝日!$C$6:$D$28,2,0))","v":""},null,{"$f":"IF(ISERROR(VLOOKUP(DATE(YEAR($A$3),W3,V16),祝日!$C$6:$D$28,2,0)),\"\",VLOOKUP(DATE(YEAR($A$3),W3,V16),祝日!$C$6:$D$28,2,0))","v":""},null,{"$f":"IF(ISERROR(VLOOKUP(DATE(YEAR($A$3),W3,X16),祝日!$C$6:$D$28,2,0)),\"\",VLOOKUP(DATE(YEAR($A$3),W3,X16),祝日!$C$6:$D$28,2,0))","v":""},null,{"$f":"IF(ISERROR(VLOOKUP(DATE(YEAR($A$3),W3,Z16),祝日!$C$6:$D$28,2,0)),\"\",VLOOKUP(DATE(YEAR($A$3),W3,Z16),祝日!$C$6:$D$28,2,0))","v":""},null,{"$f":"IF(ISERROR(VLOOKUP(DATE(YEAR($A$3),W3,AB16),祝日!$C$6:$D$28,2,0)),\"\",VLOOKUP(DATE(YEAR($A$3),W3,AB16),祝日!$C$6:$D$28,2,0))","v":""},null,{"$f":"IF(ISERROR(VLOOKUP(DATE(YEAR($A$3),W3,AD16),祝日!$C$6:$D$28,2,0)),\"\",VLOOKUP(DATE(YEAR($A$3),W3,AD16),祝日!$C$6:$D$28,2,0))","v":""}]
[null,null,{"$f":"祝日!$A$33","v":"メルパソコン教室"},null,null,null,null,null,null,null,null,{"$f":"祝日!$D$33","v":"049-295-8641"},null,null,null,null,null,{"$f":"祝日!$A$33","v":"メルパソコン教室"},null,null,null,null,null,null,null,null,{"$f":"祝日!$D$33","v":"049-295-8641"}]
[]
[null,null,{"$f":"DATE(YEAR($A$3),H20,DAY($A$3))","v":"2020-02-01"},null,null,null,null,{"$f":"MONTH($A$3)+1","v":2},null,null,null,{"$f":"$M$2","v":2020},null,null,null,null,null,{"$f":"DATE(YEAR($A$3),W20,DAY($A$3))","v":"2020-08-01"},null,null,null,null,{"$f":"MONTH($A$3)+7","v":8},null,null,null,{"$f":"$M$2","v":2020}]
[]
[null,null,"日",null,"月",null,"火",null,"水",null,"木",null,"金",null,"土",null,null,"日",null,"月",null,"火",null,"水",null,"木",null,"金",null,"土"]
[null,null,{"$f":"IF(WEEKDAY(DATE(YEAR($A$3),H20,DAY($A$3)))=1,1,0)","v":0},null,{"$f":"IF(WEEKDAY(DATE(YEAR($A$3),H20,DAY($A$3)))=2,1,IF(C23>0,C23+1,0))","v":0},null,{"$f":"IF(WEEKDAY(DATE(YEAR($A$3),H20,DAY($A$3)))=3,1,IF(E23>0,E23+1,0))","v":0},null,{"$f":"IF(WEEKDAY(DATE(YEAR($A$3),H20,DAY($A$3)))=4,1,IF(G23>0,G23+1,0))","v":0},null,{"$f":"IF(WEEKDAY(DATE(YEAR($A$3),H20,DAY($A$3)))=5,1,IF(I23>0,I23+1,0))","v":0},null,{"$f":"IF(WEEKDAY(DATE(YEAR($A$3),H20,DAY($A$3)))=6,1,IF(K23>0,K23+1,0))","v":0},null,{"$f":"IF(WEEKDAY(DATE(YEAR($A$3),H20,DAY($A$3)))=7,1,IF(M23>0,M23+1,0))","v":1},null,null,{"$f":"IF(WEEKDAY(DATE(YEAR($A$3),W20,DAY($A$3)))=1,1,0)","v":0},null,{"$f":"IF(WEEKDAY(DATE(YEAR($A$3),W20,DAY($A$3)))=2,1,IF(R23>0,R23+1,0))","v":0},null,{"$f":"IF(WEEKDAY(DATE(YEAR($A$3),W20,DAY($A$3)))=3,1,IF(T23>0,T23+1,0))","v":0},null,{"$f":"IF(WEEKDAY(DATE(YEAR($A$3),W20,DAY($A$3)))=4,1,IF(V23>0,V23+1,0))","v":0},null,{"$f":"IF(WEEKDAY(DATE(YEAR($A$3),W20,DAY($A$3)))=5,1,IF(X23>0,X23+1,0))","v":0},null,{"$f":"IF(WEEKDAY(DATE(YEAR($A$3),W20,DAY($A$3)))=6,1,IF(Z23>0,Z23+1,0))","v":0},null,{"$f":"IF(WEEKDAY(DATE(YEAR($A$3),W20,DAY($A$3)))=7,1,IF(AB23>0,AB23+1,0))","v":1}]
[null,null,{"$f":"IF(ISERROR(VLOOKUP(DATE(YEAR($A$3),H20,C23),祝日!$C$6:$D$28,2,0)),\"\",VLOOKUP(DATE(YEAR($A$3),H20,C23),祝日!$C$6:$D$28,2,0))","v":""},null,{"$f":"IF(ISERROR(VLOOKUP(DATE(YEAR($A$3),H20,E23),祝日!$C$6:$D$28,2,0)),\"\",VLOOKUP(DATE(YEAR($A$3),H20,E23),祝日!$C$6:$D$28,2,0))","v":""},null,{"$f":"IF(ISERROR(VLOOKUP(DATE(YEAR($A$3),H20,G23),祝日!$C$6:$D$28,2,0)),\"\",VLOOKUP(DATE(YEAR($A$3),H20,G23),祝日!$C$6:$D$28,2,0))","v":""},null,{"$f":"IF(ISERROR(VLOOKUP(DATE(YEAR($A$3),H20,I23),祝日!$C$6:$D$28,2,0)),\"\",VLOOKUP(DATE(YEAR($A$3),H20,I23),祝日!$C$6:$D$28,2,0))","v":""},null,{"$f":"IF(ISERROR(VLOOKUP(DATE(YEAR($A$3),H20,K23),祝日!$C$6:$D$28,2,0)),\"\",VLOOKUP(DATE(YEAR($A$3),H20,K23),祝日!$C$6:$D$28,2,0))","v":""},null,{"$f":"IF(ISERROR(VLOOKUP(DATE(YEAR($A$3),H20,M23),祝日!$C$6:$D$28,2,0)),\"\",VLOOKUP(DATE(YEAR($A$3),H20,M23),祝日!$C$6:$D$28,2,0))","v":""},null,{"$f":"IF(ISERROR(VLOOKUP(DATE(YEAR($A$3),H20,O23),祝日!$C$6:$D$28,2,0)),\"\",VLOOKUP(DATE(YEAR($A$3),H20,O23),祝日!$C$6:$D$28,2,0))","v":""},null,null,{"$f":"IF(ISERROR(VLOOKUP(DATE(YEAR($A$3),W20,R23),祝日!$C$6:$D$28,2,0)),\"\",VLOOKUP(DATE(YEAR($A$3),W20,R23),祝日!$C$6:$D$28,2,0))","v":""},null,{"$f":"IF(ISERROR(VLOOKUP(DATE(YEAR($A$3),W20,T23),祝日!$C$6:$D$28,2,0)),\"\",VLOOKUP(DATE(YEAR($A$3),W20,T23),祝日!$C$6:$D$28,2,0))","v":""},null,{"$f":"IF(ISERROR(VLOOKUP(DATE(YEAR($A$3),W20,V23),祝日!$C$6:$D$28,2,0)),\"\",VLOOKUP(DATE(YEAR($A$3),W20,V23),祝日!$C$6:$D$28,2,0))","v":""},null,{"$f":"IF(ISERROR(VLOOKUP(DATE(YEAR($A$3),W20,X23),祝日!$C$6:$D$28,2,0)),\"\",VLOOKUP(DATE(YEAR($A$3),W20,X23),祝日!$C$6:$D$28,2,0))","v":""},null,{"$f":"IF(ISERROR(VLOOKUP(DATE(YEAR($A$3),W20,Z23),祝日!$C$6:$D$28,2,0)),\"\",VLOOKUP(DATE(YEAR($A$3),W20,Z23),祝日!$C$6:$D$28,2,0))","v":""},null,{"$f":"IF(ISERROR(VLOOKUP(DATE(YEAR($A$3),W20,AB23),祝日!$C$6:$D$28,2,0)),\"\",VLOOKUP(DATE(YEAR($A$3),W20,AB23),祝日!$C$6:$D$28,2,0))","v":""},null,{"$f":"IF(ISERROR(VLOOKUP(DATE(YEAR($A$3),W20,AD23),祝日!$C$6:$D$28,2,0)),\"\",VLOOKUP(DATE(YEAR($A$3),W20,AD23),祝日!$C$6:$D$28,2,0))","v":""}]
[null,null,{"$f":"O23+1","v":2},{"$f":"IF(ISERROR(VLOOKUP(DATE(YEAR($A$3),H20,C25),祝日!$C$6:$D$28,3,0)),\"\",(VLOOKUP(DATE(YEAR($A$3),H20,C25),祝日!$C$6:$D$28,3,0)))","v":""},{"$f":"C25+1","v":3},null,{"$f":"E25+1","v":4},null,{"$f":"G25+1","v":5},null,{"$f":"I25+1","v":6},null,{"$f":"K25+1","v":7},null,{"$f":"M25+1","v":8},null,null,{"$f":"AD23+1","v":2},{"$f":"IF(ISERROR(VLOOKUP(DATE(YEAR($A$3),W20,R25),祝日!$C$6:$D$28,3,0)),\"\",(VLOOKUP(DATE(YEAR($A$3),W20,R25),祝日!$C$6:$D$28,3,0)))","v":""},{"$f":"R25+1","v":3},null,{"$f":"T25+1","v":4},null,{"$f":"V25+1","v":5},null,{"$f":"X25+1","v":6},null,{"$f":"Z25+1","v":7},null,{"$f":"AB25+1","v":8}]
[null,null,{"$f":"IF(ISERROR(VLOOKUP(DATE(YEAR($A$3),H20,C25),祝日!$C$6:$D$28,2,0)),\"\",VLOOKUP(DATE(YEAR($A$3),H20,C25),祝日!$C$6:$D$28,2,0))","v":""},null,{"$f":"IF(AND(H20=1,E23>0),#REF!,IF(ISERROR(VLOOKUP(DATE(YEAR($A$3),H20,E25),祝日!$C$6:$D$28,2,0)),\"\",VLOOKUP(DATE(YEAR($A$3),H20,E25),祝日!$C$6:$D$28,2,0)))","v":""},null,{"$f":"IF(ISERROR(VLOOKUP(DATE(YEAR($A$3),H20,G25),祝日!$C$6:$D$28,2,0)),\"\",VLOOKUP(DATE(YEAR($A$3),H20,G25),祝日!$C$6:$D$28,2,0))","v":""},null,{"$f":"IF(ISERROR(VLOOKUP(DATE(YEAR($A$3),H20,I25),祝日!$C$6:$D$28,2,0)),\"\",VLOOKUP(DATE(YEAR($A$3),H20,I25),祝日!$C$6:$D$28,2,0))","v":""},null,{"$f":"IF(ISERROR(VLOOKUP(DATE(YEAR($A$3),H20,K25),祝日!$C$6:$D$28,2,0)),\"\",VLOOKUP(DATE(YEAR($A$3),H20,K25),祝日!$C$6:$D$28,2,0))","v":""},null,{"$f":"IF(ISERROR(VLOOKUP(DATE(YEAR($A$3),H20,M25),祝日!$C$6:$D$28,2,0)),\"\",VLOOKUP(DATE(YEAR($A$3),H20,M25),祝日!$C$6:$D$28,2,0))","v":""},null,{"$f":"IF(ISERROR(VLOOKUP(DATE(YEAR($A$3),H20,O25),祝日!$C$6:$D$28,2,0)),\"\",VLOOKUP(DATE(YEAR($A$3),H20,O25),祝日!$C$6:$D$28,2,0))","v":""},null,null,{"$f":"IF(ISERROR(VLOOKUP(DATE(YEAR($A$3),W20,R25),祝日!$C$6:$D$28,2,0)),\"\",VLOOKUP(DATE(YEAR($A$3),W20,R25),祝日!$C$6:$D$28,2,0))","v":""},null,{"$f":"IF(AND(W20=1,T23>0),#REF!,IF(ISERROR(VLOOKUP(DATE(YEAR($A$3),W20,T25),祝日!$C$6:$D$28,2,0)),\"\",VLOOKUP(DATE(YEAR($A$3),W20,T25),祝日!$C$6:$D$28,2,0)))","v":""},null,{"$f":"IF(ISERROR(VLOOKUP(DATE(YEAR($A$3),W20,V25),祝日!$C$6:$D$28,2,0)),\"\",VLOOKUP(DATE(YEAR($A$3),W20,V25),祝日!$C$6:$D$28,2,0))","v":""},null,{"$f":"IF(ISERROR(VLOOKUP(DATE(YEAR($A$3),W20,X25),祝日!$C$6:$D$28,2,0)),\"\",VLOOKUP(DATE(YEAR($A$3),W20,X25),祝日!$C$6:$D$28,2,0))","v":""},null,{"$f":"IF(ISERROR(VLOOKUP(DATE(YEAR($A$3),W20,Z25),祝日!$C$6:$D$28,2,0)),\"\",VLOOKUP(DATE(YEAR($A$3),W20,Z25),祝日!$C$6:$D$28,2,0))","v":""},null,{"$f":"IF(ISERROR(VLOOKUP(DATE(YEAR($A$3),W20,AB25),祝日!$C$6:$D$28,2,0)),\"\",VLOOKUP(DATE(YEAR($A$3),W20,AB25),祝日!$C$6:$D$28,2,0))","v":""},null,{"$f":"IF(ISERROR(VLOOKUP(DATE(YEAR($A$3),W20,AD25),祝日!$C$6:$D$28,2,0)),\"\",VLOOKUP(DATE(YEAR($A$3),W20,AD25),祝日!$C$6:$D$28,2,0))","v":""}]
[null,null,{"$f":"O25+1","v":9},null,{"$f":"C27+1","v":10},null,{"$f":"E27+1","v":11},null,{"$f":"G27+1","v":12},null,{"$f":"I27+1","v":13},null,{"$f":"K27+1","v":14},null,{"$f":"M27+1","v":15},null,null,{"$f":"AD25+1","v":9},null,{"$f":"R27+1","v":10},null,{"$f":"T27+1","v":11},null,{"$f":"V27+1","v":12},null,{"$f":"X27+1","v":13},null,{"$f":"Z27+1","v":14},null,{"$f":"AB27+1","v":15}]
[null,null,{"$f":"IF(ISERROR(VLOOKUP(DATE(YEAR($A$3),H20,C27),祝日!$C$6:$D$28,2,0)),\"\",VLOOKUP(DATE(YEAR($A$3),H20,C27),祝日!$C$6:$D$28,2,0))","v":""},null,{"$f":"IF(AND(H20=1,E23=0),祝日!$D$7,IF(ISERROR(VLOOKUP(DATE(YEAR($A$3),H20,E27),祝日!$C$6:$D$28,2,0)),\"\",VLOOKUP(DATE(YEAR($A$3),H20,E27),祝日!$C$6:$D$28,2,0)))","v":""},null,{"$f":"IF(ISERROR(VLOOKUP(DATE(YEAR($A$3),H20,G27),祝日!$C$6:$D$28,2,0)),\"\",VLOOKUP(DATE(YEAR($A$3),H20,G27),祝日!$C$6:$D$28,2,0))","v":"建国記念の日"},null,{"$f":"IF(ISERROR(VLOOKUP(DATE(YEAR($A$3),H20,I27),祝日!$C$6:$D$28,2,0)),\"\",VLOOKUP(DATE(YEAR($A$3),H20,I27),祝日!$C$6:$D$28,2,0))","v":""},null,{"$f":"IF(ISERROR(VLOOKUP(DATE(YEAR($A$3),H20,K27),祝日!$C$6:$D$28,2,0)),\"\",VLOOKUP(DATE(YEAR($A$3),H20,K27),祝日!$C$6:$D$28,2,0))","v":""},null,{"$f":"IF(ISERROR(VLOOKUP(DATE(YEAR($A$3),H20,M27),祝日!$C$6:$D$28,2,0)),\"\",VLOOKUP(DATE(YEAR($A$3),H20,M27),祝日!$C$6:$D$28,2,0))","v":""},null,{"$f":"IF(ISERROR(VLOOKUP(DATE(YEAR($A$3),H20,O27),祝日!$C$6:$D$28,2,0)),\"\",VLOOKUP(DATE(YEAR($A$3),H20,O27),祝日!$C$6:$D$28,2,0))","v":""},null,null,{"$f":"IF(ISERROR(VLOOKUP(DATE(YEAR($A$3),W20,R27),祝日!$C$6:$D$28,2,0)),\"\",VLOOKUP(DATE(YEAR($A$3),W20,R27),祝日!$C$6:$D$28,2,0))","v":""},null,{"$f":"IF(AND(W20=1,T23=0),祝日!$D$7,IF(ISERROR(VLOOKUP(DATE(YEAR($A$3),W20,T27),祝日!$C$6:$D$28,2,0)),\"\",VLOOKUP(DATE(YEAR($A$3),W20,T27),祝日!$C$6:$D$28,2,0)))","v":""},null,{"$f":"IF(ISERROR(VLOOKUP(DATE(YEAR($A$3),W20,V27),祝日!$C$6:$D$28,2,0)),\"\",VLOOKUP(DATE(YEAR($A$3),W20,V27),祝日!$C$6:$D$28,2,0))","v":""},null,{"$f":"IF(ISERROR(VLOOKUP(DATE(YEAR($A$3),W20,X27),祝日!$C$6:$D$28,2,0)),\"\",VLOOKUP(DATE(YEAR($A$3),W20,X27),祝日!$C$6:$D$28,2,0))","v":""},null,{"$f":"IF(ISERROR(VLOOKUP(DATE(YEAR($A$3),W20,Z27),祝日!$C$6:$D$28,2,0)),\"\",VLOOKUP(DATE(YEAR($A$3),W20,Z27),祝日!$C$6:$D$28,2,0))","v":""},null,{"$f":"IF(ISERROR(VLOOKUP(DATE(YEAR($A$3),W20,AB27),祝日!$C$6:$D$28,2,0)),\"\",VLOOKUP(DATE(YEAR($A$3),W20,AB27),祝日!$C$6:$D$28,2,0))","v":""},null,{"$f":"IF(ISERROR(VLOOKUP(DATE(YEAR($A$3),W20,AD27),祝日!$C$6:$D$28,2,0)),\"\",VLOOKUP(DATE(YEAR($A$3),W20,AD27),祝日!$C$6:$D$28,2,0))","v":""}]
[null,null,{"$f":"O27+1","v":16},null,{"$f":"C29+1","v":17},null,{"$f":"E29+1","v":18},null,{"$f":"G29+1","v":19},null,{"$f":"I29+1","v":20},null,{"$f":"K29+1","v":21},null,{"$f":"M29+1","v":22},null,null,{"$f":"AD27+1","v":16},null,{"$f":"R29+1","v":17},null,{"$f":"T29+1","v":18},null,{"$f":"V29+1","v":19},null,{"$f":"X29+1","v":20},null,{"$f":"Z29+1","v":21},null,{"$f":"AB29+1","v":22}]
[null,null,{"$f":"IF(ISERROR(VLOOKUP(DATE(YEAR($A$3),H20,C29),祝日!$C$6:$D$28,2,0)),\"\",VLOOKUP(DATE(YEAR($A$3),H20,C29),祝日!$C$6:$D$28,2,0))","v":""},null,{"$f":"IF(ISERROR(VLOOKUP(DATE(YEAR($A$3),H20,E29),祝日!$C$6:$D$28,2,0)),\"\",VLOOKUP(DATE(YEAR($A$3),H20,E29),祝日!$C$6:$D$28,2,0))","v":""},null,{"$f":"IF(ISERROR(VLOOKUP(DATE(YEAR($A$3),H20,G29),祝日!$C$6:$D$28,2,0)),\"\",VLOOKUP(DATE(YEAR($A$3),H20,G29),祝日!$C$6:$D$28,2,0))","v":""},null,{"$f":"IF(ISERROR(VLOOKUP(DATE(YEAR($A$3),H20,I29),祝日!$C$6:$D$28,2,0)),\"\",VLOOKUP(DATE(YEAR($A$3),H20,I29),祝日!$C$6:$D$28,2,0))","v":""},null,{"$f":"IF(ISERROR(VLOOKUP(DATE(YEAR($A$3),H20,K29),祝日!$C$6:$D$28,2,0)),\"\",VLOOKUP(DATE(YEAR($A$3),H20,K29),祝日!$C$6:$D$28,2,0))","v":""},null,{"$f":"IF(ISERROR(VLOOKUP(DATE(YEAR($A$3),H20,M29),祝日!$C$6:$D$28,2,0)),\"\",VLOOKUP(DATE(YEAR($A$3),H20,M29),祝日!$C$6:$D$28,2,0))","v":""},null,{"$f":"IF(ISERROR(VLOOKUP(DATE(YEAR($A$3),H20,O29),祝日!$C$6:$D$28,2,0)),\"\",VLOOKUP(DATE(YEAR($A$3),H20,O29),祝日!$C$6:$D$28,2,0))","v":""},null,null,{"$f":"IF(ISERROR(VLOOKUP(DATE(YEAR($A$3),W20,R29),祝日!$C$6:$D$28,2,0)),\"\",VLOOKUP(DATE(YEAR($A$3),W20,R29),祝日!$C$6:$D$28,2,0))","v":""},null,{"$f":"IF(ISERROR(VLOOKUP(DATE(YEAR($A$3),W20,T29),祝日!$C$6:$D$28,2,0)),\"\",VLOOKUP(DATE(YEAR($A$3),W20,T29),祝日!$C$6:$D$28,2,0))","v":""},null,{"$f":"IF(ISERROR(VLOOKUP(DATE(YEAR($A$3),W20,V29),祝日!$C$6:$D$28,2,0)),\"\",VLOOKUP(DATE(YEAR($A$3),W20,V29),祝日!$C$6:$D$28,2,0))","v":""},null,{"$f":"IF(ISERROR(VLOOKUP(DATE(YEAR($A$3),W20,X29),祝日!$C$6:$D$28,2,0)),\"\",VLOOKUP(DATE(YEAR($A$3),W20,X29),祝日!$C$6:$D$28,2,0))","v":""},null,{"$f":"IF(ISERROR(VLOOKUP(DATE(YEAR($A$3),W20,Z29),祝日!$C$6:$D$28,2,0)),\"\",VLOOKUP(DATE(YEAR($A$3),W20,Z29),祝日!$C$6:$D$28,2,0))","v":""},null,{"$f":"IF(ISERROR(VLOOKUP(DATE(YEAR($A$3),W20,AB29),祝日!$C$6:$D$28,2,0)),\"\",VLOOKUP(DATE(YEAR($A$3),W20,AB29),祝日!$C$6:$D$28,2,0))","v":""},null,{"$f":"IF(ISERROR(VLOOKUP(DATE(YEAR($A$3),W20,AD29),祝日!$C$6:$D$28,2,0)),\"\",VLOOKUP(DATE(YEAR($A$3),W20,AD29),祝日!$C$6:$D$28,2,0))","v":""}]
[null,null,{"$f":"IF(AND(O29<DAY(DATE(YEAR($A$3),H20+1,0)),O29>0),O29+1,0)","v":23},null,{"$f":"IF(AND(C31<DAY(DATE(YEAR($A$3),H20+1,0)),C31>0),C31+1,0)","v":24},null,{"$f":"IF(AND(E31<DAY(DATE(YEAR($A$3),H20+1,0)),E31>0),E31+1,0)","v":25},null,{"$f":"IF(AND(G31<DAY(DATE(YEAR($A$3),H20+1,0)),G31>0),G31+1,0)","v":26},null,{"$f":"IF(AND(I31<DAY(DATE(YEAR($A$3),H20+1,0)),I31>0),I31+1,0)","v":27},null,{"$f":"IF(AND(K31<DAY(DATE(YEAR($A$3),H20+1,0)),K31>0),K31+1,0)","v":28},null,{"$f":"IF(AND(M31<DAY(DATE(YEAR($A$3),H20+1,0)),M31>0),M31+1,0)","v":29},null,null,{"$f":"IF(AND(AD29<DAY(DATE(YEAR($A$3),W20+1,0)),AD29>0),AD29+1,0)","v":23},null,{"$f":"IF(AND(R31<DAY(DATE(YEAR($A$3),W20+1,0)),R31>0),R31+1,0)","v":24},null,{"$f":"IF(AND(T31<DAY(DATE(YEAR($A$3),W20+1,0)),T31>0),T31+1,0)","v":25},null,{"$f":"IF(AND(V31<DAY(DATE(YEAR($A$3),W20+1,0)),V31>0),V31+1,0)","v":26},null,{"$f":"IF(AND(X31<DAY(DATE(YEAR($A$3),W20+1,0)),X31>0),X31+1,0)","v":27},null,{"$f":"IF(AND(Z31<DAY(DATE(YEAR($A$3),W20+1,0)),Z31>0),Z31+1,0)","v":28},null,{"$f":"IF(AND(AB31<DAY(DATE(YEAR($A$3),W20+1,0)),AB31>0),AB31+1,0)","v":29}]
[null,null,{"$f":"IF(ISERROR(VLOOKUP(DATE(YEAR($A$3),H20,C31),祝日!$C$6:$D$28,2,0)),\"\",VLOOKUP(DATE(YEAR($A$3),H20,C31),祝日!$C$6:$D$28,2,0))","v":"天皇誕生日"},null,{"$f":"IF(ISERROR(VLOOKUP(DATE(YEAR($A$3),H20,E31),祝日!$C$6:$D$28,2,0)),\"\",VLOOKUP(DATE(YEAR($A$3),H20,E31),祝日!$C$6:$D$28,2,0))","v":""},null,{"$f":"IF(ISERROR(VLOOKUP(DATE(YEAR($A$3),H20,G31),祝日!$C$6:$D$28,2,0)),\"\",VLOOKUP(DATE(YEAR($A$3),H20,G31),祝日!$C$6:$D$28,2,0))","v":""},null,{"$f":"IF(ISERROR(VLOOKUP(DATE(YEAR($A$3),H20,I31),祝日!$C$6:$D$28,2,0)),\"\",VLOOKUP(DATE(YEAR($A$3),H20,I31),祝日!$C$6:$D$28,2,0))","v":""},null,{"$f":"IF(ISERROR(VLOOKUP(DATE(YEAR($A$3),H20,K31),祝日!$C$6:$D$28,2,0)),\"\",VLOOKUP(DATE(YEAR($A$3),H20,K31),祝日!$C$6:$D$28,2,0))","v":""},null,{"$f":"IF(ISERROR(VLOOKUP(DATE(YEAR($A$3),H20,M31),祝日!$C$6:$D$28,2,0)),\"\",VLOOKUP(DATE(YEAR($A$3),H20,M31),祝日!$C$6:$D$28,2,0))","v":""},null,{"$f":"IF(ISERROR(VLOOKUP(DATE(YEAR($A$3),H20,O31),祝日!$C$6:$D$28,2,0)),\"\",VLOOKUP(DATE(YEAR($A$3),H20,O31),祝日!$C$6:$D$28,2,0))","v":""},null,null,{"$f":"IF(ISERROR(VLOOKUP(DATE(YEAR($A$3),W20,R31),祝日!$C$6:$D$28,2,0)),\"\",VLOOKUP(DATE(YEAR($A$3),W20,R31),祝日!$C$6:$D$28,2,0))","v":""},null,{"$f":"IF(ISERROR(VLOOKUP(DATE(YEAR($A$3),W20,T31),祝日!$C$6:$D$28,2,0)),\"\",VLOOKUP(DATE(YEAR($A$3),W20,T31),祝日!$C$6:$D$28,2,0))","v":""},null,{"$f":"IF(ISERROR(VLOOKUP(DATE(YEAR($A$3),W20,V31),祝日!$C$6:$D$28,2,0)),\"\",VLOOKUP(DATE(YEAR($A$3),W20,V31),祝日!$C$6:$D$28,2,0))","v":""},null,{"$f":"IF(ISERROR(VLOOKUP(DATE(YEAR($A$3),W20,X31),祝日!$C$6:$D$28,2,0)),\"\",VLOOKUP(DATE(YEAR($A$3),W20,X31),祝日!$C$6:$D$28,2,0))","v":""},null,{"$f":"IF(ISERROR(VLOOKUP(DATE(YEAR($A$3),W20,Z31),祝日!$C$6:$D$28,2,0)),\"\",VLOOKUP(DATE(YEAR($A$3),W20,Z31),祝日!$C$6:$D$28,2,0))","v":""},null,{"$f":"IF(ISERROR(VLOOKUP(DATE(YEAR($A$3),W20,AB31),祝日!$C$6:$D$28,2,0)),\"\",VLOOKUP(DATE(YEAR($A$3),W20,AB31),祝日!$C$6:$D$28,2,0))","v":""},null,{"$f":"IF(ISERROR(VLOOKUP(DATE(YEAR($A$3),W20,AD31),祝日!$C$6:$D$28,2,0)),\"\",VLOOKUP(DATE(YEAR($A$3),W20,AD31),祝日!$C$6:$D$28,2,0))","v":""}]
[null,null,{"$f":"IF(AND(O31<DAY(DATE(YEAR($A$3),H20+1,0)),O31>0),O31+1,0)","v":0},null,{"$f":"IF(AND(C33<DAY(DATE(YEAR($A$3),H20+1,0)),C33>0),C33+1,0)","v":0},null,{"$f":"IF(AND(E33<DAY(DATE(YEAR($A$3),H20+1,0)),E33>0),E33+1,0)","v":0},null,{"$f":"IF(AND(G33<DAY(DATE(YEAR($A$3),H20+1,0)),G33>0),G33+1,0)","v":0},null,{"$f":"IF(AND(I33<DAY(DATE(YEAR($A$3),H20+1,0)),I33>0),I33+1,0)","v":0},null,{"$f":"IF(AND(K33<DAY(DATE(YEAR($A$3),H20+1,0)),K33>0),K33+1,0)","v":0},null,{"$f":"IF(AND(M33<DAY(DATE(YEAR($A$3),H20+1,0)),M33>0),M33+1,0)","v":0},null,null,{"$f":"IF(AND(AD31<DAY(DATE(YEAR($A$3),W20+1,0)),AD31>0),AD31+1,0)","v":30},null,{"$f":"IF(AND(R33<DAY(DATE(YEAR($A$3),W20+1,0)),R33>0),R33+1,0)","v":31},null,{"$f":"IF(AND(T33<DAY(DATE(YEAR($A$3),W20+1,0)),T33>0),T33+1,0)","v":0},null,{"$f":"IF(AND(V33<DAY(DATE(YEAR($A$3),W20+1,0)),V33>0),V33+1,0)","v":0},null,{"$f":"IF(AND(X33<DAY(DATE(YEAR($A$3),W20+1,0)),X33>0),X33+1,0)","v":0},null,{"$f":"IF(AND(Z33<DAY(DATE(YEAR($A$3),W20+1,0)),Z33>0),Z33+1,0)","v":0},null,{"$f":"IF(AND(AB33<DAY(DATE(YEAR($A$3),W20+1,0)),AB33>0),AB33+1,0)","v":0}]
[null,null,{"$f":"IF(ISERROR(VLOOKUP(DATE(YEAR($A$3),H20,C33),祝日!$C$6:$D$28,2,0)),\"\",VLOOKUP(DATE(YEAR($A$3),H20,C33),祝日!$C$6:$D$28,2,0))","v":""},null,{"$f":"IF(ISERROR(VLOOKUP(DATE(YEAR($A$3),H20,E33),祝日!$C$6:$D$28,2,0)),\"\",VLOOKUP(DATE(YEAR($A$3),H20,E33),祝日!$C$6:$D$28,2,0))","v":""},null,{"$f":"IF(ISERROR(VLOOKUP(DATE(YEAR($A$3),H20,G33),祝日!$C$6:$D$28,2,0)),\"\",VLOOKUP(DATE(YEAR($A$3),H20,G33),祝日!$C$6:$D$28,2,0))","v":""},null,{"$f":"IF(ISERROR(VLOOKUP(DATE(YEAR($A$3),H20,I33),祝日!$C$6:$D$28,2,0)),\"\",VLOOKUP(DATE(YEAR($A$3),H20,I33),祝日!$C$6:$D$28,2,0))","v":""},null,{"$f":"IF(ISERROR(VLOOKUP(DATE(YEAR($A$3),H20,K33),祝日!$C$6:$D$28,2,0)),\"\",VLOOKUP(DATE(YEAR($A$3),H20,K33),祝日!$C$6:$D$28,2,0))","v":""},null,{"$f":"IF(ISERROR(VLOOKUP(DATE(YEAR($A$3),H20,M33),祝日!$C$6:$D$28,2,0)),\"\",VLOOKUP(DATE(YEAR($A$3),H20,M33),祝日!$C$6:$D$28,2,0))","v":""},null,{"$f":"IF(ISERROR(VLOOKUP(DATE(YEAR($A$3),H20,O33),祝日!$C$6:$D$28,2,0)),\"\",VLOOKUP(DATE(YEAR($A$3),H20,O33),祝日!$C$6:$D$28,2,0))","v":""},null,null,{"$f":"IF(ISERROR(VLOOKUP(DATE(YEAR($A$3),W20,R33),祝日!$C$6:$D$28,2,0)),\"\",VLOOKUP(DATE(YEAR($A$3),W20,R33),祝日!$C$6:$D$28,2,0))","v":""},null,{"$f":"IF(ISERROR(VLOOKUP(DATE(YEAR($A$3),W20,T33),祝日!$C$6:$D$28,2,0)),\"\",VLOOKUP(DATE(YEAR($A$3),W20,T33),祝日!$C$6:$D$28,2,0))","v":""},null,{"$f":"IF(ISERROR(VLOOKUP(DATE(YEAR($A$3),W20,V33),祝日!$C$6:$D$28,2,0)),\"\",VLOOKUP(DATE(YEAR($A$3),W20,V33),祝日!$C$6:$D$28,2,0))","v":""},null,{"$f":"IF(ISERROR(VLOOKUP(DATE(YEAR($A$3),W20,X33),祝日!$C$6:$D$28,2,0)),\"\",VLOOKUP(DATE(YEAR($A$3),W20,X33),祝日!$C$6:$D$28,2,0))","v":""},null,{"$f":"IF(ISERROR(VLOOKUP(DATE(YEAR($A$3),W20,Z33),祝日!$C$6:$D$28,2,0)),\"\",VLOOKUP(DATE(YEAR($A$3),W20,Z33),祝日!$C$6:$D$28,2,0))","v":""},null,{"$f":"IF(ISERROR(VLOOKUP(DATE(YEAR($A$3),W20,AB33),祝日!$C$6:$D$28,2,0)),\"\",VLOOKUP(DATE(YEAR($A$3),W20,AB33),祝日!$C$6:$D$28,2,0))","v":""},null,{"$f":"IF(ISERROR(VLOOKUP(DATE(YEAR($A$3),W20,AD33),祝日!$C$6:$D$28,2,0)),\"\",VLOOKUP(DATE(YEAR($A$3),W20,AD33),祝日!$C$6:$D$28,2,0))","v":""}]
[null,null,null,{"$f":"祝日!$A$33","v":"メルパソコン教室"},null,null,null,null,null,null,null,{"$f":"祝日!$D$33","v":"049-295-8641"},null,null,null,null,null,null,{"$f":"祝日!$A$33","v":"メルパソコン教室"},null,null,null,null,null,null,null,{"$f":"祝日!$D$33","v":"049-295-8641"}]
[]
[null,null,{"$f":"DATE(YEAR($A$3),H37,DAY($A$3))","v":"2020-03-01"},null,null,null,null,{"$f":"MONTH($A$3)+2","v":3},null,null,null,{"$f":"$M$2","v":2020},null,null,null,null,null,{"$f":"DATE(YEAR($A$3),W37,DAY($A$3))","v":"2020-09-01"},null,null,null,null,{"$f":"MONTH($A$3)+8","v":9},null,null,null,{"$f":"$M$2","v":2020}]
[]
[null,null,"日",null,"月",null,"火",null,"水",null,"木",null,"金",null,"土",null,null,"日",null,"月",null,"火",null,"水",null,"木",null,"金",null,"土"]
[null,null,{"$f":"IF(WEEKDAY(DATE(YEAR($A$3),H37,DAY($A$3)))=1,1,0)","v":1},null,{"$f":"IF(WEEKDAY(DATE(YEAR($A$3),H37,DAY($A$3)))=2,1,IF(C40>0,C40+1,0))","v":2},null,{"$f":"IF(WEEKDAY(DATE(YEAR($A$3),H37,DAY($A$3)))=3,1,IF(E40>0,E40+1,0))","v":3},null,{"$f":"IF(WEEKDAY(DATE(YEAR($A$3),H37,DAY($A$3)))=4,1,IF(G40>0,G40+1,0))","v":4},null,{"$f":"IF(WEEKDAY(DATE(YEAR($A$3),H37,DAY($A$3)))=5,1,IF(I40>0,I40+1,0))","v":5},null,{"$f":"IF(WEEKDAY(DATE(YEAR($A$3),H37,DAY($A$3)))=6,1,IF(K40>0,K40+1,0))","v":6},null,{"$f":"IF(WEEKDAY(DATE(YEAR($A$3),H37,DAY($A$3)))=7,1,IF(M40>0,M40+1,0))","v":7},null,null,{"$f":"IF(WEEKDAY(DATE(YEAR($A$3),W37,DAY($A$3)))=1,1,0)","v":0},null,{"$f":"IF(WEEKDAY(DATE(YEAR($A$3),W37,DAY($A$3)))=2,1,IF(R40>0,R40+1,0))","v":0},null,{"$f":"IF(WEEKDAY(DATE(YEAR($A$3),W37,DAY($A$3)))=3,1,IF(T40>0,T40+1,0))","v":1},null,{"$f":"IF(WEEKDAY(DATE(YEAR($A$3),W37,DAY($A$3)))=4,1,IF(V40>0,V40+1,0))","v":2},null,{"$f":"IF(WEEKDAY(DATE(YEAR($A$3),W37,DAY($A$3)))=5,1,IF(X40>0,X40+1,0))","v":3},null,{"$f":"IF(WEEKDAY(DATE(YEAR($A$3),W37,DAY($A$3)))=6,1,IF(Z40>0,Z40+1,0))","v":4},null,{"$f":"IF(WEEKDAY(DATE(YEAR($A$3),W37,DAY($A$3)))=7,1,IF(AB40>0,AB40+1,0))","v":5}]
[null,null,{"$f":"IF(ISERROR(VLOOKUP(DATE(YEAR($A$3),H37,C40),祝日!$C$6:$D$28,2,0)),\"\",VLOOKUP(DATE(YEAR($A$3),H37,C40),祝日!$C$6:$D$28,2,0))","v":""},null,{"$f":"IF(ISERROR(VLOOKUP(DATE(YEAR($A$3),H37,E40),祝日!$C$6:$D$28,2,0)),\"\",VLOOKUP(DATE(YEAR($A$3),H37,E40),祝日!$C$6:$D$28,2,0))","v":""},null,{"$f":"IF(ISERROR(VLOOKUP(DATE(YEAR($A$3),H37,G40),祝日!$C$6:$D$28,2,0)),\"\",VLOOKUP(DATE(YEAR($A$3),H37,G40),祝日!$C$6:$D$28,2,0))","v":""},null,{"$f":"IF(ISERROR(VLOOKUP(DATE(YEAR($A$3),H37,I40),祝日!$C$6:$D$28,2,0)),\"\",VLOOKUP(DATE(YEAR($A$3),H37,I40),祝日!$C$6:$D$28,2,0))","v":""},null,{"$f":"IF(ISERROR(VLOOKUP(DATE(YEAR($A$3),H37,K40),祝日!$C$6:$D$28,2,0)),\"\",VLOOKUP(DATE(YEAR($A$3),H37,K40),祝日!$C$6:$D$28,2,0))","v":""},null,{"$f":"IF(ISERROR(VLOOKUP(DATE(YEAR($A$3),H37,M40),祝日!$C$6:$D$28,2,0)),\"\",VLOOKUP(DATE(YEAR($A$3),H37,M40),祝日!$C$6:$D$28,2,0))","v":""},null,{"$f":"IF(ISERROR(VLOOKUP(DATE(YEAR($A$3),H37,O40),祝日!$C$6:$D$28,2,0)),\"\",VLOOKUP(DATE(YEAR($A$3),H37,O40),祝日!$C$6:$D$28,2,0))","v":""},null,null,{"$f":"IF(ISERROR(VLOOKUP(DATE(YEAR($A$3),W37,R40),祝日!$C$6:$D$28,2,0)),\"\",VLOOKUP(DATE(YEAR($A$3),W37,R40),祝日!$C$6:$D$28,2,0))","v":""},null,{"$f":"IF(ISERROR(VLOOKUP(DATE(YEAR($A$3),W37,T40),祝日!$C$6:$D$28,2,0)),\"\",VLOOKUP(DATE(YEAR($A$3),W37,T40),祝日!$C$6:$D$28,2,0))","v":""},null,{"$f":"IF(ISERROR(VLOOKUP(DATE(YEAR($A$3),W37,V40),祝日!$C$6:$D$28,2,0)),\"\",VLOOKUP(DATE(YEAR($A$3),W37,V40),祝日!$C$6:$D$28,2,0))","v":""},null,{"$f":"IF(ISERROR(VLOOKUP(DATE(YEAR($A$3),W37,X40),祝日!$C$6:$D$28,2,0)),\"\",VLOOKUP(DATE(YEAR($A$3),W37,X40),祝日!$C$6:$D$28,2,0))","v":""},null,{"$f":"IF(ISERROR(VLOOKUP(DATE(YEAR($A$3),W37,Z40),祝日!$C$6:$D$28,2,0)),\"\",VLOOKUP(DATE(YEAR($A$3),W37,Z40),祝日!$C$6:$D$28,2,0))","v":""},null,{"$f":"IF(ISERROR(VLOOKUP(DATE(YEAR($A$3),W37,AB40),祝日!$C$6:$D$28,2,0)),\"\",VLOOKUP(DATE(YEAR($A$3),W37,AB40),祝日!$C$6:$D$28,2,0))","v":""},null,{"$f":"IF(ISERROR(VLOOKUP(DATE(YEAR($A$3),W37,AD40),祝日!$C$6:$D$28,2,0)),\"\",VLOOKUP(DATE(YEAR($A$3),W37,AD40),祝日!$C$6:$D$28,2,0))","v":""}]
[null,null,{"$f":"O40+1","v":8},{"$f":"IF(ISERROR(VLOOKUP(DATE(YEAR($A$3),H37,C42),祝日!$C$6:$D$28,3,0)),\"\",(VLOOKUP(DATE(YEAR($A$3),H37,C42),祝日!$C$6:$D$28,3,0)))","v":""},{"$f":"C42+1","v":9},null,{"$f":"E42+1","v":10},null,{"$f":"G42+1","v":11},null,{"$f":"I42+1","v":12},null,{"$f":"K42+1","v":13},null,{"$f":"M42+1","v":14},null,null,{"$f":"AD40+1","v":6},{"$f":"IF(ISERROR(VLOOKUP(DATE(YEAR($A$3),W37,R42),祝日!$C$6:$D$28,3,0)),\"\",(VLOOKUP(DATE(YEAR($A$3),W37,R42),祝日!$C$6:$D$28,3,0)))","v":""},{"$f":"R42+1","v":7},null,{"$f":"T42+1","v":8},null,{"$f":"V42+1","v":9},null,{"$f":"X42+1","v":10},null,{"$f":"Z42+1","v":11},null,{"$f":"AB42+1","v":12}]
[null,null,{"$f":"IF(ISERROR(VLOOKUP(DATE(YEAR($A$3),H37,C42),祝日!$C$6:$D$28,2,0)),\"\",VLOOKUP(DATE(YEAR($A$3),H37,C42),祝日!$C$6:$D$28,2,0))","v":""},null,{"$f":"IF(AND(H37=1,E40>0),#REF!,IF(ISERROR(VLOOKUP(DATE(YEAR($A$3),H37,E42),祝日!$C$6:$D$28,2,0)),\"\",VLOOKUP(DATE(YEAR($A$3),H37,E42),祝日!$C$6:$D$28,2,0)))","v":""},null,{"$f":"IF(ISERROR(VLOOKUP(DATE(YEAR($A$3),H37,G42),祝日!$C$6:$D$28,2,0)),\"\",VLOOKUP(DATE(YEAR($A$3),H37,G42),祝日!$C$6:$D$28,2,0))","v":""},null,{"$f":"IF(ISERROR(VLOOKUP(DATE(YEAR($A$3),H37,I42),祝日!$C$6:$D$28,2,0)),\"\",VLOOKUP(DATE(YEAR($A$3),H37,I42),祝日!$C$6:$D$28,2,0))","v":""},null,{"$f":"IF(ISERROR(VLOOKUP(DATE(YEAR($A$3),H37,K42),祝日!$C$6:$D$28,2,0)),\"\",VLOOKUP(DATE(YEAR($A$3),H37,K42),祝日!$C$6:$D$28,2,0))","v":""},null,{"$f":"IF(ISERROR(VLOOKUP(DATE(YEAR($A$3),H37,M42),祝日!$C$6:$D$28,2,0)),\"\",VLOOKUP(DATE(YEAR($A$3),H37,M42),祝日!$C$6:$D$28,2,0))","v":""},null,{"$f":"IF(ISERROR(VLOOKUP(DATE(YEAR($A$3),H37,O42),祝日!$C$6:$D$28,2,0)),\"\",VLOOKUP(DATE(YEAR($A$3),H37,O42),祝日!$C$6:$D$28,2,0))","v":""},null,null,{"$f":"IF(ISERROR(VLOOKUP(DATE(YEAR($A$3),W37,R42),祝日!$C$6:$D$28,2,0)),\"\",VLOOKUP(DATE(YEAR($A$3),W37,R42),祝日!$C$6:$D$28,2,0))","v":""},null,{"$f":"IF(ISERROR(VLOOKUP(DATE(YEAR($A$3),W37,T42),祝日!$C$6:$D$28,2,0)),\"\",VLOOKUP(DATE(YEAR($A$3),W37,T42),祝日!$C$6:$D$28,2,0))","v":""},null,{"$f":"IF(ISERROR(VLOOKUP(DATE(YEAR($A$3),W37,V42),祝日!$C$6:$D$28,2,0)),\"\",VLOOKUP(DATE(YEAR($A$3),W37,V42),祝日!$C$6:$D$28,2,0))","v":""},null,{"$f":"IF(ISERROR(VLOOKUP(DATE(YEAR($A$3),W37,X42),祝日!$C$6:$D$28,2,0)),\"\",VLOOKUP(DATE(YEAR($A$3),W37,X42),祝日!$C$6:$D$28,2,0))","v":""},null,{"$f":"IF(ISERROR(VLOOKUP(DATE(YEAR($A$3),W37,Z42),祝日!$C$6:$D$28,2,0)),\"\",VLOOKUP(DATE(YEAR($A$3),W37,Z42),祝日!$C$6:$D$28,2,0))","v":""},null,{"$f":"IF(ISERROR(VLOOKUP(DATE(YEAR($A$3),W37,AB42),祝日!$C$6:$D$28,2,0)),\"\",VLOOKUP(DATE(YEAR($A$3),W37,AB42),祝日!$C$6:$D$28,2,0))","v":""},null,{"$f":"IF(ISERROR(VLOOKUP(DATE(YEAR($A$3),W37,AD42),祝日!$C$6:$D$28,2,0)),\"\",VLOOKUP(DATE(YEAR($A$3),W37,AD42),祝日!$C$6:$D$28,2,0))","v":""}]
[null,null,{"$f":"O42+1","v":15},null,{"$f":"C44+1","v":16},null,{"$f":"E44+1","v":17},null,{"$f":"G44+1","v":18},null,{"$f":"I44+1","v":19},null,{"$f":"K44+1","v":20},null,{"$f":"M44+1","v":21},null,null,{"$f":"AD42+1","v":13},null,{"$f":"R44+1","v":14},null,{"$f":"T44+1","v":15},null,{"$f":"V44+1","v":16},null,{"$f":"X44+1","v":17},null,{"$f":"Z44+1","v":18},null,{"$f":"AB44+1","v":19}]
[null,null,{"$f":"IF(ISERROR(VLOOKUP(DATE(YEAR($A$3),H37,C44),祝日!$C$6:$D$28,2,0)),\"\",VLOOKUP(DATE(YEAR($A$3),H37,C44),祝日!$C$6:$D$28,2,0))","v":""},null,{"$f":"IF(AND(H37=1,E40=0),祝日!$D$7,IF(ISERROR(VLOOKUP(DATE(YEAR($A$3),H37,E44),祝日!$C$6:$D$28,2,0)),\"\",VLOOKUP(DATE(YEAR($A$3),H37,E44),祝日!$C$6:$D$28,2,0)))","v":""},null,{"$f":"IF(ISERROR(VLOOKUP(DATE(YEAR($A$3),H37,G44),祝日!$C$6:$D$28,2,0)),\"\",VLOOKUP(DATE(YEAR($A$3),H37,G44),祝日!$C$6:$D$28,2,0))","v":""},null,{"$f":"IF(ISERROR(VLOOKUP(DATE(YEAR($A$3),H37,I44),祝日!$C$6:$D$28,2,0)),\"\",VLOOKUP(DATE(YEAR($A$3),H37,I44),祝日!$C$6:$D$28,2,0))","v":""},null,{"$f":"IF(ISERROR(VLOOKUP(DATE(YEAR($A$3),H37,K44),祝日!$C$6:$D$28,2,0)),\"\",VLOOKUP(DATE(YEAR($A$3),H37,K44),祝日!$C$6:$D$28,2,0))","v":""},null,{"$f":"IF(ISERROR(VLOOKUP(DATE(YEAR($A$3),H37,M44),祝日!$C$6:$D$28,2,0)),\"\",VLOOKUP(DATE(YEAR($A$3),H37,M44),祝日!$C$6:$D$28,2,0))","v":""},null,{"$f":"IF(ISERROR(VLOOKUP(DATE(YEAR($A$3),H37,O44),祝日!$C$6:$D$28,2,0)),\"\",VLOOKUP(DATE(YEAR($A$3),H37,O44),祝日!$C$6:$D$28,2,0))","v":"春分の日"},null,null,{"$f":"IF(ISERROR(VLOOKUP(DATE(YEAR($A$3),W37,R44),祝日!$C$6:$D$28,2,0)),\"\",VLOOKUP(DATE(YEAR($A$3),W37,R44),祝日!$C$6:$D$28,2,0))","v":""},null,{"$f":"IF(AND(W37=9,T40>0),祝日!$D$18,IF(ISERROR(VLOOKUP(DATE(YEAR($A$3),W37,T44),祝日!$C$6:$D$28,2,0)),\"\",VLOOKUP(DATE(YEAR($A$3),W37,T44),祝日!$C$6:$D$28,2,0)))","v":""},null,{"$f":"IF(ISERROR(VLOOKUP(DATE(YEAR($A$3),W37,V44),祝日!$C$6:$D$28,2,0)),\"\",VLOOKUP(DATE(YEAR($A$3),W37,V44),祝日!$C$6:$D$28,2,0))","v":""},null,{"$f":"IF(ISERROR(VLOOKUP(DATE(YEAR($A$3),W37,X44),祝日!$C$6:$D$28,2,0)),\"\",VLOOKUP(DATE(YEAR($A$3),W37,X44),祝日!$C$6:$D$28,2,0))","v":""},null,{"$f":"IF(ISERROR(VLOOKUP(DATE(YEAR($A$3),W37,Z44),祝日!$C$6:$D$28,2,0)),\"\",VLOOKUP(DATE(YEAR($A$3),W37,Z44),祝日!$C$6:$D$28,2,0))","v":""},null,{"$f":"IF(ISERROR(VLOOKUP(DATE(YEAR($A$3),W37,AB44),祝日!$C$6:$D$28,2,0)),\"\",VLOOKUP(DATE(YEAR($A$3),W37,AB44),祝日!$C$6:$D$28,2,0))","v":""},null,{"$f":"IF(ISERROR(VLOOKUP(DATE(YEAR($A$3),W37,AD44),祝日!$C$6:$D$28,2,0)),\"\",VLOOKUP(DATE(YEAR($A$3),W37,AD44),祝日!$C$6:$D$28,2,0))","v":""}]
[null,null,{"$f":"O44+1","v":22},null,{"$f":"C46+1","v":23},null,{"$f":"E46+1","v":24},null,{"$f":"G46+1","v":25},null,{"$f":"I46+1","v":26},null,{"$f":"K46+1","v":27},null,{"$f":"M46+1","v":28},null,null,{"$f":"AD44+1","v":20},null,{"$f":"R46+1","v":21},null,{"$f":"T46+1","v":22},null,{"$f":"V46+1","v":23},null,{"$f":"X46+1","v":24},null,{"$f":"Z46+1","v":25},null,{"$f":"AB46+1","v":26}]
[null,null,{"$f":"IF(ISERROR(VLOOKUP(DATE(YEAR($A$3),H37,C46),祝日!$C$6:$D$28,2,0)),\"\",VLOOKUP(DATE(YEAR($A$3),H37,C46),祝日!$C$6:$D$28,2,0))","v":""},null,{"$f":"IF(ISERROR(VLOOKUP(DATE(YEAR($A$3),H37,E46),祝日!$C$6:$D$28,2,0)),\"\",VLOOKUP(DATE(YEAR($A$3),H37,E46),祝日!$C$6:$D$28,2,0))","v":""},null,{"$f":"IF(ISERROR(VLOOKUP(DATE(YEAR($A$3),H37,G46),祝日!$C$6:$D$28,2,0)),\"\",VLOOKUP(DATE(YEAR($A$3),H37,G46),祝日!$C$6:$D$28,2,0))","v":""},null,{"$f":"IF(ISERROR(VLOOKUP(DATE(YEAR($A$3),H37,I46),祝日!$C$6:$D$28,2,0)),\"\",VLOOKUP(DATE(YEAR($A$3),H37,I46),祝日!$C$6:$D$28,2,0))","v":""},null,{"$f":"IF(ISERROR(VLOOKUP(DATE(YEAR($A$3),H37,K46),祝日!$C$6:$D$28,2,0)),\"\",VLOOKUP(DATE(YEAR($A$3),H37,K46),祝日!$C$6:$D$28,2,0))","v":""},null,{"$f":"IF(ISERROR(VLOOKUP(DATE(YEAR($A$3),H37,M46),祝日!$C$6:$D$28,2,0)),\"\",VLOOKUP(DATE(YEAR($A$3),H37,M46),祝日!$C$6:$D$28,2,0))","v":""},null,{"$f":"IF(ISERROR(VLOOKUP(DATE(YEAR($A$3),H37,O46),祝日!$C$6:$D$28,2,0)),\"\",VLOOKUP(DATE(YEAR($A$3),H37,O46),祝日!$C$6:$D$28,2,0))","v":""},null,null,{"$f":"IF(ISERROR(VLOOKUP(DATE(YEAR($A$3),W37,R46),祝日!$C$6:$D$28,2,0)),\"\",VLOOKUP(DATE(YEAR($A$3),W37,R46),祝日!$C$6:$D$28,2,0))","v":""},null,{"$f":"IF(AND(W37=9,T40=0),祝日!$D$18,IF(ISERROR(VLOOKUP(DATE(YEAR($A$3),W37,T46),祝日!$C$6:$D$28,2,0)),\"\",VLOOKUP(DATE(YEAR($A$3),W37,T46),祝日!$C$6:$D$28,2,0)))","v":"敬老の日"},null,{"$f":"IF(ISERROR(VLOOKUP(DATE(YEAR($A$3),W37,V46),祝日!$C$6:$D$28,2,0)),\"\",VLOOKUP(DATE(YEAR($A$3),W37,V46),祝日!$C$6:$D$28,2,0))","v":"秋分の日"},null,{"$f":"IF(ISERROR(VLOOKUP(DATE(YEAR($A$3),W37,X46),祝日!$C$6:$D$28,2,0)),\"\",VLOOKUP(DATE(YEAR($A$3),W37,X46),祝日!$C$6:$D$28,2,0))","v":""},null,{"$f":"IF(ISERROR(VLOOKUP(DATE(YEAR($A$3),W37,Z46),祝日!$C$6:$D$28,2,0)),\"\",VLOOKUP(DATE(YEAR($A$3),W37,Z46),祝日!$C$6:$D$28,2,0))","v":""},null,{"$f":"IF(ISERROR(VLOOKUP(DATE(YEAR($A$3),W37,AB46),祝日!$C$6:$D$28,2,0)),\"\",VLOOKUP(DATE(YEAR($A$3),W37,AB46),祝日!$C$6:$D$28,2,0))","v":""},null,{"$f":"IF(ISERROR(VLOOKUP(DATE(YEAR($A$3),W37,AD46),祝日!$C$6:$D$28,2,0)),\"\",VLOOKUP(DATE(YEAR($A$3),W37,AD46),祝日!$C$6:$D$28,2,0))","v":""}]
[null,null,{"$f":"IF(AND(O46<DAY(DATE(YEAR($A$3),H37+1,0)),O46>0),O46+1,0)","v":29},null,{"$f":"IF(AND(C48<DAY(DATE(YEAR($A$3),H37+1,0)),C48>0),C48+1,0)","v":30},null,{"$f":"IF(AND(E48<DAY(DATE(YEAR($A$3),H37+1,0)),E48>0),E48+1,0)","v":31},null,{"$f":"IF(AND(G48<DAY(DATE(YEAR($A$3),H37+1,0)),G48>0),G48+1,0)","v":0},null,{"$f":"IF(AND(I48<DAY(DATE(YEAR($A$3),H37+1,0)),I48>0),I48+1,0)","v":0},null,{"$f":"IF(AND(K48<DAY(DATE(YEAR($A$3),H37+1,0)),K48>0),K48+1,0)","v":0},null,{"$f":"IF(AND(M48<DAY(DATE(YEAR($A$3),H37+1,0)),M48>0),M48+1,0)","v":0},null,null,{"$f":"IF(AND(AD46<DAY(DATE(YEAR($A$3),W37+1,0)),AD46>0),AD46+1,0)","v":27},null,{"$f":"IF(AND(R48<DAY(DATE(YEAR($A$3),W37+1,0)),R48>0),R48+1,0)","v":28},null,{"$f":"IF(AND(T48<DAY(DATE(YEAR($A$3),W37+1,0)),T48>0),T48+1,0)","v":29},null,{"$f":"IF(AND(V48<DAY(DATE(YEAR($A$3),W37+1,0)),V48>0),V48+1,0)","v":30},null,{"$f":"IF(AND(X48<DAY(DATE(YEAR($A$3),W37+1,0)),X48>0),X48+1,0)","v":0},null,{"$f":"IF(AND(Z48<DAY(DATE(YEAR($A$3),W37+1,0)),Z48>0),Z48+1,0)","v":0},null,{"$f":"IF(AND(AB48<DAY(DATE(YEAR($A$3),W37+1,0)),AB48>0),AB48+1,0)","v":0}]
[null,null,{"$f":"IF(ISERROR(VLOOKUP(DATE(YEAR($A$3),H37,C48),祝日!$C$6:$D$28,2,0)),\"\",VLOOKUP(DATE(YEAR($A$3),H37,C48),祝日!$C$6:$D$28,2,0))","v":""},null,{"$f":"IF(ISERROR(VLOOKUP(DATE(YEAR($A$3),H37,E48),祝日!$C$6:$D$28,2,0)),\"\",VLOOKUP(DATE(YEAR($A$3),H37,E48),祝日!$C$6:$D$28,2,0))","v":""},null,{"$f":"IF(ISERROR(VLOOKUP(DATE(YEAR($A$3),H37,G48),祝日!$C$6:$D$28,2,0)),\"\",VLOOKUP(DATE(YEAR($A$3),H37,G48),祝日!$C$6:$D$28,2,0))","v":""},null,{"$f":"IF(ISERROR(VLOOKUP(DATE(YEAR($A$3),H37,I48),祝日!$C$6:$D$28,2,0)),\"\",VLOOKUP(DATE(YEAR($A$3),H37,I48),祝日!$C$6:$D$28,2,0))","v":""},null,{"$f":"IF(ISERROR(VLOOKUP(DATE(YEAR($A$3),H37,K48),祝日!$C$6:$D$28,2,0)),\"\",VLOOKUP(DATE(YEAR($A$3),H37,K48),祝日!$C$6:$D$28,2,0))","v":""},null,{"$f":"IF(ISERROR(VLOOKUP(DATE(YEAR($A$3),H37,M48),祝日!$C$6:$D$28,2,0)),\"\",VLOOKUP(DATE(YEAR($A$3),H37,M48),祝日!$C$6:$D$28,2,0))","v":""},null,{"$f":"IF(ISERROR(VLOOKUP(DATE(YEAR($A$3),H37,O48),祝日!$C$6:$D$28,2,0)),\"\",VLOOKUP(DATE(YEAR($A$3),H37,O48),祝日!$C$6:$D$28,2,0))","v":""},null,null,{"$f":"IF(ISERROR(VLOOKUP(DATE(YEAR($A$3),W37,R48),祝日!$C$6:$D$28,2,0)),\"\",VLOOKUP(DATE(YEAR($A$3),W37,R48),祝日!$C$6:$D$28,2,0))","v":""},null,{"$f":"IF(ISERROR(VLOOKUP(DATE(YEAR($A$3),W37,T48),祝日!$C$6:$D$28,2,0)),\"\",VLOOKUP(DATE(YEAR($A$3),W37,T48),祝日!$C$6:$D$28,2,0))","v":""},null,{"$f":"IF(ISERROR(VLOOKUP(DATE(YEAR($A$3),W37,V48),祝日!$C$6:$D$28,2,0)),\"\",VLOOKUP(DATE(YEAR($A$3),W37,V48),祝日!$C$6:$D$28,2,0))","v":""},null,{"$f":"IF(ISERROR(VLOOKUP(DATE(YEAR($A$3),W37,X48),祝日!$C$6:$D$28,2,0)),\"\",VLOOKUP(DATE(YEAR($A$3),W37,X48),祝日!$C$6:$D$28,2,0))","v":""},null,{"$f":"IF(ISERROR(VLOOKUP(DATE(YEAR($A$3),W37,Z48),祝日!$C$6:$D$28,2,0)),\"\",VLOOKUP(DATE(YEAR($A$3),W37,Z48),祝日!$C$6:$D$28,2,0))","v":""},null,{"$f":"IF(ISERROR(VLOOKUP(DATE(YEAR($A$3),W37,AB48),祝日!$C$6:$D$28,2,0)),\"\",VLOOKUP(DATE(YEAR($A$3),W37,AB48),祝日!$C$6:$D$28,2,0))","v":""},null,{"$f":"IF(ISERROR(VLOOKUP(DATE(YEAR($A$3),W37,AD48),祝日!$C$6:$D$28,2,0)),\"\",VLOOKUP(DATE(YEAR($A$3),W37,AD48),祝日!$C$6:$D$28,2,0))","v":""}]
[null,null,{"$f":"IF(AND(O48<DAY(DATE(YEAR($A$3),H37+1,0)),O48>0),O48+1,0)","v":0},null,{"$f":"IF(AND(C50<DAY(DATE(YEAR($A$3),H37+1,0)),C50>0),C50+1,0)","v":0},null,{"$f":"IF(AND(E50<DAY(DATE(YEAR($A$3),H37+1,0)),E50>0),E50+1,0)","v":0},null,{"$f":"IF(AND(G50<DAY(DATE(YEAR($A$3),H37+1,0)),G50>0),G50+1,0)","v":0},null,{"$f":"IF(AND(I50<DAY(DATE(YEAR($A$3),H37+1,0)),I50>0),I50+1,0)","v":0},null,{"$f":"IF(AND(K50<DAY(DATE(YEAR($A$3),H37+1,0)),K50>0),K50+1,0)","v":0},null,{"$f":"IF(AND(M50<DAY(DATE(YEAR($A$3),H37+1,0)),M50>0),M50+1,0)","v":0},null,null,{"$f":"IF(AND(AD48<DAY(DATE(YEAR($A$3),W37+1,0)),AD48>0),AD48+1,0)","v":0},null,{"$f":"IF(AND(R50<DAY(DATE(YEAR($A$3),W37+1,0)),R50>0),R50+1,0)","v":0},null,{"$f":"IF(AND(T50<DAY(DATE(YEAR($A$3),W37+1,0)),T50>0),T50+1,0)","v":0},null,{"$f":"IF(AND(V50<DAY(DATE(YEAR($A$3),W37+1,0)),V50>0),V50+1,0)","v":0},null,{"$f":"IF(AND(X50<DAY(DATE(YEAR($A$3),W37+1,0)),X50>0),X50+1,0)","v":0},null,{"$f":"IF(AND(Z50<DAY(DATE(YEAR($A$3),W37+1,0)),Z50>0),Z50+1,0)","v":0},null,{"$f":"IF(AND(AB50<DAY(DATE(YEAR($A$3),W37+1,0)),AB50>0),AB50+1,0)","v":0}]
[null,null,{"$f":"IF(ISERROR(VLOOKUP(DATE(YEAR($A$3),H37,C50),祝日!$C$6:$D$28,2,0)),\"\",VLOOKUP(DATE(YEAR($A$3),H37,C50),祝日!$C$6:$D$28,2,0))","v":""},null,{"$f":"IF(ISERROR(VLOOKUP(DATE(YEAR($A$3),H37,E50),祝日!$C$6:$D$28,2,0)),\"\",VLOOKUP(DATE(YEAR($A$3),H37,E50),祝日!$C$6:$D$28,2,0))","v":""},null,{"$f":"IF(ISERROR(VLOOKUP(DATE(YEAR($A$3),H37,G50),祝日!$C$6:$D$28,2,0)),\"\",VLOOKUP(DATE(YEAR($A$3),H37,G50),祝日!$C$6:$D$28,2,0))","v":""},null,{"$f":"IF(ISERROR(VLOOKUP(DATE(YEAR($A$3),H37,I50),祝日!$C$6:$D$28,2,0)),\"\",VLOOKUP(DATE(YEAR($A$3),H37,I50),祝日!$C$6:$D$28,2,0))","v":""},null,{"$f":"IF(ISERROR(VLOOKUP(DATE(YEAR($A$3),H37,K50),祝日!$C$6:$D$28,2,0)),\"\",VLOOKUP(DATE(YEAR($A$3),H37,K50),祝日!$C$6:$D$28,2,0))","v":""},null,{"$f":"IF(ISERROR(VLOOKUP(DATE(YEAR($A$3),H37,M50),祝日!$C$6:$D$28,2,0)),\"\",VLOOKUP(DATE(YEAR($A$3),H37,M50),祝日!$C$6:$D$28,2,0))","v":""},null,{"$f":"IF(ISERROR(VLOOKUP(DATE(YEAR($A$3),H37,O50),祝日!$C$6:$D$28,2,0)),\"\",VLOOKUP(DATE(YEAR($A$3),H37,O50),祝日!$C$6:$D$28,2,0))","v":""},null,null,{"$f":"IF(ISERROR(VLOOKUP(DATE(YEAR($A$3),W37,R50),祝日!$C$6:$D$28,2,0)),\"\",VLOOKUP(DATE(YEAR($A$3),W37,R50),祝日!$C$6:$D$28,2,0))","v":""},null,{"$f":"IF(ISERROR(VLOOKUP(DATE(YEAR($A$3),W37,T50),祝日!$C$6:$D$28,2,0)),\"\",VLOOKUP(DATE(YEAR($A$3),W37,T50),祝日!$C$6:$D$28,2,0))","v":""},null,{"$f":"IF(ISERROR(VLOOKUP(DATE(YEAR($A$3),W37,V50),祝日!$C$6:$D$28,2,0)),\"\",VLOOKUP(DATE(YEAR($A$3),W37,V50),祝日!$C$6:$D$28,2,0))","v":""},null,{"$f":"IF(ISERROR(VLOOKUP(DATE(YEAR($A$3),W37,X50),祝日!$C$6:$D$28,2,0)),\"\",VLOOKUP(DATE(YEAR($A$3),W37,X50),祝日!$C$6:$D$28,2,0))","v":""},null,{"$f":"IF(ISERROR(VLOOKUP(DATE(YEAR($A$3),W37,Z50),祝日!$C$6:$D$28,2,0)),\"\",VLOOKUP(DATE(YEAR($A$3),W37,Z50),祝日!$C$6:$D$28,2,0))","v":""},null,{"$f":"IF(ISERROR(VLOOKUP(DATE(YEAR($A$3),W37,AB50),祝日!$C$6:$D$28,2,0)),\"\",VLOOKUP(DATE(YEAR($A$3),W37,AB50),祝日!$C$6:$D$28,2,0))","v":""},null,{"$f":"IF(ISERROR(VLOOKUP(DATE(YEAR($A$3),W37,AD50),祝日!$C$6:$D$28,2,0)),\"\",VLOOKUP(DATE(YEAR($A$3),W37,AD50),祝日!$C$6:$D$28,2,0))","v":""}]
[null,null,{"$f":"祝日!$A$33","v":"メルパソコン教室"},null,null,null,null,null,null,null,null,{"$f":"祝日!$D$33","v":"049-295-8641"},null,null,null,null,null,{"$f":"祝日!$A$33","v":"メルパソコン教室"},null,null,null,null,null,null,null,null,{"$f":"祝日!$D$33","v":"049-295-8641"}]
[]
[null,null,{"$f":"DATE(YEAR($A$3),H54,DAY($A$3))","v":"2020-04-01"},null,null,null,null,{"$f":"MONTH($A$3)+3","v":4},null,null,null,{"$f":"$M$2","v":2020},null,null,null,null,null,{"$f":"DATE(YEAR($A$3),W54,DAY($A$3))","v":"2020-10-01"},null,null,null,null,{"$f":"MONTH($A$3)+9","v":10},null,null,null,{"$f":"$M$2","v":2020}]
[]
[null,null,"日",null,"月",null,"火",null,"水",null,"木",null,"金",null,"土",null,null,"日",null,"月",null,"火",null,"水",null,"木",null,"金",null,"土"]
[null,null,{"$f":"IF(WEEKDAY(DATE(YEAR($A$3),H54,DAY($A$3)))=1,1,0)","v":0},null,{"$f":"IF(WEEKDAY(DATE(YEAR($A$3),H54,DAY($A$3)))=2,1,IF(C57>0,C57+1,0))","v":0},null,{"$f":"IF(WEEKDAY(DATE(YEAR($A$3),H54,DAY($A$3)))=3,1,IF(E57>0,E57+1,0))","v":0},null,{"$f":"IF(WEEKDAY(DATE(YEAR($A$3),H54,DAY($A$3)))=4,1,IF(G57>0,G57+1,0))","v":1},null,{"$f":"IF(WEEKDAY(DATE(YEAR($A$3),H54,DAY($A$3)))=5,1,IF(I57>0,I57+1,0))","v":2},null,{"$f":"IF(WEEKDAY(DATE(YEAR($A$3),H54,DAY($A$3)))=6,1,IF(K57>0,K57+1,0))","v":3},null,{"$f":"IF(WEEKDAY(DATE(YEAR($A$3),H54,DAY($A$3)))=7,1,IF(M57>0,M57+1,0))","v":4},null,null,{"$f":"IF(WEEKDAY(DATE(YEAR($A$3),W54,DAY($A$3)))=1,1,0)","v":0},null,{"$f":"IF(WEEKDAY(DATE(YEAR($A$3),W54,DAY($A$3)))=2,1,IF(R57>0,R57+1,0))","v":0},null,{"$f":"IF(WEEKDAY(DATE(YEAR($A$3),W54,DAY($A$3)))=3,1,IF(T57>0,T57+1,0))","v":0},null,{"$f":"IF(WEEKDAY(DATE(YEAR($A$3),W54,DAY($A$3)))=4,1,IF(V57>0,V57+1,0))","v":0},null,{"$f":"IF(WEEKDAY(DATE(YEAR($A$3),W54,DAY($A$3)))=5,1,IF(X57>0,X57+1,0))","v":1},null,{"$f":"IF(WEEKDAY(DATE(YEAR($A$3),W54,DAY($A$3)))=6,1,IF(Z57>0,Z57+1,0))","v":2},null,{"$f":"IF(WEEKDAY(DATE(YEAR($A$3),W54,DAY($A$3)))=7,1,IF(AB57>0,AB57+1,0))","v":3}]
[null,null,{"$f":"IF(ISERROR(VLOOKUP(DATE(YEAR($A$3),H54,C57),祝日!$C$6:$D$28,2,0)),\"\",VLOOKUP(DATE(YEAR($A$3),H54,C57),祝日!$C$6:$D$28,2,0))","v":""},null,{"$f":"IF(ISERROR(VLOOKUP(DATE(YEAR($A$3),H54,E57),祝日!$C$6:$D$28,2,0)),\"\",VLOOKUP(DATE(YEAR($A$3),H54,E57),祝日!$C$6:$D$28,2,0))","v":""},null,{"$f":"IF(ISERROR(VLOOKUP(DATE(YEAR($A$3),H54,G57),祝日!$C$6:$D$28,2,0)),\"\",VLOOKUP(DATE(YEAR($A$3),H54,G57),祝日!$C$6:$D$28,2,0))","v":""},null,{"$f":"IF(ISERROR(VLOOKUP(DATE(YEAR($A$3),H54,I57),祝日!$C$6:$D$28,2,0)),\"\",VLOOKUP(DATE(YEAR($A$3),H54,I57),祝日!$C$6:$D$28,2,0))","v":""},null,{"$f":"IF(ISERROR(VLOOKUP(DATE(YEAR($A$3),H54,K57),祝日!$C$6:$D$28,2,0)),\"\",VLOOKUP(DATE(YEAR($A$3),H54,K57),祝日!$C$6:$D$28,2,0))","v":""},null,{"$f":"IF(ISERROR(VLOOKUP(DATE(YEAR($A$3),H54,M57),祝日!$C$6:$D$28,2,0)),\"\",VLOOKUP(DATE(YEAR($A$3),H54,M57),祝日!$C$6:$D$28,2,0))","v":""},null,{"$f":"IF(ISERROR(VLOOKUP(DATE(YEAR($A$3),H54,O57),祝日!$C$6:$D$28,2,0)),\"\",VLOOKUP(DATE(YEAR($A$3),H54,O57),祝日!$C$6:$D$28,2,0))","v":""},null,null,{"$f":"IF(ISERROR(VLOOKUP(DATE(YEAR($A$3),W54,R57),祝日!$C$6:$D$28,2,0)),\"\",VLOOKUP(DATE(YEAR($A$3),W54,R57),祝日!$C$6:$D$28,2,0))","v":""},null,{"$f":"IF(ISERROR(VLOOKUP(DATE(YEAR($A$3),W54,T57),祝日!$C$6:$D$28,2,0)),\"\",VLOOKUP(DATE(YEAR($A$3),W54,T57),祝日!$C$6:$D$28,2,0))","v":""},null,{"$f":"IF(ISERROR(VLOOKUP(DATE(YEAR($A$3),W54,V57),祝日!$C$6:$D$28,2,0)),\"\",VLOOKUP(DATE(YEAR($A$3),W54,V57),祝日!$C$6:$D$28,2,0))","v":""},null,{"$f":"IF(ISERROR(VLOOKUP(DATE(YEAR($A$3),W54,X57),祝日!$C$6:$D$28,2,0)),\"\",VLOOKUP(DATE(YEAR($A$3),W54,X57),祝日!$C$6:$D$28,2,0))","v":""},null,{"$f":"IF(ISERROR(VLOOKUP(DATE(YEAR($A$3),W54,Z57),祝日!$C$6:$D$28,2,0)),\"\",VLOOKUP(DATE(YEAR($A$3),W54,Z57),祝日!$C$6:$D$28,2,0))","v":""},null,{"$f":"IF(ISERROR(VLOOKUP(DATE(YEAR($A$3),W54,AB57),祝日!$C$6:$D$28,2,0)),\"\",VLOOKUP(DATE(YEAR($A$3),W54,AB57),祝日!$C$6:$D$28,2,0))","v":""},null,{"$f":"IF(ISERROR(VLOOKUP(DATE(YEAR($A$3),W54,AD57),祝日!$C$6:$D$28,2,0)),\"\",VLOOKUP(DATE(YEAR($A$3),W54,AD57),祝日!$C$6:$D$28,2,0))","v":""}]
[null,null,{"$f":"O57+1","v":5},{"$f":"IF(ISERROR(VLOOKUP(DATE(YEAR($A$3),H54,C59),祝日!$C$6:$D$28,3,0)),\"\",(VLOOKUP(DATE(YEAR($A$3),H54,C59),祝日!$C$6:$D$28,3,0)))","v":""},{"$f":"C59+1","v":6},null,{"$f":"E59+1","v":7},null,{"$f":"G59+1","v":8},null,{"$f":"I59+1","v":9},null,{"$f":"K59+1","v":10},null,{"$f":"M59+1","v":11},null,null,{"$f":"AD57+1","v":4},{"$f":"IF(ISERROR(VLOOKUP(DATE(YEAR($A$3),W54,R59),祝日!$C$6:$D$28,3,0)),\"\",(VLOOKUP(DATE(YEAR($A$3),W54,R59),祝日!$C$6:$D$28,3,0)))","v":""},{"$f":"R59+1","v":5},null,{"$f":"T59+1","v":6},null,{"$f":"V59+1","v":7},null,{"$f":"X59+1","v":8},null,{"$f":"Z59+1","v":9},null,{"$f":"AB59+1","v":10}]
[null,null,{"$f":"IF(ISERROR(VLOOKUP(DATE(YEAR($A$3),H54,C59),祝日!$C$6:$D$28,2,0)),\"\",VLOOKUP(DATE(YEAR($A$3),H54,C59),祝日!$C$6:$D$28,2,0))","v":""},null,{"$f":"IF(AND(H54=1,E57>0),#REF!,IF(ISERROR(VLOOKUP(DATE(YEAR($A$3),H54,E59),祝日!$C$6:$D$28,2,0)),\"\",VLOOKUP(DATE(YEAR($A$3),H54,E59),祝日!$C$6:$D$28,2,0)))","v":""},null,{"$f":"IF(ISERROR(VLOOKUP(DATE(YEAR($A$3),H54,G59),祝日!$C$6:$D$28,2,0)),\"\",VLOOKUP(DATE(YEAR($A$3),H54,G59),祝日!$C$6:$D$28,2,0))","v":""},null,{"$f":"IF(ISERROR(VLOOKUP(DATE(YEAR($A$3),H54,I59),祝日!$C$6:$D$28,2,0)),\"\",VLOOKUP(DATE(YEAR($A$3),H54,I59),祝日!$C$6:$D$28,2,0))","v":""},null,{"$f":"IF(ISERROR(VLOOKUP(DATE(YEAR($A$3),H54,K59),祝日!$C$6:$D$28,2,0)),\"\",VLOOKUP(DATE(YEAR($A$3),H54,K59),祝日!$C$6:$D$28,2,0))","v":""},null,{"$f":"IF(ISERROR(VLOOKUP(DATE(YEAR($A$3),H54,M59),祝日!$C$6:$D$28,2,0)),\"\",VLOOKUP(DATE(YEAR($A$3),H54,M59),祝日!$C$6:$D$28,2,0))","v":""},null,{"$f":"IF(ISERROR(VLOOKUP(DATE(YEAR($A$3),H54,O59),祝日!$C$6:$D$28,2,0)),\"\",VLOOKUP(DATE(YEAR($A$3),H54,O59),祝日!$C$6:$D$28,2,0))","v":""},null,null,{"$f":"IF(ISERROR(VLOOKUP(DATE(YEAR($A$3),W54,R59),祝日!$C$6:$D$28,2,0)),\"\",VLOOKUP(DATE(YEAR($A$3),W54,R59),祝日!$C$6:$D$28,2,0))","v":""},null,{"$f":"IF(AND(W54=10,T57>0),祝日!D20,IF(AND(W54=1,T57>0),祝日!$D$7,IF(ISERROR(VLOOKUP(DATE(YEAR($A$3),W54,T59),祝日!$C$6:$D$28,2,0)),\"\",VLOOKUP(DATE(YEAR($A$3),W54,T59),祝日!$C$6:$D$28,2,0))))","v":""},null,{"$f":"IF(ISERROR(VLOOKUP(DATE(YEAR($A$3),W54,V59),祝日!$C$6:$D$28,2,0)),\"\",VLOOKUP(DATE(YEAR($A$3),W54,V59),祝日!$C$6:$D$28,2,0))","v":""},null,{"$f":"IF(ISERROR(VLOOKUP(DATE(YEAR($A$3),W54,X59),祝日!$C$6:$D$28,2,0)),\"\",VLOOKUP(DATE(YEAR($A$3),W54,X59),祝日!$C$6:$D$28,2,0))","v":""},null,{"$f":"IF(ISERROR(VLOOKUP(DATE(YEAR($A$3),W54,Z59),祝日!$C$6:$D$28,2,0)),\"\",VLOOKUP(DATE(YEAR($A$3),W54,Z59),祝日!$C$6:$D$28,2,0))","v":""},null,{"$f":"IF(ISERROR(VLOOKUP(DATE(YEAR($A$3),W54,AB59),祝日!$C$6:$D$28,2,0)),\"\",VLOOKUP(DATE(YEAR($A$3),W54,AB59),祝日!$C$6:$D$28,2,0))","v":""},null,{"$f":"IF(ISERROR(VLOOKUP(DATE(YEAR($A$3),W54,AD59),祝日!$C$6:$D$28,2,0)),\"\",VLOOKUP(DATE(YEAR($A$3),W54,AD59),祝日!$C$6:$D$28,2,0))","v":""}]
[null,null,{"$f":"O59+1","v":12},null,{"$f":"C61+1","v":13},null,{"$f":"E61+1","v":14},null,{"$f":"G61+1","v":15},null,{"$f":"I61+1","v":16},null,{"$f":"K61+1","v":17},null,{"$f":"M61+1","v":18},null,null,{"$f":"AD59+1","v":11},null,{"$f":"R61+1","v":12},null,{"$f":"T61+1","v":13},null,{"$f":"V61+1","v":14},null,{"$f":"X61+1","v":15},null,{"$f":"Z61+1","v":16},null,{"$f":"AB61+1","v":17}]
[null,null,{"$f":"IF(ISERROR(VLOOKUP(DATE(YEAR($A$3),H54,C61),祝日!$C$6:$D$28,2,0)),\"\",VLOOKUP(DATE(YEAR($A$3),H54,C61),祝日!$C$6:$D$28,2,0))","v":""},null,{"$f":"IF(AND(H54=1,E57=0),祝日!$D$7,IF(ISERROR(VLOOKUP(DATE(YEAR($A$3),H54,E61),祝日!$C$6:$D$28,2,0)),\"\",VLOOKUP(DATE(YEAR($A$3),H54,E61),祝日!$C$6:$D$28,2,0)))","v":""},null,{"$f":"IF(ISERROR(VLOOKUP(DATE(YEAR($A$3),H54,G61),祝日!$C$6:$D$28,2,0)),\"\",VLOOKUP(DATE(YEAR($A$3),H54,G61),祝日!$C$6:$D$28,2,0))","v":""},null,{"$f":"IF(ISERROR(VLOOKUP(DATE(YEAR($A$3),H54,I61),祝日!$C$6:$D$28,2,0)),\"\",VLOOKUP(DATE(YEAR($A$3),H54,I61),祝日!$C$6:$D$28,2,0))","v":""},null,{"$f":"IF(ISERROR(VLOOKUP(DATE(YEAR($A$3),H54,K61),祝日!$C$6:$D$28,2,0)),\"\",VLOOKUP(DATE(YEAR($A$3),H54,K61),祝日!$C$6:$D$28,2,0))","v":""},null,{"$f":"IF(ISERROR(VLOOKUP(DATE(YEAR($A$3),H54,M61),祝日!$C$6:$D$28,2,0)),\"\",VLOOKUP(DATE(YEAR($A$3),H54,M61),祝日!$C$6:$D$28,2,0))","v":""},null,{"$f":"IF(ISERROR(VLOOKUP(DATE(YEAR($A$3),H54,O61),祝日!$C$6:$D$28,2,0)),\"\",VLOOKUP(DATE(YEAR($A$3),H54,O61),祝日!$C$6:$D$28,2,0))","v":""},null,null,{"$f":"IF(ISERROR(VLOOKUP(DATE(YEAR($A$3),W54,R61),祝日!$C$6:$D$28,2,0)),\"\",VLOOKUP(DATE(YEAR($A$3),W54,R61),祝日!$C$6:$D$28,2,0))","v":""},null,{"$f":"IF(AND(W54=10,T57=0),祝日!D20,IF(AND(W54=1,T57=0),祝日!D7,IF(ISERROR(VLOOKUP(DATE(YEAR($A$3),W54,T61),祝日!$C$6:$D$28,2,0)),\"\",VLOOKUP(DATE(YEAR($A$3),W54,T61),祝日!$C$6:$D$28,2,0))))","v":"体育の日"},null,{"$f":"IF(ISERROR(VLOOKUP(DATE(YEAR($A$3),W54,V61),祝日!$C$6:$D$28,2,0)),\"\",VLOOKUP(DATE(YEAR($A$3),W54,V61),祝日!$C$6:$D$28,2,0))","v":""},null,{"$f":"IF(ISERROR(VLOOKUP(DATE(YEAR($A$3),W54,X61),祝日!$C$6:$D$28,2,0)),\"\",VLOOKUP(DATE(YEAR($A$3),W54,X61),祝日!$C$6:$D$28,2,0))","v":""},null,{"$f":"IF(ISERROR(VLOOKUP(DATE(YEAR($A$3),W54,Z61),祝日!$C$6:$D$28,2,0)),\"\",VLOOKUP(DATE(YEAR($A$3),W54,Z61),祝日!$C$6:$D$28,2,0))","v":""},null,{"$f":"IF(ISERROR(VLOOKUP(DATE(YEAR($A$3),W54,AB61),祝日!$C$6:$D$28,2,0)),\"\",VLOOKUP(DATE(YEAR($A$3),W54,AB61),祝日!$C$6:$D$28,2,0))","v":""},null,{"$f":"IF(ISERROR(VLOOKUP(DATE(YEAR($A$3),W54,AD61),祝日!$C$6:$D$28,2,0)),\"\",VLOOKUP(DATE(YEAR($A$3),W54,AD61),祝日!$C$6:$D$28,2,0))","v":""}]
[null,null,{"$f":"O61+1","v":19},null,{"$f":"C63+1","v":20},null,{"$f":"E63+1","v":21},null,{"$f":"G63+1","v":22},null,{"$f":"I63+1","v":23},null,{"$f":"K63+1","v":24},null,{"$f":"M63+1","v":25},null,null,{"$f":"AD61+1","v":18},null,{"$f":"R63+1","v":19},null,{"$f":"T63+1","v":20},null,{"$f":"V63+1","v":21},null,{"$f":"X63+1","v":22},null,{"$f":"Z63+1","v":23},null,{"$f":"AB63+1","v":24}]
[null,null,{"$f":"IF(ISERROR(VLOOKUP(DATE(YEAR($A$3),H54,C63),祝日!$C$6:$D$28,2,0)),\"\",VLOOKUP(DATE(YEAR($A$3),H54,C63),祝日!$C$6:$D$28,2,0))","v":""},null,{"$f":"IF(ISERROR(VLOOKUP(DATE(YEAR($A$3),H54,E63),祝日!$C$6:$D$28,2,0)),\"\",VLOOKUP(DATE(YEAR($A$3),H54,E63),祝日!$C$6:$D$28,2,0))","v":""},null,{"$f":"IF(ISERROR(VLOOKUP(DATE(YEAR($A$3),H54,G63),祝日!$C$6:$D$28,2,0)),\"\",VLOOKUP(DATE(YEAR($A$3),H54,G63),祝日!$C$6:$D$28,2,0))","v":""},null,{"$f":"IF(ISERROR(VLOOKUP(DATE(YEAR($A$3),H54,I63),祝日!$C$6:$D$28,2,0)),\"\",VLOOKUP(DATE(YEAR($A$3),H54,I63),祝日!$C$6:$D$28,2,0))","v":""},null,{"$f":"IF(ISERROR(VLOOKUP(DATE(YEAR($A$3),H54,K63),祝日!$C$6:$D$28,2,0)),\"\",VLOOKUP(DATE(YEAR($A$3),H54,K63),祝日!$C$6:$D$28,2,0))","v":""},null,{"$f":"IF(ISERROR(VLOOKUP(DATE(YEAR($A$3),H54,M63),祝日!$C$6:$D$28,2,0)),\"\",VLOOKUP(DATE(YEAR($A$3),H54,M63),祝日!$C$6:$D$28,2,0))","v":""},null,{"$f":"IF(ISERROR(VLOOKUP(DATE(YEAR($A$3),H54,O63),祝日!$C$6:$D$28,2,0)),\"\",VLOOKUP(DATE(YEAR($A$3),H54,O63),祝日!$C$6:$D$28,2,0))","v":""},null,null,{"$f":"IF(ISERROR(VLOOKUP(DATE(YEAR($A$3),W54,R63),祝日!$C$6:$D$28,2,0)),\"\",VLOOKUP(DATE(YEAR($A$3),W54,R63),祝日!$C$6:$D$28,2,0))","v":""},null,{"$f":"IF(ISERROR(VLOOKUP(DATE(YEAR($A$3),W54,T63),祝日!$C$6:$D$28,2,0)),\"\",VLOOKUP(DATE(YEAR($A$3),W54,T63),祝日!$C$6:$D$28,2,0))","v":""},null,{"$f":"IF(ISERROR(VLOOKUP(DATE(YEAR($A$3),W54,V63),祝日!$C$6:$D$28,2,0)),\"\",VLOOKUP(DATE(YEAR($A$3),W54,V63),祝日!$C$6:$D$28,2,0))","v":""},null,{"$f":"IF(ISERROR(VLOOKUP(DATE(YEAR($A$3),W54,X63),祝日!$C$6:$D$28,2,0)),\"\",VLOOKUP(DATE(YEAR($A$3),W54,X63),祝日!$C$6:$D$28,2,0))","v":""},null,{"$f":"IF(ISERROR(VLOOKUP(DATE(YEAR($A$3),W54,Z63),祝日!$C$6:$D$28,2,0)),\"\",VLOOKUP(DATE(YEAR($A$3),W54,Z63),祝日!$C$6:$D$28,2,0))","v":""},null,{"$f":"IF(ISERROR(VLOOKUP(DATE(YEAR($A$3),W54,AB63),祝日!$C$6:$D$28,2,0)),\"\",VLOOKUP(DATE(YEAR($A$3),W54,AB63),祝日!$C$6:$D$28,2,0))","v":""},null,{"$f":"IF(ISERROR(VLOOKUP(DATE(YEAR($A$3),W54,AD63),祝日!$C$6:$D$28,2,0)),\"\",VLOOKUP(DATE(YEAR($A$3),W54,AD63),祝日!$C$6:$D$28,2,0))","v":""}]
[null,null,{"$f":"IF(AND(O63<DAY(DATE(YEAR($A$3),H54+1,0)),O63>0),O63+1,0)","v":26},null,{"$f":"IF(AND(C65<DAY(DATE(YEAR($A$3),H54+1,0)),C65>0),C65+1,0)","v":27},null,{"$f":"IF(AND(E65<DAY(DATE(YEAR($A$3),H54+1,0)),E65>0),E65+1,0)","v":28},null,{"$f":"IF(AND(G65<DAY(DATE(YEAR($A$3),H54+1,0)),G65>0),G65+1,0)","v":29},null,{"$f":"IF(AND(I65<DAY(DATE(YEAR($A$3),H54+1,0)),I65>0),I65+1,0)","v":30},null,{"$f":"IF(AND(K65<DAY(DATE(YEAR($A$3),H54+1,0)),K65>0),K65+1,0)","v":0},null,{"$f":"IF(AND(M65<DAY(DATE(YEAR($A$3),H54+1,0)),M65>0),M65+1,0)","v":0},null,null,{"$f":"IF(AND(AD63<DAY(DATE(YEAR($A$3),W54+1,0)),AD63>0),AD63+1,0)","v":25},null,{"$f":"IF(AND(R65<DAY(DATE(YEAR($A$3),W54+1,0)),R65>0),R65+1,0)","v":26},null,{"$f":"IF(AND(T65<DAY(DATE(YEAR($A$3),W54+1,0)),T65>0),T65+1,0)","v":27},null,{"$f":"IF(AND(V65<DAY(DATE(YEAR($A$3),W54+1,0)),V65>0),V65+1,0)","v":28},null,{"$f":"IF(AND(X65<DAY(DATE(YEAR($A$3),W54+1,0)),X65>0),X65+1,0)","v":29},null,{"$f":"IF(AND(Z65<DAY(DATE(YEAR($A$3),W54+1,0)),Z65>0),Z65+1,0)","v":30},null,{"$f":"IF(AND(AB65<DAY(DATE(YEAR($A$3),W54+1,0)),AB65>0),AB65+1,0)","v":31}]
[null,null,{"$f":"IF(ISERROR(VLOOKUP(DATE(YEAR($A$3),H54,C65),祝日!$C$6:$D$28,2,0)),\"\",VLOOKUP(DATE(YEAR($A$3),H54,C65),祝日!$C$6:$D$28,2,0))","v":""},null,{"$f":"IF(ISERROR(VLOOKUP(DATE(YEAR($A$3),H54,E65),祝日!$C$6:$D$28,2,0)),\"\",VLOOKUP(DATE(YEAR($A$3),H54,E65),祝日!$C$6:$D$28,2,0))","v":""},null,{"$f":"IF(ISERROR(VLOOKUP(DATE(YEAR($A$3),H54,G65),祝日!$C$6:$D$28,2,0)),\"\",VLOOKUP(DATE(YEAR($A$3),H54,G65),祝日!$C$6:$D$28,2,0))","v":""},null,{"$f":"IF(ISERROR(VLOOKUP(DATE(YEAR($A$3),H54,I65),祝日!$C$6:$D$28,2,0)),\"\",VLOOKUP(DATE(YEAR($A$3),H54,I65),祝日!$C$6:$D$28,2,0))","v":"昭和の日"},null,{"$f":"IF(ISERROR(VLOOKUP(DATE(YEAR($A$3),H54,K65),祝日!$C$6:$D$28,2,0)),\"\",VLOOKUP(DATE(YEAR($A$3),H54,K65),祝日!$C$6:$D$28,2,0))","v":""},null,{"$f":"IF(ISERROR(VLOOKUP(DATE(YEAR($A$3),H54,M65),祝日!$C$6:$D$28,2,0)),\"\",VLOOKUP(DATE(YEAR($A$3),H54,M65),祝日!$C$6:$D$28,2,0))","v":""},null,{"$f":"IF(ISERROR(VLOOKUP(DATE(YEAR($A$3),H54,O65),祝日!$C$6:$D$28,2,0)),\"\",VLOOKUP(DATE(YEAR($A$3),H54,O65),祝日!$C$6:$D$28,2,0))","v":""},null,null,{"$f":"IF(ISERROR(VLOOKUP(DATE(YEAR($A$3),W54,R65),祝日!$C$6:$D$28,2,0)),\"\",VLOOKUP(DATE(YEAR($A$3),W54,R65),祝日!$C$6:$D$28,2,0))","v":""},null,{"$f":"IF(ISERROR(VLOOKUP(DATE(YEAR($A$3),W54,T65),祝日!$C$6:$D$28,2,0)),\"\",VLOOKUP(DATE(YEAR($A$3),W54,T65),祝日!$C$6:$D$28,2,0))","v":""},null,{"$f":"IF(ISERROR(VLOOKUP(DATE(YEAR($A$3),W54,V65),祝日!$C$6:$D$28,2,0)),\"\",VLOOKUP(DATE(YEAR($A$3),W54,V65),祝日!$C$6:$D$28,2,0))","v":""},null,{"$f":"IF(ISERROR(VLOOKUP(DATE(YEAR($A$3),W54,X65),祝日!$C$6:$D$28,2,0)),\"\",VLOOKUP(DATE(YEAR($A$3),W54,X65),祝日!$C$6:$D$28,2,0))","v":""},null,{"$f":"IF(ISERROR(VLOOKUP(DATE(YEAR($A$3),W54,Z65),祝日!$C$6:$D$28,2,0)),\"\",VLOOKUP(DATE(YEAR($A$3),W54,Z65),祝日!$C$6:$D$28,2,0))","v":""},null,{"$f":"IF(ISERROR(VLOOKUP(DATE(YEAR($A$3),W54,AB65),祝日!$C$6:$D$28,2,0)),\"\",VLOOKUP(DATE(YEAR($A$3),W54,AB65),祝日!$C$6:$D$28,2,0))","v":""},null,{"$f":"IF(ISERROR(VLOOKUP(DATE(YEAR($A$3),W54,AD65),祝日!$C$6:$D$28,2,0)),\"\",VLOOKUP(DATE(YEAR($A$3),W54,AD65),祝日!$C$6:$D$28,2,0))","v":""}]
[null,null,{"$f":"IF(AND(O65<DAY(DATE(YEAR($A$3),H54+1,0)),O65>0),O65+1,0)","v":0},null,{"$f":"IF(AND(C67<DAY(DATE(YEAR($A$3),H54+1,0)),C67>0),C67+1,0)","v":0},null,{"$f":"IF(AND(E67<DAY(DATE(YEAR($A$3),H54+1,0)),E67>0),E67+1,0)","v":0},null,{"$f":"IF(AND(G67<DAY(DATE(YEAR($A$3),H54+1,0)),G67>0),G67+1,0)","v":0},null,{"$f":"IF(AND(I67<DAY(DATE(YEAR($A$3),H54+1,0)),I67>0),I67+1,0)","v":0},null,{"$f":"IF(AND(K67<DAY(DATE(YEAR($A$3),H54+1,0)),K67>0),K67+1,0)","v":0},null,{"$f":"IF(AND(M67<DAY(DATE(YEAR($A$3),H54+1,0)),M67>0),M67+1,0)","v":0},null,null,{"$f":"IF(AND(AD65<DAY(DATE(YEAR($A$3),W54+1,0)),AD65>0),AD65+1,0)","v":0},null,{"$f":"IF(AND(R67<DAY(DATE(YEAR($A$3),W54+1,0)),R67>0),R67+1,0)","v":0},null,{"$f":"IF(AND(T67<DAY(DATE(YEAR($A$3),W54+1,0)),T67>0),T67+1,0)","v":0},null,{"$f":"IF(AND(V67<DAY(DATE(YEAR($A$3),W54+1,0)),V67>0),V67+1,0)","v":0},null,{"$f":"IF(AND(X67<DAY(DATE(YEAR($A$3),W54+1,0)),X67>0),X67+1,0)","v":0},null,{"$f":"IF(AND(Z67<DAY(DATE(YEAR($A$3),W54+1,0)),Z67>0),Z67+1,0)","v":0},null,{"$f":"IF(AND(AB67<DAY(DATE(YEAR($A$3),W54+1,0)),AB67>0),AB67+1,0)","v":0}]
[null,null,{"$f":"IF(ISERROR(VLOOKUP(DATE(YEAR($A$3),H54,C67),祝日!$C$6:$D$28,2,0)),\"\",VLOOKUP(DATE(YEAR($A$3),H54,C67),祝日!$C$6:$D$28,2,0))","v":""},null,{"$f":"IF(ISERROR(VLOOKUP(DATE(YEAR($A$3),H54,E67),祝日!$C$6:$D$28,2,0)),\"\",VLOOKUP(DATE(YEAR($A$3),H54,E67),祝日!$C$6:$D$28,2,0))","v":""},null,{"$f":"IF(ISERROR(VLOOKUP(DATE(YEAR($A$3),H54,G67),祝日!$C$6:$D$28,2,0)),\"\",VLOOKUP(DATE(YEAR($A$3),H54,G67),祝日!$C$6:$D$28,2,0))","v":""},null,{"$f":"IF(ISERROR(VLOOKUP(DATE(YEAR($A$3),H54,I67),祝日!$C$6:$D$28,2,0)),\"\",VLOOKUP(DATE(YEAR($A$3),H54,I67),祝日!$C$6:$D$28,2,0))","v":""},null,{"$f":"IF(ISERROR(VLOOKUP(DATE(YEAR($A$3),H54,K67),祝日!$C$6:$D$28,2,0)),\"\",VLOOKUP(DATE(YEAR($A$3),H54,K67),祝日!$C$6:$D$28,2,0))","v":""},null,{"$f":"IF(ISERROR(VLOOKUP(DATE(YEAR($A$3),H54,M67),祝日!$C$6:$D$28,2,0)),\"\",VLOOKUP(DATE(YEAR($A$3),H54,M67),祝日!$C$6:$D$28,2,0))","v":""},null,{"$f":"IF(ISERROR(VLOOKUP(DATE(YEAR($A$3),H54,O67),祝日!$C$6:$D$28,2,0)),\"\",VLOOKUP(DATE(YEAR($A$3),H54,O67),祝日!$C$6:$D$28,2,0))","v":""},null,null,{"$f":"IF(ISERROR(VLOOKUP(DATE(YEAR($A$3),W54,R67),祝日!$C$6:$D$28,2,0)),\"\",VLOOKUP(DATE(YEAR($A$3),W54,R67),祝日!$C$6:$D$28,2,0))","v":""},null,{"$f":"IF(ISERROR(VLOOKUP(DATE(YEAR($A$3),W54,T67),祝日!$C$6:$D$28,2,0)),\"\",VLOOKUP(DATE(YEAR($A$3),W54,T67),祝日!$C$6:$D$28,2,0))","v":""},null,{"$f":"IF(ISERROR(VLOOKUP(DATE(YEAR($A$3),W54,V67),祝日!$C$6:$D$28,2,0)),\"\",VLOOKUP(DATE(YEAR($A$3),W54,V67),祝日!$C$6:$D$28,2,0))","v":""},null,{"$f":"IF(ISERROR(VLOOKUP(DATE(YEAR($A$3),W54,X67),祝日!$C$6:$D$28,2,0)),\"\",VLOOKUP(DATE(YEAR($A$3),W54,X67),祝日!$C$6:$D$28,2,0))","v":""},null,{"$f":"IF(ISERROR(VLOOKUP(DATE(YEAR($A$3),W54,Z67),祝日!$C$6:$D$28,2,0)),\"\",VLOOKUP(DATE(YEAR($A$3),W54,Z67),祝日!$C$6:$D$28,2,0))","v":""},null,{"$f":"IF(ISERROR(VLOOKUP(DATE(YEAR($A$3),W54,AB67),祝日!$C$6:$D$28,2,0)),\"\",VLOOKUP(DATE(YEAR($A$3),W54,AB67),祝日!$C$6:$D$28,2,0))","v":""},null,{"$f":"IF(ISERROR(VLOOKUP(DATE(YEAR($A$3),W54,AD67),祝日!$C$6:$D$28,2,0)),\"\",VLOOKUP(DATE(YEAR($A$3),W54,AD67),祝日!$C$6:$D$28,2,0))","v":""}]
[null,null,{"$f":"祝日!$A$33","v":"メルパソコン教室"},null,null,null,null,null,null,null,null,{"$f":"祝日!$D$33","v":"049-295-8641"},null,null,null,null,null,{"$f":"祝日!$A$33","v":"メルパソコン教室"},null,null,null,null,null,null,null,null,{"$f":"祝日!$D$33","v":"049-295-8641"}]
[]
[null,null,{"$f":"DATE(YEAR($A$3),H71,DAY($A$3))","v":"2020-05-01"},null,null,null,null,{"$f":"MONTH($A$3)+4","v":5},null,null,null,{"$f":"$M$2","v":2020},null,null,null,null,null,{"$f":"DATE(YEAR($A$3),W71,DAY($A$3))","v":"2020-11-01"},null,null,null,null,{"$f":"MONTH($A$3)+10","v":11},null,null,null,{"$f":"$M$2","v":2020}]
[]
[null,null,"日",null,"月",null,"火",null,"水",null,"木",null,"金",null,"土",null,null,"日",null,"月",null,"火",null,"水",null,"木",null,"金",null,"土"]
[null,null,{"$f":"IF(WEEKDAY(DATE(YEAR($A$3),H71,DAY($A$3)))=1,1,0)","v":0},null,{"$f":"IF(WEEKDAY(DATE(YEAR($A$3),H71,DAY($A$3)))=2,1,IF(C74>0,C74+1,0))","v":0},null,{"$f":"IF(WEEKDAY(DATE(YEAR($A$3),H71,DAY($A$3)))=3,1,IF(E74>0,E74+1,0))","v":0},null,{"$f":"IF(WEEKDAY(DATE(YEAR($A$3),H71,DAY($A$3)))=4,1,IF(G74>0,G74+1,0))","v":0},null,{"$f":"IF(WEEKDAY(DATE(YEAR($A$3),H71,DAY($A$3)))=5,1,IF(I74>0,I74+1,0))","v":0},null,{"$f":"IF(WEEKDAY(DATE(YEAR($A$3),H71,DAY($A$3)))=6,1,IF(K74>0,K74+1,0))","v":1},null,{"$f":"IF(WEEKDAY(DATE(YEAR($A$3),H71,DAY($A$3)))=7,1,IF(M74>0,M74+1,0))","v":2},null,null,{"$f":"IF(WEEKDAY(DATE(YEAR($A$3),W71,DAY($A$3)))=1,1,0)","v":1},null,{"$f":"IF(WEEKDAY(DATE(YEAR($A$3),W71,DAY($A$3)))=2,1,IF(R74>0,R74+1,0))","v":2},null,{"$f":"IF(WEEKDAY(DATE(YEAR($A$3),W71,DAY($A$3)))=3,1,IF(T74>0,T74+1,0))","v":3},null,{"$f":"IF(WEEKDAY(DATE(YEAR($A$3),W71,DAY($A$3)))=4,1,IF(V74>0,V74+1,0))","v":4},null,{"$f":"IF(WEEKDAY(DATE(YEAR($A$3),W71,DAY($A$3)))=5,1,IF(X74>0,X74+1,0))","v":5},null,{"$f":"IF(WEEKDAY(DATE(YEAR($A$3),W71,DAY($A$3)))=6,1,IF(Z74>0,Z74+1,0))","v":6},null,{"$f":"IF(WEEKDAY(DATE(YEAR($A$3),W71,DAY($A$3)))=7,1,IF(AB74>0,AB74+1,0))","v":7}]
[null,null,{"$f":"IF(ISERROR(VLOOKUP(DATE(YEAR($A$3),H71,C74),祝日!$C$6:$D$28,2,0)),\"\",VLOOKUP(DATE(YEAR($A$3),H71,C74),祝日!$C$6:$D$28,2,0))","v":""},null,{"$f":"IF(ISERROR(VLOOKUP(DATE(YEAR($A$3),H71,E74),祝日!$C$6:$D$28,2,0)),\"\",VLOOKUP(DATE(YEAR($A$3),H71,E74),祝日!$C$6:$D$28,2,0))","v":""},null,{"$f":"IF(ISERROR(VLOOKUP(DATE(YEAR($A$3),H71,G74),祝日!$C$6:$D$28,2,0)),\"\",VLOOKUP(DATE(YEAR($A$3),H71,G74),祝日!$C$6:$D$28,2,0))","v":""},null,{"$f":"IF(ISERROR(VLOOKUP(DATE(YEAR($A$3),H71,I74),祝日!$C$6:$D$28,2,0)),\"\",VLOOKUP(DATE(YEAR($A$3),H71,I74),祝日!$C$6:$D$28,2,0))","v":""},null,{"$f":"IF(ISERROR(VLOOKUP(DATE(YEAR($A$3),H71,K74),祝日!$C$6:$D$28,2,0)),\"\",VLOOKUP(DATE(YEAR($A$3),H71,K74),祝日!$C$6:$D$28,2,0))","v":""},null,{"$f":"IF(ISERROR(VLOOKUP(DATE(YEAR($A$3),H71,M74),祝日!$C$6:$D$28,2,0)),\"\",VLOOKUP(DATE(YEAR($A$3),H71,M74),祝日!$C$6:$D$28,2,0))","v":""},null,{"$f":"IF(ISERROR(VLOOKUP(DATE(YEAR($A$3),H71,O74),祝日!$C$6:$D$28,2,0)),\"\",VLOOKUP(DATE(YEAR($A$3),H71,O74),祝日!$C$6:$D$28,2,0))","v":""},null,null,{"$f":"IF(ISERROR(VLOOKUP(DATE(YEAR($A$3),W71,R74),祝日!$C$6:$D$28,2,0)),\"\",VLOOKUP(DATE(YEAR($A$3),W71,R74),祝日!$C$6:$D$28,2,0))","v":""},null,{"$f":"IF(ISERROR(VLOOKUP(DATE(YEAR($A$3),W71,T74),祝日!$C$6:$D$28,2,0)),\"\",VLOOKUP(DATE(YEAR($A$3),W71,T74),祝日!$C$6:$D$28,2,0))","v":""},null,{"$f":"IF(ISERROR(VLOOKUP(DATE(YEAR($A$3),W71,V74),祝日!$C$6:$D$28,2,0)),\"\",VLOOKUP(DATE(YEAR($A$3),W71,V74),祝日!$C$6:$D$28,2,0))","v":"文化の日"},null,{"$f":"IF(ISERROR(VLOOKUP(DATE(YEAR($A$3),W71,X74),祝日!$C$6:$D$28,2,0)),\"\",VLOOKUP(DATE(YEAR($A$3),W71,X74),祝日!$C$6:$D$28,2,0))","v":""},null,{"$f":"IF(ISERROR(VLOOKUP(DATE(YEAR($A$3),W71,Z74),祝日!$C$6:$D$28,2,0)),\"\",VLOOKUP(DATE(YEAR($A$3),W71,Z74),祝日!$C$6:$D$28,2,0))","v":""},null,{"$f":"IF(ISERROR(VLOOKUP(DATE(YEAR($A$3),W71,AB74),祝日!$C$6:$D$28,2,0)),\"\",VLOOKUP(DATE(YEAR($A$3),W71,AB74),祝日!$C$6:$D$28,2,0))","v":""},null,{"$f":"IF(ISERROR(VLOOKUP(DATE(YEAR($A$3),W71,AD74),祝日!$C$6:$D$28,2,0)),\"\",VLOOKUP(DATE(YEAR($A$3),W71,AD74),祝日!$C$6:$D$28,2,0))","v":""}]
[null,null,{"$f":"O74+1","v":3},{"$f":"IF(ISERROR(VLOOKUP(DATE(YEAR($A$3),H71,C76),祝日!$C$6:$D$28,3,0)),\"\",(VLOOKUP(DATE(YEAR($A$3),H71,C76),祝日!$C$6:$D$28,3,0)))","v":""},{"$f":"C76+1","v":4},null,{"$f":"E76+1","v":5},null,{"$f":"G76+1","v":6},null,{"$f":"I76+1","v":7},null,{"$f":"K76+1","v":8},null,{"$f":"M76+1","v":9},null,null,{"$f":"AD74+1","v":8},{"$f":"IF(ISERROR(VLOOKUP(DATE(YEAR($A$3),W71,R76),祝日!$C$6:$D$28,3,0)),\"\",(VLOOKUP(DATE(YEAR($A$3),W71,R76),祝日!$C$6:$D$28,3,0)))","v":""},{"$f":"R76+1","v":9},null,{"$f":"T76+1","v":10},null,{"$f":"V76+1","v":11},null,{"$f":"X76+1","v":12},null,{"$f":"Z76+1","v":13},null,{"$f":"AB76+1","v":14}]
[null,null,{"$f":"IF(ISERROR(VLOOKUP(DATE(YEAR($A$3),H71,C76),祝日!$C$6:$D$28,2,0)),\"\",VLOOKUP(DATE(YEAR($A$3),H71,C76),祝日!$C$6:$D$28,2,0))","v":"憲法記念日"},null,{"$f":"IF(AND(H71=1,E74>0),#REF!,IF(ISERROR(VLOOKUP(DATE(YEAR($A$3),H71,E76),祝日!$C$6:$D$28,2,0)),\"\",VLOOKUP(DATE(YEAR($A$3),H71,E76),祝日!$C$6:$D$28,2,0)))","v":"みどりの日"},null,{"$f":"IF(ISERROR(VLOOKUP(DATE(YEAR($A$3),H71,G76),祝日!$C$6:$D$28,2,0)),\"\",VLOOKUP(DATE(YEAR($A$3),H71,G76),祝日!$C$6:$D$28,2,0))","v":"子供の日"},null,{"$f":"IF(ISERROR(VLOOKUP(DATE(YEAR($A$3),H71,I76),祝日!$C$6:$D$28,2,0)),\"\",VLOOKUP(DATE(YEAR($A$3),H71,I76),祝日!$C$6:$D$28,2,0))","v":""},null,{"$f":"IF(ISERROR(VLOOKUP(DATE(YEAR($A$3),H71,K76),祝日!$C$6:$D$28,2,0)),\"\",VLOOKUP(DATE(YEAR($A$3),H71,K76),祝日!$C$6:$D$28,2,0))","v":""},null,{"$f":"IF(ISERROR(VLOOKUP(DATE(YEAR($A$3),H71,M76),祝日!$C$6:$D$28,2,0)),\"\",VLOOKUP(DATE(YEAR($A$3),H71,M76),祝日!$C$6:$D$28,2,0))","v":""},null,{"$f":"IF(ISERROR(VLOOKUP(DATE(YEAR($A$3),H71,O76),祝日!$C$6:$D$28,2,0)),\"\",VLOOKUP(DATE(YEAR($A$3),H71,O76),祝日!$C$6:$D$28,2,0))","v":""},null,null,{"$f":"IF(ISERROR(VLOOKUP(DATE(YEAR($A$3),W71,R76),祝日!$C$6:$D$28,2,0)),\"\",VLOOKUP(DATE(YEAR($A$3),W71,R76),祝日!$C$6:$D$28,2,0))","v":""},null,{"$f":"IF(AND(W71=1,T74>0),#REF!,IF(ISERROR(VLOOKUP(DATE(YEAR($A$3),W71,T76),祝日!$C$6:$D$28,2,0)),\"\",VLOOKUP(DATE(YEAR($A$3),W71,T76),祝日!$C$6:$D$28,2,0)))","v":""},null,{"$f":"IF(ISERROR(VLOOKUP(DATE(YEAR($A$3),W71,V76),祝日!$C$6:$D$28,2,0)),\"\",VLOOKUP(DATE(YEAR($A$3),W71,V76),祝日!$C$6:$D$28,2,0))","v":""},null,{"$f":"IF(ISERROR(VLOOKUP(DATE(YEAR($A$3),W71,X76),祝日!$C$6:$D$28,2,0)),\"\",VLOOKUP(DATE(YEAR($A$3),W71,X76),祝日!$C$6:$D$28,2,0))","v":""},null,{"$f":"IF(ISERROR(VLOOKUP(DATE(YEAR($A$3),W71,Z76),祝日!$C$6:$D$28,2,0)),\"\",VLOOKUP(DATE(YEAR($A$3),W71,Z76),祝日!$C$6:$D$28,2,0))","v":""},null,{"$f":"IF(ISERROR(VLOOKUP(DATE(YEAR($A$3),W71,AB76),祝日!$C$6:$D$28,2,0)),\"\",VLOOKUP(DATE(YEAR($A$3),W71,AB76),祝日!$C$6:$D$28,2,0))","v":""},null,{"$f":"IF(ISERROR(VLOOKUP(DATE(YEAR($A$3),W71,AD76),祝日!$C$6:$D$28,2,0)),\"\",VLOOKUP(DATE(YEAR($A$3),W71,AD76),祝日!$C$6:$D$28,2,0))","v":""}]
[null,null,{"$f":"O76+1","v":10},null,{"$f":"C78+1","v":11},null,{"$f":"E78+1","v":12},null,{"$f":"G78+1","v":13},null,{"$f":"I78+1","v":14},null,{"$f":"K78+1","v":15},null,{"$f":"M78+1","v":16},null,null,{"$f":"AD76+1","v":15},null,{"$f":"R78+1","v":16},null,{"$f":"T78+1","v":17},null,{"$f":"V78+1","v":18},null,{"$f":"X78+1","v":19},null,{"$f":"Z78+1","v":20},null,{"$f":"AB78+1","v":21}]
[null,null,{"$f":"IF(ISERROR(VLOOKUP(DATE(YEAR($A$3),H71,C78),祝日!$C$6:$D$28,2,0)),\"\",VLOOKUP(DATE(YEAR($A$3),H71,C78),祝日!$C$6:$D$28,2,0))","v":""},null,{"$f":"IF(AND(H71=1,E74=0),祝日!$D$7,IF(ISERROR(VLOOKUP(DATE(YEAR($A$3),H71,E78),祝日!$C$6:$D$28,2,0)),\"\",VLOOKUP(DATE(YEAR($A$3),H71,E78),祝日!$C$6:$D$28,2,0)))","v":""},null,{"$f":"IF(ISERROR(VLOOKUP(DATE(YEAR($A$3),H71,G78),祝日!$C$6:$D$28,2,0)),\"\",VLOOKUP(DATE(YEAR($A$3),H71,G78),祝日!$C$6:$D$28,2,0))","v":""},null,{"$f":"IF(ISERROR(VLOOKUP(DATE(YEAR($A$3),H71,I78),祝日!$C$6:$D$28,2,0)),\"\",VLOOKUP(DATE(YEAR($A$3),H71,I78),祝日!$C$6:$D$28,2,0))","v":""},null,{"$f":"IF(ISERROR(VLOOKUP(DATE(YEAR($A$3),H71,K78),祝日!$C$6:$D$28,2,0)),\"\",VLOOKUP(DATE(YEAR($A$3),H71,K78),祝日!$C$6:$D$28,2,0))","v":""},null,{"$f":"IF(ISERROR(VLOOKUP(DATE(YEAR($A$3),H71,M78),祝日!$C$6:$D$28,2,0)),\"\",VLOOKUP(DATE(YEAR($A$3),H71,M78),祝日!$C$6:$D$28,2,0))","v":""},null,{"$f":"IF(ISERROR(VLOOKUP(DATE(YEAR($A$3),H71,O78),祝日!$C$6:$D$28,2,0)),\"\",VLOOKUP(DATE(YEAR($A$3),H71,O78),祝日!$C$6:$D$28,2,0))","v":""},null,null,{"$f":"IF(ISERROR(VLOOKUP(DATE(YEAR($A$3),W71,R78),祝日!$C$6:$D$28,2,0)),\"\",VLOOKUP(DATE(YEAR($A$3),W71,R78),祝日!$C$6:$D$28,2,0))","v":""},null,{"$f":"IF(AND(W71=1,T74=0),祝日!$D$7,IF(ISERROR(VLOOKUP(DATE(YEAR($A$3),W71,T78),祝日!$C$6:$D$28,2,0)),\"\",VLOOKUP(DATE(YEAR($A$3),W71,T78),祝日!$C$6:$D$28,2,0)))","v":""},null,{"$f":"IF(ISERROR(VLOOKUP(DATE(YEAR($A$3),W71,V78),祝日!$C$6:$D$28,2,0)),\"\",VLOOKUP(DATE(YEAR($A$3),W71,V78),祝日!$C$6:$D$28,2,0))","v":""},null,{"$f":"IF(ISERROR(VLOOKUP(DATE(YEAR($A$3),W71,X78),祝日!$C$6:$D$28,2,0)),\"\",VLOOKUP(DATE(YEAR($A$3),W71,X78),祝日!$C$6:$D$28,2,0))","v":""},null,{"$f":"IF(ISERROR(VLOOKUP(DATE(YEAR($A$3),W71,Z78),祝日!$C$6:$D$28,2,0)),\"\",VLOOKUP(DATE(YEAR($A$3),W71,Z78),祝日!$C$6:$D$28,2,0))","v":""},null,{"$f":"IF(ISERROR(VLOOKUP(DATE(YEAR($A$3),W71,AB78),祝日!$C$6:$D$28,2,0)),\"\",VLOOKUP(DATE(YEAR($A$3),W71,AB78),祝日!$C$6:$D$28,2,0))","v":""},null,{"$f":"IF(ISERROR(VLOOKUP(DATE(YEAR($A$3),W71,AD78),祝日!$C$6:$D$28,2,0)),\"\",VLOOKUP(DATE(YEAR($A$3),W71,AD78),祝日!$C$6:$D$28,2,0))","v":""}]
[null,null,{"$f":"O78+1","v":17},null,{"$f":"C80+1","v":18},null,{"$f":"E80+1","v":19},null,{"$f":"G80+1","v":20},null,{"$f":"I80+1","v":21},null,{"$f":"K80+1","v":22},null,{"$f":"M80+1","v":23},null,null,{"$f":"AD78+1","v":22},null,{"$f":"R80+1","v":23},null,{"$f":"T80+1","v":24},null,{"$f":"V80+1","v":25},null,{"$f":"X80+1","v":26},null,{"$f":"Z80+1","v":27},null,{"$f":"AB80+1","v":28}]
[null,null,{"$f":"IF(ISERROR(VLOOKUP(DATE(YEAR($A$3),H71,C80),祝日!$C$6:$D$28,2,0)),\"\",VLOOKUP(DATE(YEAR($A$3),H71,C80),祝日!$C$6:$D$28,2,0))","v":""},null,{"$f":"IF(ISERROR(VLOOKUP(DATE(YEAR($A$3),H71,E80),祝日!$C$6:$D$28,2,0)),\"\",VLOOKUP(DATE(YEAR($A$3),H71,E80),祝日!$C$6:$D$28,2,0))","v":""},null,{"$f":"IF(ISERROR(VLOOKUP(DATE(YEAR($A$3),H71,G80),祝日!$C$6:$D$28,2,0)),\"\",VLOOKUP(DATE(YEAR($A$3),H71,G80),祝日!$C$6:$D$28,2,0))","v":""},null,{"$f":"IF(ISERROR(VLOOKUP(DATE(YEAR($A$3),H71,I80),祝日!$C$6:$D$28,2,0)),\"\",VLOOKUP(DATE(YEAR($A$3),H71,I80),祝日!$C$6:$D$28,2,0))","v":""},null,{"$f":"IF(ISERROR(VLOOKUP(DATE(YEAR($A$3),H71,K80),祝日!$C$6:$D$28,2,0)),\"\",VLOOKUP(DATE(YEAR($A$3),H71,K80),祝日!$C$6:$D$28,2,0))","v":""},null,{"$f":"IF(ISERROR(VLOOKUP(DATE(YEAR($A$3),H71,M80),祝日!$C$6:$D$28,2,0)),\"\",VLOOKUP(DATE(YEAR($A$3),H71,M80),祝日!$C$6:$D$28,2,0))","v":""},null,{"$f":"IF(ISERROR(VLOOKUP(DATE(YEAR($A$3),H71,O80),祝日!$C$6:$D$28,2,0)),\"\",VLOOKUP(DATE(YEAR($A$3),H71,O80),祝日!$C$6:$D$28,2,0))","v":""},null,null,{"$f":"IF(ISERROR(VLOOKUP(DATE(YEAR($A$3),W71,R80),祝日!$C$6:$D$28,2,0)),\"\",VLOOKUP(DATE(YEAR($A$3),W71,R80),祝日!$C$6:$D$28,2,0))","v":""},null,{"$f":"IF(ISERROR(VLOOKUP(DATE(YEAR($A$3),W71,T80),祝日!$C$6:$D$28,2,0)),\"\",VLOOKUP(DATE(YEAR($A$3),W71,T80),祝日!$C$6:$D$28,2,0))","v":"勤労感謝の日"},null,{"$f":"IF(ISERROR(VLOOKUP(DATE(YEAR($A$3),W71,V80),祝日!$C$6:$D$28,2,0)),\"\",VLOOKUP(DATE(YEAR($A$3),W71,V80),祝日!$C$6:$D$28,2,0))","v":""},null,{"$f":"IF(ISERROR(VLOOKUP(DATE(YEAR($A$3),W71,X80),祝日!$C$6:$D$28,2,0)),\"\",VLOOKUP(DATE(YEAR($A$3),W71,X80),祝日!$C$6:$D$28,2,0))","v":""},null,{"$f":"IF(ISERROR(VLOOKUP(DATE(YEAR($A$3),W71,Z80),祝日!$C$6:$D$28,2,0)),\"\",VLOOKUP(DATE(YEAR($A$3),W71,Z80),祝日!$C$6:$D$28,2,0))","v":""},null,{"$f":"IF(ISERROR(VLOOKUP(DATE(YEAR($A$3),W71,AB80),祝日!$C$6:$D$28,2,0)),\"\",VLOOKUP(DATE(YEAR($A$3),W71,AB80),祝日!$C$6:$D$28,2,0))","v":""},null,{"$f":"IF(ISERROR(VLOOKUP(DATE(YEAR($A$3),W71,AD80),祝日!$C$6:$D$28,2,0)),\"\",VLOOKUP(DATE(YEAR($A$3),W71,AD80),祝日!$C$6:$D$28,2,0))","v":""}]
[null,null,{"$f":"IF(AND(O80<DAY(DATE(YEAR($A$3),H71+1,0)),O80>0),O80+1,0)","v":24},null,{"$f":"IF(AND(C82<DAY(DATE(YEAR($A$3),H71+1,0)),C82>0),C82+1,0)","v":25},null,{"$f":"IF(AND(E82<DAY(DATE(YEAR($A$3),H71+1,0)),E82>0),E82+1,0)","v":26},null,{"$f":"IF(AND(G82<DAY(DATE(YEAR($A$3),H71+1,0)),G82>0),G82+1,0)","v":27},null,{"$f":"IF(AND(I82<DAY(DATE(YEAR($A$3),H71+1,0)),I82>0),I82+1,0)","v":28},null,{"$f":"IF(AND(K82<DAY(DATE(YEAR($A$3),H71+1,0)),K82>0),K82+1,0)","v":29},null,{"$f":"IF(AND(M82<DAY(DATE(YEAR($A$3),H71+1,0)),M82>0),M82+1,0)","v":30},null,null,{"$f":"IF(AND(AD80<DAY(DATE(YEAR($A$3),W71+1,0)),AD80>0),AD80+1,0)","v":29},null,{"$f":"IF(AND(R82<DAY(DATE(YEAR($A$3),W71+1,0)),R82>0),R82+1,0)","v":30},null,{"$f":"IF(AND(T82<DAY(DATE(YEAR($A$3),W71+1,0)),T82>0),T82+1,0)","v":0},null,{"$f":"IF(AND(V82<DAY(DATE(YEAR($A$3),W71+1,0)),V82>0),V82+1,0)","v":0},null,{"$f":"IF(AND(X82<DAY(DATE(YEAR($A$3),W71+1,0)),X82>0),X82+1,0)","v":0},null,{"$f":"IF(AND(Z82<DAY(DATE(YEAR($A$3),W71+1,0)),Z82>0),Z82+1,0)","v":0},null,{"$f":"IF(AND(AB82<DAY(DATE(YEAR($A$3),W71+1,0)),AB82>0),AB82+1,0)","v":0}]
[null,null,{"$f":"IF(ISERROR(VLOOKUP(DATE(YEAR($A$3),H71,C82),祝日!$C$6:$D$28,2,0)),\"\",VLOOKUP(DATE(YEAR($A$3),H71,C82),祝日!$C$6:$D$28,2,0))","v":""},null,{"$f":"IF(ISERROR(VLOOKUP(DATE(YEAR($A$3),H71,E82),祝日!$C$6:$D$28,2,0)),\"\",VLOOKUP(DATE(YEAR($A$3),H71,E82),祝日!$C$6:$D$28,2,0))","v":""},null,{"$f":"IF(ISERROR(VLOOKUP(DATE(YEAR($A$3),H71,G82),祝日!$C$6:$D$28,2,0)),\"\",VLOOKUP(DATE(YEAR($A$3),H71,G82),祝日!$C$6:$D$28,2,0))","v":""},null,{"$f":"IF(ISERROR(VLOOKUP(DATE(YEAR($A$3),H71,I82),祝日!$C$6:$D$28,2,0)),\"\",VLOOKUP(DATE(YEAR($A$3),H71,I82),祝日!$C$6:$D$28,2,0))","v":""},null,{"$f":"IF(ISERROR(VLOOKUP(DATE(YEAR($A$3),H71,K82),祝日!$C$6:$D$28,2,0)),\"\",VLOOKUP(DATE(YEAR($A$3),H71,K82),祝日!$C$6:$D$28,2,0))","v":""},null,{"$f":"IF(ISERROR(VLOOKUP(DATE(YEAR($A$3),H71,M82),祝日!$C$6:$D$28,2,0)),\"\",VLOOKUP(DATE(YEAR($A$3),H71,M82),祝日!$C$6:$D$28,2,0))","v":""},null,{"$f":"IF(ISERROR(VLOOKUP(DATE(YEAR($A$3),H71,O82),祝日!$C$6:$D$28,2,0)),\"\",VLOOKUP(DATE(YEAR($A$3),H71,O82),祝日!$C$6:$D$28,2,0))","v":""},null,null,{"$f":"IF(ISERROR(VLOOKUP(DATE(YEAR($A$3),W71,R82),祝日!$C$6:$D$28,2,0)),\"\",VLOOKUP(DATE(YEAR($A$3),W71,R82),祝日!$C$6:$D$28,2,0))","v":""},null,{"$f":"IF(ISERROR(VLOOKUP(DATE(YEAR($A$3),W71,T82),祝日!$C$6:$D$28,2,0)),\"\",VLOOKUP(DATE(YEAR($A$3),W71,T82),祝日!$C$6:$D$28,2,0))","v":""},null,{"$f":"IF(ISERROR(VLOOKUP(DATE(YEAR($A$3),W71,V82),祝日!$C$6:$D$28,2,0)),\"\",VLOOKUP(DATE(YEAR($A$3),W71,V82),祝日!$C$6:$D$28,2,0))","v":""},null,{"$f":"IF(ISERROR(VLOOKUP(DATE(YEAR($A$3),W71,X82),祝日!$C$6:$D$28,2,0)),\"\",VLOOKUP(DATE(YEAR($A$3),W71,X82),祝日!$C$6:$D$28,2,0))","v":""},null,{"$f":"IF(ISERROR(VLOOKUP(DATE(YEAR($A$3),W71,Z82),祝日!$C$6:$D$28,2,0)),\"\",VLOOKUP(DATE(YEAR($A$3),W71,Z82),祝日!$C$6:$D$28,2,0))","v":""},null,{"$f":"IF(ISERROR(VLOOKUP(DATE(YEAR($A$3),W71,AB82),祝日!$C$6:$D$28,2,0)),\"\",VLOOKUP(DATE(YEAR($A$3),W71,AB82),祝日!$C$6:$D$28,2,0))","v":""},null,{"$f":"IF(ISERROR(VLOOKUP(DATE(YEAR($A$3),W71,AD82),祝日!$C$6:$D$28,2,0)),\"\",VLOOKUP(DATE(YEAR($A$3),W71,AD82),祝日!$C$6:$D$28,2,0))","v":""}]
[null,null,{"$f":"IF(AND(O82<DAY(DATE(YEAR($A$3),H71+1,0)),O82>0),O82+1,0)","v":31},null,{"$f":"IF(AND(C84<DAY(DATE(YEAR($A$3),H71+1,0)),C84>0),C84+1,0)","v":0},null,{"$f":"IF(AND(E84<DAY(DATE(YEAR($A$3),H71+1,0)),E84>0),E84+1,0)","v":0},null,{"$f":"IF(AND(G84<DAY(DATE(YEAR($A$3),H71+1,0)),G84>0),G84+1,0)","v":0},null,{"$f":"IF(AND(I84<DAY(DATE(YEAR($A$3),H71+1,0)),I84>0),I84+1,0)","v":0},null,{"$f":"IF(AND(K84<DAY(DATE(YEAR($A$3),H71+1,0)),K84>0),K84+1,0)","v":0},null,{"$f":"IF(AND(M84<DAY(DATE(YEAR($A$3),H71+1,0)),M84>0),M84+1,0)","v":0},null,null,{"$f":"IF(AND(AD82<DAY(DATE(YEAR($A$3),W71+1,0)),AD82>0),AD82+1,0)","v":0},null,{"$f":"IF(AND(R84<DAY(DATE(YEAR($A$3),W71+1,0)),R84>0),R84+1,0)","v":0},null,{"$f":"IF(AND(T84<DAY(DATE(YEAR($A$3),W71+1,0)),T84>0),T84+1,0)","v":0},null,{"$f":"IF(AND(V84<DAY(DATE(YEAR($A$3),W71+1,0)),V84>0),V84+1,0)","v":0},null,{"$f":"IF(AND(X84<DAY(DATE(YEAR($A$3),W71+1,0)),X84>0),X84+1,0)","v":0},null,{"$f":"IF(AND(Z84<DAY(DATE(YEAR($A$3),W71+1,0)),Z84>0),Z84+1,0)","v":0},null,{"$f":"IF(AND(AB84<DAY(DATE(YEAR($A$3),W71+1,0)),AB84>0),AB84+1,0)","v":0}]
[null,null,{"$f":"IF(ISERROR(VLOOKUP(DATE(YEAR($A$3),H71,C84),祝日!$C$6:$D$28,2,0)),\"\",VLOOKUP(DATE(YEAR($A$3),H71,C84),祝日!$C$6:$D$28,2,0))","v":""},null,{"$f":"IF(ISERROR(VLOOKUP(DATE(YEAR($A$3),H71,E84),祝日!$C$6:$D$28,2,0)),\"\",VLOOKUP(DATE(YEAR($A$3),H71,E84),祝日!$C$6:$D$28,2,0))","v":""},null,{"$f":"IF(ISERROR(VLOOKUP(DATE(YEAR($A$3),H71,G84),祝日!$C$6:$D$28,2,0)),\"\",VLOOKUP(DATE(YEAR($A$3),H71,G84),祝日!$C$6:$D$28,2,0))","v":""},null,{"$f":"IF(ISERROR(VLOOKUP(DATE(YEAR($A$3),H71,I84),祝日!$C$6:$D$28,2,0)),\"\",VLOOKUP(DATE(YEAR($A$3),H71,I84),祝日!$C$6:$D$28,2,0))","v":""},null,{"$f":"IF(ISERROR(VLOOKUP(DATE(YEAR($A$3),H71,K84),祝日!$C$6:$D$28,2,0)),\"\",VLOOKUP(DATE(YEAR($A$3),H71,K84),祝日!$C$6:$D$28,2,0))","v":""},null,{"$f":"IF(ISERROR(VLOOKUP(DATE(YEAR($A$3),H71,M84),祝日!$C$6:$D$28,2,0)),\"\",VLOOKUP(DATE(YEAR($A$3),H71,M84),祝日!$C$6:$D$28,2,0))","v":""},null,{"$f":"IF(ISERROR(VLOOKUP(DATE(YEAR($A$3),H71,O84),祝日!$C$6:$D$28,2,0)),\"\",VLOOKUP(DATE(YEAR($A$3),H71,O84),祝日!$C$6:$D$28,2,0))","v":""},null,null,{"$f":"IF(ISERROR(VLOOKUP(DATE(YEAR($A$3),W71,R84),祝日!$C$6:$D$28,2,0)),\"\",VLOOKUP(DATE(YEAR($A$3),W71,R84),祝日!$C$6:$D$28,2,0))","v":""},null,{"$f":"IF(ISERROR(VLOOKUP(DATE(YEAR($A$3),W71,T84),祝日!$C$6:$D$28,2,0)),\"\",VLOOKUP(DATE(YEAR($A$3),W71,T84),祝日!$C$6:$D$28,2,0))","v":""},null,{"$f":"IF(ISERROR(VLOOKUP(DATE(YEAR($A$3),W71,V84),祝日!$C$6:$D$28,2,0)),\"\",VLOOKUP(DATE(YEAR($A$3),W71,V84),祝日!$C$6:$D$28,2,0))","v":""},null,{"$f":"IF(ISERROR(VLOOKUP(DATE(YEAR($A$3),W71,X84),祝日!$C$6:$D$28,2,0)),\"\",VLOOKUP(DATE(YEAR($A$3),W71,X84),祝日!$C$6:$D$28,2,0))","v":""},null,{"$f":"IF(ISERROR(VLOOKUP(DATE(YEAR($A$3),W71,Z84),祝日!$C$6:$D$28,2,0)),\"\",VLOOKUP(DATE(YEAR($A$3),W71,Z84),祝日!$C$6:$D$28,2,0))","v":""},null,{"$f":"IF(ISERROR(VLOOKUP(DATE(YEAR($A$3),W71,AB84),祝日!$C$6:$D$28,2,0)),\"\",VLOOKUP(DATE(YEAR($A$3),W71,AB84),祝日!$C$6:$D$28,2,0))","v":""},null,{"$f":"IF(ISERROR(VLOOKUP(DATE(YEAR($A$3),W71,AD84),祝日!$C$6:$D$28,2,0)),\"\",VLOOKUP(DATE(YEAR($A$3),W71,AD84),祝日!$C$6:$D$28,2,0))","v":""}]
[null,null,{"$f":"祝日!$A$33","v":"メルパソコン教室"},null,null,null,null,null,null,null,null,{"$f":"祝日!$D$33","v":"049-295-8641"},null,null,null,null,null,{"$f":"祝日!$A$33","v":"メルパソコン教室"},null,null,null,null,null,null,null,null,{"$f":"祝日!$D$33","v":"049-295-8641"}]
[]
[null,null,{"$f":"DATE(YEAR($A$3),H88,DAY($A$3))","v":"2020-06-01"},null,null,null,null,{"$f":"MONTH($A$3)+5","v":6},null,null,null,{"$f":"$M$2","v":2020},null,null,null,null,null,{"$f":"DATE(YEAR($A$3),W88,DAY($A$3))","v":"2020-12-01"},null,null,null,null,{"$f":"MONTH($A$3)+11","v":12},null,null,null,{"$f":"$M$2","v":2020}]
[]
[null,null,"日",null,"月",null,"火",null,"水",null,"木",null,"金",null,"土",null,null,"日",null,"月",null,"火",null,"水",null,"木",null,"金",null,"土"]
[null,null,{"$f":"IF(WEEKDAY(DATE(YEAR($A$3),H88,DAY($A$3)))=1,1,0)","v":0},null,{"$f":"IF(WEEKDAY(DATE(YEAR($A$3),H88,DAY($A$3)))=2,1,IF(C91>0,C91+1,0))","v":1},null,{"$f":"IF(WEEKDAY(DATE(YEAR($A$3),H88,DAY($A$3)))=3,1,IF(E91>0,E91+1,0))","v":2},null,{"$f":"IF(WEEKDAY(DATE(YEAR($A$3),H88,DAY($A$3)))=4,1,IF(G91>0,G91+1,0))","v":3},null,{"$f":"IF(WEEKDAY(DATE(YEAR($A$3),H88,DAY($A$3)))=5,1,IF(I91>0,I91+1,0))","v":4},null,{"$f":"IF(WEEKDAY(DATE(YEAR($A$3),H88,DAY($A$3)))=6,1,IF(K91>0,K91+1,0))","v":5},null,{"$f":"IF(WEEKDAY(DATE(YEAR($A$3),H88,DAY($A$3)))=7,1,IF(M91>0,M91+1,0))","v":6},null,null,{"$f":"IF(WEEKDAY(DATE(YEAR($A$3),W88,DAY($A$3)))=1,1,0)","v":0},null,{"$f":"IF(WEEKDAY(DATE(YEAR($A$3),W88,DAY($A$3)))=2,1,IF(R91>0,R91+1,0))","v":0},null,{"$f":"IF(WEEKDAY(DATE(YEAR($A$3),W88,DAY($A$3)))=3,1,IF(T91>0,T91+1,0))","v":1},null,{"$f":"IF(WEEKDAY(DATE(YEAR($A$3),W88,DAY($A$3)))=4,1,IF(V91>0,V91+1,0))","v":2},null,{"$f":"IF(WEEKDAY(DATE(YEAR($A$3),W88,DAY($A$3)))=5,1,IF(X91>0,X91+1,0))","v":3},null,{"$f":"IF(WEEKDAY(DATE(YEAR($A$3),W88,DAY($A$3)))=6,1,IF(Z91>0,Z91+1,0))","v":4},null,{"$f":"IF(WEEKDAY(DATE(YEAR($A$3),W88,DAY($A$3)))=7,1,IF(AB91>0,AB91+1,0))","v":5}]
[null,null,{"$f":"IF(ISERROR(VLOOKUP(DATE(YEAR($A$3),H88,C91),祝日!$C$6:$D$28,2,0)),\"\",VLOOKUP(DATE(YEAR($A$3),H88,C91),祝日!$C$6:$D$28,2,0))","v":""},null,{"$f":"IF(ISERROR(VLOOKUP(DATE(YEAR($A$3),H88,E91),祝日!$C$6:$D$28,2,0)),\"\",VLOOKUP(DATE(YEAR($A$3),H88,E91),祝日!$C$6:$D$28,2,0))","v":""},null,{"$f":"IF(ISERROR(VLOOKUP(DATE(YEAR($A$3),H88,G91),祝日!$C$6:$D$28,2,0)),\"\",VLOOKUP(DATE(YEAR($A$3),H88,G91),祝日!$C$6:$D$28,2,0))","v":""},null,{"$f":"IF(ISERROR(VLOOKUP(DATE(YEAR($A$3),H88,I91),祝日!$C$6:$D$28,2,0)),\"\",VLOOKUP(DATE(YEAR($A$3),H88,I91),祝日!$C$6:$D$28,2,0))","v":""},null,{"$f":"IF(ISERROR(VLOOKUP(DATE(YEAR($A$3),H88,K91),祝日!$C$6:$D$28,2,0)),\"\",VLOOKUP(DATE(YEAR($A$3),H88,K91),祝日!$C$6:$D$28,2,0))","v":""},null,{"$f":"IF(ISERROR(VLOOKUP(DATE(YEAR($A$3),H88,M91),祝日!$C$6:$D$28,2,0)),\"\",VLOOKUP(DATE(YEAR($A$3),H88,M91),祝日!$C$6:$D$28,2,0))","v":""},null,{"$f":"IF(ISERROR(VLOOKUP(DATE(YEAR($A$3),H88,O91),祝日!$C$6:$D$28,2,0)),\"\",VLOOKUP(DATE(YEAR($A$3),H88,O91),祝日!$C$6:$D$28,2,0))","v":""},null,null,{"$f":"IF(ISERROR(VLOOKUP(DATE(YEAR($A$3),W88,R91),祝日!$C$6:$D$28,2,0)),\"\",VLOOKUP(DATE(YEAR($A$3),W88,R91),祝日!$C$6:$D$28,2,0))","v":""},null,{"$f":"IF(ISERROR(VLOOKUP(DATE(YEAR($A$3),W88,T91),祝日!$C$6:$D$28,2,0)),\"\",VLOOKUP(DATE(YEAR($A$3),W88,T91),祝日!$C$6:$D$28,2,0))","v":""},null,{"$f":"IF(ISERROR(VLOOKUP(DATE(YEAR($A$3),W88,V91),祝日!$C$6:$D$28,2,0)),\"\",VLOOKUP(DATE(YEAR($A$3),W88,V91),祝日!$C$6:$D$28,2,0))","v":""},null,{"$f":"IF(ISERROR(VLOOKUP(DATE(YEAR($A$3),W88,X91),祝日!$C$6:$D$28,2,0)),\"\",VLOOKUP(DATE(YEAR($A$3),W88,X91),祝日!$C$6:$D$28,2,0))","v":""},null,{"$f":"IF(ISERROR(VLOOKUP(DATE(YEAR($A$3),W88,Z91),祝日!$C$6:$D$28,2,0)),\"\",VLOOKUP(DATE(YEAR($A$3),W88,Z91),祝日!$C$6:$D$28,2,0))","v":""},null,{"$f":"IF(ISERROR(VLOOKUP(DATE(YEAR($A$3),W88,AB91),祝日!$C$6:$D$28,2,0)),\"\",VLOOKUP(DATE(YEAR($A$3),W88,AB91),祝日!$C$6:$D$28,2,0))","v":""},null,{"$f":"IF(ISERROR(VLOOKUP(DATE(YEAR($A$3),W88,AD91),祝日!$C$6:$D$28,2,0)),\"\",VLOOKUP(DATE(YEAR($A$3),W88,AD91),祝日!$C$6:$D$28,2,0))","v":""}]
[null,null,{"$f":"O91+1","v":7},{"$f":"IF(ISERROR(VLOOKUP(DATE(YEAR($A$3),H88,C93),祝日!$C$6:$D$28,3,0)),\"\",(VLOOKUP(DATE(YEAR($A$3),H88,C93),祝日!$C$6:$D$28,3,0)))","v":""},{"$f":"C93+1","v":8},null,{"$f":"E93+1","v":9},null,{"$f":"G93+1","v":10},null,{"$f":"I93+1","v":11},null,{"$f":"K93+1","v":12},null,{"$f":"M93+1","v":13},null,null,{"$f":"AD91+1","v":6},{"$f":"IF(ISERROR(VLOOKUP(DATE(YEAR($A$3),W88,R93),祝日!$C$6:$D$28,3,0)),\"\",(VLOOKUP(DATE(YEAR($A$3),W88,R93),祝日!$C$6:$D$28,3,0)))","v":""},{"$f":"R93+1","v":7},null,{"$f":"T93+1","v":8},null,{"$f":"V93+1","v":9},null,{"$f":"X93+1","v":10},null,{"$f":"Z93+1","v":11},null,{"$f":"AB93+1","v":12}]
[null,null,{"$f":"IF(ISERROR(VLOOKUP(DATE(YEAR($A$3),H88,C93),祝日!$C$6:$D$28,2,0)),\"\",VLOOKUP(DATE(YEAR($A$3),H88,C93),祝日!$C$6:$D$28,2,0))","v":""},null,{"$f":"IF(AND(H88=1,E91>0),#REF!,IF(ISERROR(VLOOKUP(DATE(YEAR($A$3),H88,E93),祝日!$C$6:$D$28,2,0)),\"\",VLOOKUP(DATE(YEAR($A$3),H88,E93),祝日!$C$6:$D$28,2,0)))","v":""},null,{"$f":"IF(ISERROR(VLOOKUP(DATE(YEAR($A$3),H88,G93),祝日!$C$6:$D$28,2,0)),\"\",VLOOKUP(DATE(YEAR($A$3),H88,G93),祝日!$C$6:$D$28,2,0))","v":""},null,{"$f":"IF(ISERROR(VLOOKUP(DATE(YEAR($A$3),H88,I93),祝日!$C$6:$D$28,2,0)),\"\",VLOOKUP(DATE(YEAR($A$3),H88,I93),祝日!$C$6:$D$28,2,0))","v":""},null,{"$f":"IF(ISERROR(VLOOKUP(DATE(YEAR($A$3),H88,K93),祝日!$C$6:$D$28,2,0)),\"\",VLOOKUP(DATE(YEAR($A$3),H88,K93),祝日!$C$6:$D$28,2,0))","v":""},null,{"$f":"IF(ISERROR(VLOOKUP(DATE(YEAR($A$3),H88,M93),祝日!$C$6:$D$28,2,0)),\"\",VLOOKUP(DATE(YEAR($A$3),H88,M93),祝日!$C$6:$D$28,2,0))","v":""},null,{"$f":"IF(ISERROR(VLOOKUP(DATE(YEAR($A$3),H88,O93),祝日!$C$6:$D$28,2,0)),\"\",VLOOKUP(DATE(YEAR($A$3),H88,O93),祝日!$C$6:$D$28,2,0))","v":""},null,null,{"$f":"IF(ISERROR(VLOOKUP(DATE(YEAR($A$3),W88,R93),祝日!$C$6:$D$28,2,0)),\"\",VLOOKUP(DATE(YEAR($A$3),W88,R93),祝日!$C$6:$D$28,2,0))","v":""},null,{"$f":"IF(AND(W88=1,T91>0),#REF!,IF(ISERROR(VLOOKUP(DATE(YEAR($A$3),W88,T93),祝日!$C$6:$D$28,2,0)),\"\",VLOOKUP(DATE(YEAR($A$3),W88,T93),祝日!$C$6:$D$28,2,0)))","v":""},null,{"$f":"IF(ISERROR(VLOOKUP(DATE(YEAR($A$3),W88,V93),祝日!$C$6:$D$28,2,0)),\"\",VLOOKUP(DATE(YEAR($A$3),W88,V93),祝日!$C$6:$D$28,2,0))","v":""},null,{"$f":"IF(ISERROR(VLOOKUP(DATE(YEAR($A$3),W88,X93),祝日!$C$6:$D$28,2,0)),\"\",VLOOKUP(DATE(YEAR($A$3),W88,X93),祝日!$C$6:$D$28,2,0))","v":""},null,{"$f":"IF(ISERROR(VLOOKUP(DATE(YEAR($A$3),W88,Z93),祝日!$C$6:$D$28,2,0)),\"\",VLOOKUP(DATE(YEAR($A$3),W88,Z93),祝日!$C$6:$D$28,2,0))","v":""},null,{"$f":"IF(ISERROR(VLOOKUP(DATE(YEAR($A$3),W88,AB93),祝日!$C$6:$D$28,2,0)),\"\",VLOOKUP(DATE(YEAR($A$3),W88,AB93),祝日!$C$6:$D$28,2,0))","v":""},null,{"$f":"IF(ISERROR(VLOOKUP(DATE(YEAR($A$3),W88,AD93),祝日!$C$6:$D$28,2,0)),\"\",VLOOKUP(DATE(YEAR($A$3),W88,AD93),祝日!$C$6:$D$28,2,0))","v":""}]
[null,null,{"$f":"O93+1","v":14},null,{"$f":"C95+1","v":15},null,{"$f":"E95+1","v":16},null,{"$f":"G95+1","v":17},null,{"$f":"I95+1","v":18},null,{"$f":"K95+1","v":19},null,{"$f":"M95+1","v":20},null,null,{"$f":"AD93+1","v":13},null,{"$f":"R95+1","v":14},null,{"$f":"T95+1","v":15},null,{"$f":"V95+1","v":16},null,{"$f":"X95+1","v":17},null,{"$f":"Z95+1","v":18},null,{"$f":"AB95+1","v":19}]
[null,null,{"$f":"IF(ISERROR(VLOOKUP(DATE(YEAR($A$3),H88,C95),祝日!$C$6:$D$28,2,0)),\"\",VLOOKUP(DATE(YEAR($A$3),H88,C95),祝日!$C$6:$D$28,2,0))","v":""},null,{"$f":"IF(AND(H88=1,E91=0),祝日!$D$7,IF(ISERROR(VLOOKUP(DATE(YEAR($A$3),H88,E95),祝日!$C$6:$D$28,2,0)),\"\",VLOOKUP(DATE(YEAR($A$3),H88,E95),祝日!$C$6:$D$28,2,0)))","v":""},null,{"$f":"IF(ISERROR(VLOOKUP(DATE(YEAR($A$3),H88,G95),祝日!$C$6:$D$28,2,0)),\"\",VLOOKUP(DATE(YEAR($A$3),H88,G95),祝日!$C$6:$D$28,2,0))","v":""},null,{"$f":"IF(ISERROR(VLOOKUP(DATE(YEAR($A$3),H88,I95),祝日!$C$6:$D$28,2,0)),\"\",VLOOKUP(DATE(YEAR($A$3),H88,I95),祝日!$C$6:$D$28,2,0))","v":""},null,{"$f":"IF(ISERROR(VLOOKUP(DATE(YEAR($A$3),H88,K95),祝日!$C$6:$D$28,2,0)),\"\",VLOOKUP(DATE(YEAR($A$3),H88,K95),祝日!$C$6:$D$28,2,0))","v":""},null,{"$f":"IF(ISERROR(VLOOKUP(DATE(YEAR($A$3),H88,M95),祝日!$C$6:$D$28,2,0)),\"\",VLOOKUP(DATE(YEAR($A$3),H88,M95),祝日!$C$6:$D$28,2,0))","v":""},null,{"$f":"IF(ISERROR(VLOOKUP(DATE(YEAR($A$3),H88,O95),祝日!$C$6:$D$28,2,0)),\"\",VLOOKUP(DATE(YEAR($A$3),H88,O95),祝日!$C$6:$D$28,2,0))","v":""},null,null,{"$f":"IF(ISERROR(VLOOKUP(DATE(YEAR($A$3),W88,R95),祝日!$C$6:$D$28,2,0)),\"\",VLOOKUP(DATE(YEAR($A$3),W88,R95),祝日!$C$6:$D$28,2,0))","v":""},null,{"$f":"IF(AND(W88=1,T91=0),祝日!$D$7,IF(ISERROR(VLOOKUP(DATE(YEAR($A$3),W88,T95),祝日!$C$6:$D$28,2,0)),\"\",VLOOKUP(DATE(YEAR($A$3),W88,T95),祝日!$C$6:$D$28,2,0)))","v":""},null,{"$f":"IF(ISERROR(VLOOKUP(DATE(YEAR($A$3),W88,V95),祝日!$C$6:$D$28,2,0)),\"\",VLOOKUP(DATE(YEAR($A$3),W88,V95),祝日!$C$6:$D$28,2,0))","v":""},null,{"$f":"IF(ISERROR(VLOOKUP(DATE(YEAR($A$3),W88,X95),祝日!$C$6:$D$28,2,0)),\"\",VLOOKUP(DATE(YEAR($A$3),W88,X95),祝日!$C$6:$D$28,2,0))","v":""},null,{"$f":"IF(ISERROR(VLOOKUP(DATE(YEAR($A$3),W88,Z95),祝日!$C$6:$D$28,2,0)),\"\",VLOOKUP(DATE(YEAR($A$3),W88,Z95),祝日!$C$6:$D$28,2,0))","v":""},null,{"$f":"IF(ISERROR(VLOOKUP(DATE(YEAR($A$3),W88,AB95),祝日!$C$6:$D$28,2,0)),\"\",VLOOKUP(DATE(YEAR($A$3),W88,AB95),祝日!$C$6:$D$28,2,0))","v":""},null,{"$f":"IF(ISERROR(VLOOKUP(DATE(YEAR($A$3),W88,AD95),祝日!$C$6:$D$28,2,0)),\"\",VLOOKUP(DATE(YEAR($A$3),W88,AD95),祝日!$C$6:$D$28,2,0))","v":""}]
[null,null,{"$f":"O95+1","v":21},null,{"$f":"C97+1","v":22},null,{"$f":"E97+1","v":23},null,{"$f":"G97+1","v":24},null,{"$f":"I97+1","v":25},null,{"$f":"K97+1","v":26},null,{"$f":"M97+1","v":27},null,null,{"$f":"AD95+1","v":20},null,{"$f":"R97+1","v":21},null,{"$f":"T97+1","v":22},null,{"$f":"V97+1","v":23},null,{"$f":"X97+1","v":24},null,{"$f":"Z97+1","v":25},null,{"$f":"AB97+1","v":26}]
[null,null,{"$f":"IF(ISERROR(VLOOKUP(DATE(YEAR($A$3),H88,C97),祝日!$C$6:$D$28,2,0)),\"\",VLOOKUP(DATE(YEAR($A$3),H88,C97),祝日!$C$6:$D$28,2,0))","v":""},null,{"$f":"IF(ISERROR(VLOOKUP(DATE(YEAR($A$3),H88,E97),祝日!$C$6:$D$28,2,0)),\"\",VLOOKUP(DATE(YEAR($A$3),H88,E97),祝日!$C$6:$D$28,2,0))","v":""},null,{"$f":"IF(ISERROR(VLOOKUP(DATE(YEAR($A$3),H88,G97),祝日!$C$6:$D$28,2,0)),\"\",VLOOKUP(DATE(YEAR($A$3),H88,G97),祝日!$C$6:$D$28,2,0))","v":""},null,{"$f":"IF(ISERROR(VLOOKUP(DATE(YEAR($A$3),H88,I97),祝日!$C$6:$D$28,2,0)),\"\",VLOOKUP(DATE(YEAR($A$3),H88,I97),祝日!$C$6:$D$28,2,0))","v":""},null,{"$f":"IF(ISERROR(VLOOKUP(DATE(YEAR($A$3),H88,K97),祝日!$C$6:$D$28,2,0)),\"\",VLOOKUP(DATE(YEAR($A$3),H88,K97),祝日!$C$6:$D$28,2,0))","v":""},null,{"$f":"IF(ISERROR(VLOOKUP(DATE(YEAR($A$3),H88,M97),祝日!$C$6:$D$28,2,0)),\"\",VLOOKUP(DATE(YEAR($A$3),H88,M97),祝日!$C$6:$D$28,2,0))","v":""},null,{"$f":"IF(ISERROR(VLOOKUP(DATE(YEAR($A$3),H88,O97),祝日!$C$6:$D$28,2,0)),\"\",VLOOKUP(DATE(YEAR($A$3),H88,O97),祝日!$C$6:$D$28,2,0))","v":""},null,null,{"$f":"IF(ISERROR(VLOOKUP(DATE(YEAR($A$3),W88,R97),祝日!$C$6:$D$28,2,0)),\"\",VLOOKUP(DATE(YEAR($A$3),W88,R97),祝日!$C$6:$D$28,2,0))","v":""},null,{"$f":"IF(ISERROR(VLOOKUP(DATE(YEAR($A$3),W88,T97),祝日!$C$6:$D$28,2,0)),\"\",VLOOKUP(DATE(YEAR($A$3),W88,T97),祝日!$C$6:$D$28,2,0))","v":""},null,{"$f":"IF(ISERROR(VLOOKUP(DATE(YEAR($A$3),W88,V97),祝日!$C$6:$D$28,2,0)),\"\",VLOOKUP(DATE(YEAR($A$3),W88,V97),祝日!$C$6:$D$28,2,0))","v":""},null,{"$f":"IF(ISERROR(VLOOKUP(DATE(YEAR($A$3),W88,X97),祝日!$C$6:$D$28,2,0)),\"\",VLOOKUP(DATE(YEAR($A$3),W88,X97),祝日!$C$6:$D$28,2,0))","v":""},null,{"$f":"IF(ISERROR(VLOOKUP(DATE(YEAR($A$3),W88,Z97),祝日!$C$6:$D$28,2,0)),\"\",VLOOKUP(DATE(YEAR($A$3),W88,Z97),祝日!$C$6:$D$28,2,0))","v":""},null,{"$f":"IF(ISERROR(VLOOKUP(DATE(YEAR($A$3),W88,AB97),祝日!$C$6:$D$28,2,0)),\"\",VLOOKUP(DATE(YEAR($A$3),W88,AB97),祝日!$C$6:$D$28,2,0))","v":""},null,{"$f":"IF(ISERROR(VLOOKUP(DATE(YEAR($A$3),W88,AD97),祝日!$C$6:$D$28,2,0)),\"\",VLOOKUP(DATE(YEAR($A$3),W88,AD97),祝日!$C$6:$D$28,2,0))","v":""}]
[null,null,{"$f":"IF(AND(O97<DAY(DATE(YEAR($A$3),H88+1,0)),O97>0),O97+1,0)","v":28},null,{"$f":"IF(AND(C99<DAY(DATE(YEAR($A$3),H88+1,0)),C99>0),C99+1,0)","v":29},null,{"$f":"IF(AND(E99<DAY(DATE(YEAR($A$3),H88+1,0)),E99>0),E99+1,0)","v":30},null,{"$f":"IF(AND(G99<DAY(DATE(YEAR($A$3),H88+1,0)),G99>0),G99+1,0)","v":0},null,{"$f":"IF(AND(I99<DAY(DATE(YEAR($A$3),H88+1,0)),I99>0),I99+1,0)","v":0},null,{"$f":"IF(AND(K99<DAY(DATE(YEAR($A$3),H88+1,0)),K99>0),K99+1,0)","v":0},null,{"$f":"IF(AND(M99<DAY(DATE(YEAR($A$3),H88+1,0)),M99>0),M99+1,0)","v":0},null,null,{"$f":"IF(AND(AD97<DAY(DATE(YEAR($A$3),W88+1,0)),AD97>0),AD97+1,0)","v":27},null,{"$f":"IF(AND(R99<DAY(DATE(YEAR($A$3),W88+1,0)),R99>0),R99+1,0)","v":28},null,{"$f":"IF(AND(T99<DAY(DATE(YEAR($A$3),W88+1,0)),T99>0),T99+1,0)","v":29},null,{"$f":"IF(AND(V99<DAY(DATE(YEAR($A$3),W88+1,0)),V99>0),V99+1,0)","v":30},null,{"$f":"IF(AND(X99<DAY(DATE(YEAR($A$3),W88+1,0)),X99>0),X99+1,0)","v":31},null,{"$f":"IF(AND(Z99<DAY(DATE(YEAR($A$3),W88+1,0)),Z99>0),Z99+1,0)","v":0},null,{"$f":"IF(AND(AB99<DAY(DATE(YEAR($A$3),W88+1,0)),AB99>0),AB99+1,0)","v":0}]
[null,null,{"$f":"IF(ISERROR(VLOOKUP(DATE(YEAR($A$3),H88,C99),祝日!$C$6:$D$28,2,0)),\"\",VLOOKUP(DATE(YEAR($A$3),H88,C99),祝日!$C$6:$D$28,2,0))","v":""},null,{"$f":"IF(ISERROR(VLOOKUP(DATE(YEAR($A$3),H88,E99),祝日!$C$6:$D$28,2,0)),\"\",VLOOKUP(DATE(YEAR($A$3),H88,E99),祝日!$C$6:$D$28,2,0))","v":""},null,{"$f":"IF(ISERROR(VLOOKUP(DATE(YEAR($A$3),H88,G99),祝日!$C$6:$D$28,2,0)),\"\",VLOOKUP(DATE(YEAR($A$3),H88,G99),祝日!$C$6:$D$28,2,0))","v":""},null,{"$f":"IF(ISERROR(VLOOKUP(DATE(YEAR($A$3),H88,I99),祝日!$C$6:$D$28,2,0)),\"\",VLOOKUP(DATE(YEAR($A$3),H88,I99),祝日!$C$6:$D$28,2,0))","v":""},null,{"$f":"IF(ISERROR(VLOOKUP(DATE(YEAR($A$3),H88,K99),祝日!$C$6:$D$28,2,0)),\"\",VLOOKUP(DATE(YEAR($A$3),H88,K99),祝日!$C$6:$D$28,2,0))","v":""},null,{"$f":"IF(ISERROR(VLOOKUP(DATE(YEAR($A$3),H88,M99),祝日!$C$6:$D$28,2,0)),\"\",VLOOKUP(DATE(YEAR($A$3),H88,M99),祝日!$C$6:$D$28,2,0))","v":""},null,{"$f":"IF(ISERROR(VLOOKUP(DATE(YEAR($A$3),H88,O99),祝日!$C$6:$D$28,2,0)),\"\",VLOOKUP(DATE(YEAR($A$3),H88,O99),祝日!$C$6:$D$28,2,0))","v":""},null,null,{"$f":"IF(ISERROR(VLOOKUP(DATE(YEAR($A$3),W88,R99),祝日!$C$6:$D$28,2,0)),\"\",VLOOKUP(DATE(YEAR($A$3),W88,R99),祝日!$C$6:$D$28,2,0))","v":""},null,{"$f":"IF(ISERROR(VLOOKUP(DATE(YEAR($A$3),W88,T99),祝日!$C$6:$D$28,2,0)),\"\",VLOOKUP(DATE(YEAR($A$3),W88,T99),祝日!$C$6:$D$28,2,0))","v":""},null,{"$f":"IF(ISERROR(VLOOKUP(DATE(YEAR($A$3),W88,V99),祝日!$C$6:$D$28,2,0)),\"\",VLOOKUP(DATE(YEAR($A$3),W88,V99),祝日!$C$6:$D$28,2,0))","v":""},null,{"$f":"IF(ISERROR(VLOOKUP(DATE(YEAR($A$3),W88,X99),祝日!$C$6:$D$28,2,0)),\"\",VLOOKUP(DATE(YEAR($A$3),W88,X99),祝日!$C$6:$D$28,2,0))","v":""},null,{"$f":"IF(ISERROR(VLOOKUP(DATE(YEAR($A$3),W88,Z99),祝日!$C$6:$D$28,2,0)),\"\",VLOOKUP(DATE(YEAR($A$3),W88,Z99),祝日!$C$6:$D$28,2,0))","v":""},null,{"$f":"IF(ISERROR(VLOOKUP(DATE(YEAR($A$3),W88,AB99),祝日!$C$6:$D$28,2,0)),\"\",VLOOKUP(DATE(YEAR($A$3),W88,AB99),祝日!$C$6:$D$28,2,0))","v":""},null,{"$f":"IF(ISERROR(VLOOKUP(DATE(YEAR($A$3),W88,AD99),祝日!$C$6:$D$28,2,0)),\"\",VLOOKUP(DATE(YEAR($A$3),W88,AD99),祝日!$C$6:$D$28,2,0))","v":""}]
[null,null,{"$f":"IF(AND(O99<DAY(DATE(YEAR($A$3),H88+1,0)),O99>0),O99+1,0)","v":0},null,{"$f":"IF(AND(C101<DAY(DATE(YEAR($A$3),H88+1,0)),C101>0),C101+1,0)","v":0},null,{"$f":"IF(AND(E101<DAY(DATE(YEAR($A$3),H88+1,0)),E101>0),E101+1,0)","v":0},null,{"$f":"IF(AND(G101<DAY(DATE(YEAR($A$3),H88+1,0)),G101>0),G101+1,0)","v":0},null,{"$f":"IF(AND(I101<DAY(DATE(YEAR($A$3),H88+1,0)),I101>0),I101+1,0)","v":0},null,{"$f":"IF(AND(K101<DAY(DATE(YEAR($A$3),H88+1,0)),K101>0),K101+1,0)","v":0},null,{"$f":"IF(AND(M101<DAY(DATE(YEAR($A$3),H88+1,0)),M101>0),M101+1,0)","v":0},null,null,{"$f":"IF(AND(AD99<DAY(DATE(YEAR($A$3),W88+1,0)),AD99>0),AD99+1,0)","v":0},null,{"$f":"IF(AND(R101<DAY(DATE(YEAR($A$3),W88+1,0)),R101>0),R101+1,0)","v":0},null,{"$f":"IF(AND(T101<DAY(DATE(YEAR($A$3),W88+1,0)),T101>0),T101+1,0)","v":0},null,{"$f":"IF(AND(V101<DAY(DATE(YEAR($A$3),W88+1,0)),V101>0),V101+1,0)","v":0},null,{"$f":"IF(AND(X101<DAY(DATE(YEAR($A$3),W88+1,0)),X101>0),X101+1,0)","v":0},null,{"$f":"IF(AND(Z101<DAY(DATE(YEAR($A$3),W88+1,0)),Z101>0),Z101+1,0)","v":0},null,{"$f":"IF(AND(AB101<DAY(DATE(YEAR($A$3),W88+1,0)),AB101>0),AB101+1,0)","v":0}]
[null,null,{"$f":"IF(ISERROR(VLOOKUP(DATE(YEAR($A$3),H88,C101),祝日!$C$6:$D$28,2,0)),\"\",VLOOKUP(DATE(YEAR($A$3),H88,C101),祝日!$C$6:$D$28,2,0))","v":""},null,{"$f":"IF(ISERROR(VLOOKUP(DATE(YEAR($A$3),H88,E101),祝日!$C$6:$D$28,2,0)),\"\",VLOOKUP(DATE(YEAR($A$3),H88,E101),祝日!$C$6:$D$28,2,0))","v":""},null,{"$f":"IF(ISERROR(VLOOKUP(DATE(YEAR($A$3),H88,G101),祝日!$C$6:$D$28,2,0)),\"\",VLOOKUP(DATE(YEAR($A$3),H88,G101),祝日!$C$6:$D$28,2,0))","v":""},null,{"$f":"IF(ISERROR(VLOOKUP(DATE(YEAR($A$3),H88,I101),祝日!$C$6:$D$28,2,0)),\"\",VLOOKUP(DATE(YEAR($A$3),H88,I101),祝日!$C$6:$D$28,2,0))","v":""},null,{"$f":"IF(ISERROR(VLOOKUP(DATE(YEAR($A$3),H88,K101),祝日!$C$6:$D$28,2,0)),\"\",VLOOKUP(DATE(YEAR($A$3),H88,K101),祝日!$C$6:$D$28,2,0))","v":""},null,{"$f":"IF(ISERROR(VLOOKUP(DATE(YEAR($A$3),H88,M101),祝日!$C$6:$D$28,2,0)),\"\",VLOOKUP(DATE(YEAR($A$3),H88,M101),祝日!$C$6:$D$28,2,0))","v":""},null,{"$f":"IF(ISERROR(VLOOKUP(DATE(YEAR($A$3),H88,O101),祝日!$C$6:$D$28,2,0)),\"\",VLOOKUP(DATE(YEAR($A$3),H88,O101),祝日!$C$6:$D$28,2,0))","v":""},null,null,{"$f":"IF(ISERROR(VLOOKUP(DATE(YEAR($A$3),W88,R101),祝日!$C$6:$D$28,2,0)),\"\",VLOOKUP(DATE(YEAR($A$3),W88,R101),祝日!$C$6:$D$28,2,0))","v":""},null,{"$f":"IF(ISERROR(VLOOKUP(DATE(YEAR($A$3),W88,T101),祝日!$C$6:$D$28,2,0)),\"\",VLOOKUP(DATE(YEAR($A$3),W88,T101),祝日!$C$6:$D$28,2,0))","v":""},null,{"$f":"IF(ISERROR(VLOOKUP(DATE(YEAR($A$3),W88,V101),祝日!$C$6:$D$28,2,0)),\"\",VLOOKUP(DATE(YEAR($A$3),W88,V101),祝日!$C$6:$D$28,2,0))","v":""},null,{"$f":"IF(ISERROR(VLOOKUP(DATE(YEAR($A$3),W88,X101),祝日!$C$6:$D$28,2,0)),\"\",VLOOKUP(DATE(YEAR($A$3),W88,X101),祝日!$C$6:$D$28,2,0))","v":""},null,{"$f":"IF(ISERROR(VLOOKUP(DATE(YEAR($A$3),W88,Z101),祝日!$C$6:$D$28,2,0)),\"\",VLOOKUP(DATE(YEAR($A$3),W88,Z101),祝日!$C$6:$D$28,2,0))","v":""},null,{"$f":"IF(ISERROR(VLOOKUP(DATE(YEAR($A$3),W88,AB101),祝日!$C$6:$D$28,2,0)),\"\",VLOOKUP(DATE(YEAR($A$3),W88,AB101),祝日!$C$6:$D$28,2,0))","v":""},null,{"$f":"IF(ISERROR(VLOOKUP(DATE(YEAR($A$3),W88,AD101),祝日!$C$6:$D$28,2,0)),\"\",VLOOKUP(DATE(YEAR($A$3),W88,AD101),祝日!$C$6:$D$28,2,0))","v":""}]
[null,null,{"$f":"祝日!$A$33","v":"メルパソコン教室"},null,null,null,null,null,null,null,null,{"$f":"祝日!$D$33","v":"049-295-8641"},null,null,null,null,null,{"$f":"祝日!$A$33","v":"メルパソコン教室"},null,null,null,null,null,null,null,null,{"$f":"祝日!$D$33","v":"049-295-8641"}]